BEGIN:VCALENDAR
VERSION:2.0
PRODID:-//High Country News - ECPv6.15.18//NONSGML v1.0//EN
CALSCALE:GREGORIAN
METHOD:PUBLISH
X-WR-CALNAME:High Country News
X-ORIGINAL-URL:https://highcountrynews.ca
X-WR-CALDESC:Events for High Country News
REFRESH-INTERVAL;VALUE=DURATION:PT1H
X-Robots-Tag:noindex
X-PUBLISHED-TTL:PT1H
BEGIN:VTIMEZONE
TZID:America/Edmonton
BEGIN:DAYLIGHT
TZOFFSETFROM:-0700
TZOFFSETTO:-0600
TZNAME:MDT
DTSTART:20250309T090000
END:DAYLIGHT
BEGIN:STANDARD
TZOFFSETFROM:-0600
TZOFFSETTO:-0700
TZNAME:MST
DTSTART:20251102T080000
END:STANDARD
BEGIN:DAYLIGHT
TZOFFSETFROM:-0700
TZOFFSETTO:-0600
TZNAME:MDT
DTSTART:20260308T090000
END:DAYLIGHT
BEGIN:STANDARD
TZOFFSETFROM:-0600
TZOFFSETTO:-0700
TZNAME:MST
DTSTART:20261101T080000
END:STANDARD
BEGIN:DAYLIGHT
TZOFFSETFROM:-0700
TZOFFSETTO:-0600
TZNAME:MDT
DTSTART:20270314T090000
END:DAYLIGHT
BEGIN:STANDARD
TZOFFSETFROM:-0600
TZOFFSETTO:-0700
TZNAME:MST
DTSTART:20271107T080000
END:STANDARD
END:VTIMEZONE
BEGIN:VEVENT
DTSTART;TZID=America/Edmonton:20260308T110000
DTEND;TZID=America/Edmonton:20260308T170000
DTSTAMP:20260424T171144
CREATED:20260203T014005Z
LAST-MODIFIED:20260203T014005Z
UID:10003581-1772967600-1772989200@highcountrynews.ca
SUMMARY:Heart of the Foothills International Women's Day Showcase
DESCRIPTION:We’re celebrating women in business this International Women’s Day and we want you to join us! \nThis event showcases women in business and women-focused businesses with an artisan market\, women in business showcase and activities for the whole family. \nMake sure to mark your calendars – you do not want to miss this opportunity to connect with the heart of our local business ecosystem 🤍 \nAdmission is available for purchase at the door and online $5/ticket\, 12 & under free. All ticket sales are non-refundable. \nSaturday\, March 8 11am – 5pm at the Viking Rentals Center\, 204 Community Way\, Okotoks AB
URL:https://highcountrynews.ca/event/heart-of-the-foothills-international-womens-day-showcase/
LOCATION:Viking Rentals Center\, 204 Community Way\, Okotoks\, Alberta\, Canada
CATEGORIES:Okotoks
ATTACH;FMTTYPE=image/webp:https://highcountrynews.ca/wp-content/uploads/2026/02/LocallyGrown21of84.webp
END:VEVENT
END:VCALENDAR