BEGIN:VCALENDAR
VERSION:2.0
PRODID:-//High Country News - ECPv6.15.18//NONSGML v1.0//EN
CALSCALE:GREGORIAN
METHOD:PUBLISH
X-WR-CALNAME:High Country News
X-ORIGINAL-URL:https://highcountrynews.ca
X-WR-CALDESC:Events for High Country News
REFRESH-INTERVAL;VALUE=DURATION:PT1H
X-Robots-Tag:noindex
X-PUBLISHED-TTL:PT1H
BEGIN:VTIMEZONE
TZID:America/Edmonton
BEGIN:DAYLIGHT
TZOFFSETFROM:-0700
TZOFFSETTO:-0600
TZNAME:MDT
DTSTART:20240310T090000
END:DAYLIGHT
BEGIN:STANDARD
TZOFFSETFROM:-0600
TZOFFSETTO:-0700
TZNAME:MST
DTSTART:20241103T080000
END:STANDARD
BEGIN:DAYLIGHT
TZOFFSETFROM:-0700
TZOFFSETTO:-0600
TZNAME:MDT
DTSTART:20250309T090000
END:DAYLIGHT
BEGIN:STANDARD
TZOFFSETFROM:-0600
TZOFFSETTO:-0700
TZNAME:MST
DTSTART:20251102T080000
END:STANDARD
BEGIN:DAYLIGHT
TZOFFSETFROM:-0700
TZOFFSETTO:-0600
TZNAME:MDT
DTSTART:20260308T090000
END:DAYLIGHT
BEGIN:STANDARD
TZOFFSETFROM:-0600
TZOFFSETTO:-0700
TZNAME:MST
DTSTART:20261101T080000
END:STANDARD
END:VTIMEZONE
BEGIN:VEVENT
DTSTART;TZID=America/Edmonton:20251025T130000
DTEND;TZID=America/Edmonton:20251025T160000
DTSTAMP:20260425T065243
CREATED:20250908T053716Z
LAST-MODIFIED:20260215T215204Z
UID:10003025-1761397200-1761408000@highcountrynews.ca
SUMMARY:Questions of Life Series
DESCRIPTION:
URL:https://highcountrynews.ca/event/questions-of-life-series/2025-10-25/
LOCATION:St. George’s Anglican Church Hall\, 200 Main Street SW\, Turner Valley\, Alberta\, T0L 2A0\, Canada
CATEGORIES:Diamond Valley
ATTACH;FMTTYPE=image/jpeg:https://highcountrynews.ca/wp-content/uploads/2025/09/Alpha-Poster-2025.jpeg
END:VEVENT
END:VCALENDAR