BEGIN:VCALENDAR
VERSION:2.0
PRODID:-//High Country News - ECPv6.15.18//NONSGML v1.0//EN
CALSCALE:GREGORIAN
METHOD:PUBLISH
X-ORIGINAL-URL:https://highcountrynews.ca
X-WR-CALDESC:Events for High Country News
REFRESH-INTERVAL;VALUE=DURATION:PT1H
X-Robots-Tag:noindex
X-PUBLISHED-TTL:PT1H
BEGIN:VTIMEZONE
TZID:America/Edmonton
BEGIN:DAYLIGHT
TZOFFSETFROM:-0700
TZOFFSETTO:-0600
TZNAME:MDT
DTSTART:20240310T090000
END:DAYLIGHT
BEGIN:STANDARD
TZOFFSETFROM:-0600
TZOFFSETTO:-0700
TZNAME:MST
DTSTART:20241103T080000
END:STANDARD
BEGIN:DAYLIGHT
TZOFFSETFROM:-0700
TZOFFSETTO:-0600
TZNAME:MDT
DTSTART:20250309T090000
END:DAYLIGHT
BEGIN:STANDARD
TZOFFSETFROM:-0600
TZOFFSETTO:-0700
TZNAME:MST
DTSTART:20251102T080000
END:STANDARD
BEGIN:DAYLIGHT
TZOFFSETFROM:-0700
TZOFFSETTO:-0600
TZNAME:MDT
DTSTART:20260308T090000
END:DAYLIGHT
BEGIN:STANDARD
TZOFFSETFROM:-0600
TZOFFSETTO:-0700
TZNAME:MST
DTSTART:20261101T080000
END:STANDARD
BEGIN:DAYLIGHT
TZOFFSETFROM:-0700
TZOFFSETTO:-0600
TZNAME:MDT
DTSTART:20270314T090000
END:DAYLIGHT
BEGIN:STANDARD
TZOFFSETFROM:-0600
TZOFFSETTO:-0700
TZNAME:MST
DTSTART:20271107T080000
END:STANDARD
END:VTIMEZONE
BEGIN:VEVENT
DTSTART;TZID=America/Edmonton:20260307T193000
DTEND;TZID=America/Edmonton:20260307T193000
DTSTAMP:20260425T051152
CREATED:20260219T032625Z
LAST-MODIFIED:20260219T032625Z
UID:10003588-1772911800-1772911800@highcountrynews.ca
SUMMARY:Turkey & Pistols Travelling Medicine Show
DESCRIPTION:The Turkey & Pistols Travelling Medicine Show is bringing something special to town — and this one’s going to hit you right in the heart ❤️ \nOn March 7\, the Bragg Creek Community Centre lights up with the prairie soul sounds of Jaiden Riley & The Crybabies 🎶 \nJaiden — an Albertan Métis singer-songwriter — weaves old-soul storytelling with folk roots\, classic country\, and a little bluegrass grit. Timeless. Honest. The kind of music that makes you close your eyes and feel something. Backed by The Crybabies\, it’s a full-band experience that’ll warm up even a March night in Bragg Creek. \n✨ Music is medicine.\nCome open your heart. Heal your soul. \nFeaturing special guests: \n\nUncle Sawmill – Métis storyteller & songwriter\nColin Cheverie – smooth guitar skills & songs 🎸\nJon Ramble – local vocals & original tunes\n\n🎟 Ticket Info: \n\nReserved tables of 8 available until March 3 — $175 per table (that’s one ticket free 👏)\n$25/ticket – Tickets purchased on March 7 will be $30\n\nTickets: https://www.showpass.com/turkey-pistols-travelling-medicine-show/ \nCall your friends. Bring your cousins. Make a night of it.
URL:https://highcountrynews.ca/event/turkey-pistols-travelling-medicine-show/
LOCATION:Bragg Creek Community Centre\, 23 White Avenue\, Bragg Creek\, Alberta\, T0L 0K0\, Canada
CATEGORIES:Arts & Entertainment
ATTACH;FMTTYPE=image/webp:https://highcountrynews.ca/wp-content/uploads/2026/02/Jaiden-March-7-01.webp
GEO:50.949917;-114.5636967
X-APPLE-STRUCTURED-LOCATION;VALUE=URI;X-ADDRESS=Bragg Creek Community Centre 23 White Avenue Bragg Creek Alberta T0L 0K0 Canada;X-APPLE-RADIUS=500;X-TITLE=23 White Avenue:geo:-114.5636967,50.949917
END:VEVENT
BEGIN:VEVENT
DTSTART;TZID=America/Edmonton:20260131T120000
DTEND;TZID=America/Edmonton:20260131T193000
DTSTAMP:20260425T051152
CREATED:20260109T002736Z
LAST-MODIFIED:20260109T002736Z
UID:10003345-1769860800-1769887800@highcountrynews.ca
SUMMARY:❄ Winter in the Woods 2026 ❄
DESCRIPTION:📅 Saturday\, January 31 | 🕛 12:00 – 7:30 PM\n📍 Bragg Creek Community Centre | 23 White Ave \nBundle up and join the community for a full day of winter fun!\n⛸ Public skating • 🏒 Junior & Senior hockey\n🍫 Hot chocolate & concession\n🧹 Human curling • 🎯 Chuck-a-Puck fundraiser & more \nSilent Auction and After Party at The Powderhorn Saloon.\nCome skate\, sip\, play\, and celebrate winter in the woods in Bragg Creek.
URL:https://highcountrynews.ca/event/winter-in-the-woods-2026/
LOCATION:Bragg Creek Community Centre\, 23 White Avenue\, Bragg Creek\, Alberta\, T0L 0K0\, Canada
CATEGORIES:Bragg Creek
ATTACH;FMTTYPE=image/webp:https://highcountrynews.ca/wp-content/uploads/2026/01/WINTER-FUN-FOR-ALL-AGES-FREE-FAMILY-EVENT-Concession-–-Human-Curling-–-Hockey-Games-Skating-Chuck-a-Puck-Fundraiser-More.webp
ORGANIZER;CN="Bragg Creek Community Association":MAILTO:info@braggcreekca.com
GEO:50.949917;-114.5636967
X-APPLE-STRUCTURED-LOCATION;VALUE=URI;X-ADDRESS=Bragg Creek Community Centre 23 White Avenue Bragg Creek Alberta T0L 0K0 Canada;X-APPLE-RADIUS=500;X-TITLE=23 White Avenue:geo:-114.5636967,50.949917
END:VEVENT
BEGIN:VEVENT
DTSTART;TZID=America/Edmonton:20260127T183000
DTEND;TZID=America/Edmonton:20260127T183000
DTSTAMP:20260425T051152
CREATED:20260121T230423Z
LAST-MODIFIED:20260121T231455Z
UID:10003578-1769538600-1769538600@highcountrynews.ca
SUMMARY:BCCA Board Meeting
DESCRIPTION:The BCCA Board Meeting is public and welcome – community members are encouraged to attend to listen\, learn and contribute!
URL:https://highcountrynews.ca/event/bcca-board-meeting/
LOCATION:Bragg Creek Community Centre\, 23 White Avenue\, Bragg Creek\, Alberta\, T0L 0K0\, Canada
CATEGORIES:Bragg Creek,Community
ATTACH;FMTTYPE=image/webp:https://highcountrynews.ca/wp-content/uploads/2026/01/jan26-BCCA-board-meeting.webp
ORGANIZER;CN="Bragg Creek Community Association":MAILTO:info@braggcreekca.com
GEO:50.949917;-114.5636967
X-APPLE-STRUCTURED-LOCATION;VALUE=URI;X-ADDRESS=Bragg Creek Community Centre 23 White Avenue Bragg Creek Alberta T0L 0K0 Canada;X-APPLE-RADIUS=500;X-TITLE=23 White Avenue:geo:-114.5636967,50.949917
END:VEVENT
BEGIN:VEVENT
DTSTART;VALUE=DATE:20251205
DTEND;VALUE=DATE:20251208
DTSTAMP:20260425T051152
CREATED:20251103T054842Z
LAST-MODIFIED:20251103T054842Z
UID:10003320-1764892800-1765151999@highcountrynews.ca
SUMMARY:Spirit of Christmas Dec 2025
DESCRIPTION:The Magic Returns to Bragg Creek! 🎄 \nThe Bragg Creek Community Association and the Bragg Creek Chamber are teaming up to share one of our favourite local traditions – the Spirit of Christmas Festival! \n✨ Festival Fun:\nDec 6–7 | 10am–4pm\nHorse-drawn wagon rides\, kids-only shopping\, photos with Santa\, gingerbread house building -and all the cozy holiday feels! \n🛍️ Indoor Market Magic:\nDec 5 (4–8pm) | Dec 6 (10–5) | Dec 7 (10–4)\nShop 45+ small and local vendors for handmade gifts\, tasty treats\, and Bragg Creek charm. \n🎅 Mark your calendars\, grab your mittens\, and get ready to feel the magic\, because the Spirit of Christmas lives right here in Bragg Creek!
URL:https://highcountrynews.ca/event/spirit-of-christmas-dec-2025/
LOCATION:Bragg Creek Community Centre\, 23 White Avenue\, Bragg Creek\, Alberta\, T0L 0K0\, Canada
CATEGORIES:Bragg Creek
ATTACH;FMTTYPE=application/pdf:https://highcountrynews.ca/wp-content/uploads/2025/11/BC_SoCAdv3.pdf
ORGANIZER;CN="Bragg Creek and Area Chamber of Commerce":MAILTO:office@braggcreekchamber.com
GEO:50.949917;-114.5636967
X-APPLE-STRUCTURED-LOCATION;VALUE=URI;X-ADDRESS=Bragg Creek Community Centre 23 White Avenue Bragg Creek Alberta T0L 0K0 Canada;X-APPLE-RADIUS=500;X-TITLE=23 White Avenue:geo:-114.5636967,50.949917
END:VEVENT
BEGIN:VEVENT
DTSTART;TZID=America/Edmonton:20251115T100000
DTEND;TZID=America/Edmonton:20251116T170000
DTSTAMP:20260425T051152
CREATED:20251024T061321Z
LAST-MODIFIED:20251024T061321Z
UID:10003316-1763200800-1763312400@highcountrynews.ca
SUMMARY:Bragg Creek Artisans Christmas Sale
DESCRIPTION:
URL:https://highcountrynews.ca/event/bragg-creek-artisans-christmas-sale/
LOCATION:Bragg Creek Community Centre\, 23 White Avenue\, Bragg Creek\, Alberta\, T0L 0K0\, Canada
CATEGORIES:Bragg Creek
ATTACH;FMTTYPE=image/jpeg:https://highcountrynews.ca/wp-content/uploads/2025/10/Ad-4.65-x-4.5-inches-1.jpeg
GEO:50.949917;-114.5636967
X-APPLE-STRUCTURED-LOCATION;VALUE=URI;X-ADDRESS=Bragg Creek Community Centre 23 White Avenue Bragg Creek Alberta T0L 0K0 Canada;X-APPLE-RADIUS=500;X-TITLE=23 White Avenue:geo:-114.5636967,50.949917
END:VEVENT
BEGIN:VEVENT
DTSTART;TZID=America/Edmonton:20251114T143000
DTEND;TZID=America/Edmonton:20251114T180000
DTSTAMP:20260425T051152
CREATED:20251104T015413Z
LAST-MODIFIED:20251104T015413Z
UID:10003330-1763130600-1763143200@highcountrynews.ca
SUMMARY:Youth Dungeons & Dragons Training Session
DESCRIPTION:Calling all adventurers! Youth ages 12 and up are invited to join us for an exciting introduction to Dungeons & Dragons on\n\n \n\nThursday\, November 14\, from 2:30 PM to 6:00 PM.\n\n \n\nThis beginner friendly session will include:\n\n \n\n 	Basic training on how to play D&D\n \n 	Character creation and development\n \n 	A short game session to put your new skills into action\n \n 	Pizza and drinks to keep you fueled for the fun!\n \n 	Cost: $10 per participant (to help cover the cost of pizza)\n\n \n\nSpots are limited. We need between 5 and 12 players to run the session\, so gather your party and register early on the website.\n\n \n\nWhether you’re brand new to D&D or just looking to sharpen your skills\, this is a great way to learn the game\, meet fellow players\, and have a great time.\n\n \n\nTo register for D&D\, become a Spirit of Christmas Volunteer Elf\, or to get in touch for other jolly fun\, check out the website: www.braggcreekca.com
URL:https://highcountrynews.ca/event/youth-dungeons-dragons-training-session/
LOCATION:Bragg Creek Community Centre\, 23 White Avenue\, Bragg Creek\, Alberta\, T0L 0K0\, Canada
CATEGORIES:Bragg Creek
ORGANIZER;CN="Bragg Creek Community Association":MAILTO:info@braggcreekca.com
GEO:50.949917;-114.5636967
X-APPLE-STRUCTURED-LOCATION;VALUE=URI;X-ADDRESS=Bragg Creek Community Centre 23 White Avenue Bragg Creek Alberta T0L 0K0 Canada;X-APPLE-RADIUS=500;X-TITLE=23 White Avenue:geo:-114.5636967,50.949917
END:VEVENT
BEGIN:VEVENT
DTSTART;TZID=America/Edmonton:20251111T103000
DTEND;TZID=America/Edmonton:20251111T103000
DTSTAMP:20260425T051152
CREATED:20251005T183123Z
LAST-MODIFIED:20251104T015548Z
UID:10003296-1762857000-1762857000@highcountrynews.ca
SUMMARY:Remembrance Day Service
DESCRIPTION:Lest we Forget \nPlease join us on Tuesday\, November 11 at 10:30 AM at the Cenotaph on the community centre grounds for the annual Remembrance Day Service. This meaningful gathering is organized entirely by dedicated local volunteers and supported by the Bragg Creek Foundation.\n\n \n\nAfter the outdoor service\, everyone is welcome to warm up with coffee and light refreshments inside the Bragg Creek Community Centre.\n\n \n\nA heartfelt thank you goes out to the volunteers who plan and host this important event each year\, and to the Bragg Creek Foundation for their generous hospitality.
URL:https://highcountrynews.ca/event/remembrance-day-service/
LOCATION:Bragg Creek Community Centre\, 23 White Avenue\, Bragg Creek\, Alberta\, T0L 0K0\, Canada
CATEGORIES:Bragg Creek
ATTACH;FMTTYPE=image/webp:https://highcountrynews.ca/wp-content/uploads/2025/10/Remembrance-Day-2025.webp
GEO:50.949917;-114.5636967
X-APPLE-STRUCTURED-LOCATION;VALUE=URI;X-ADDRESS=Bragg Creek Community Centre 23 White Avenue Bragg Creek Alberta T0L 0K0 Canada;X-APPLE-RADIUS=500;X-TITLE=23 White Avenue:geo:-114.5636967,50.949917
END:VEVENT
END:VCALENDAR