BEGIN:VCALENDAR
VERSION:2.0
PRODID:-//High Country News - ECPv6.15.18//NONSGML v1.0//EN
CALSCALE:GREGORIAN
METHOD:PUBLISH
X-WR-CALNAME:High Country News
X-ORIGINAL-URL:https://highcountrynews.ca
X-WR-CALDESC:Events for High Country News
REFRESH-INTERVAL;VALUE=DURATION:PT1H
X-Robots-Tag:noindex
X-PUBLISHED-TTL:PT1H
BEGIN:VTIMEZONE
TZID:America/Edmonton
BEGIN:DAYLIGHT
TZOFFSETFROM:-0700
TZOFFSETTO:-0600
TZNAME:MDT
DTSTART:20240310T090000
END:DAYLIGHT
BEGIN:STANDARD
TZOFFSETFROM:-0600
TZOFFSETTO:-0700
TZNAME:MST
DTSTART:20241103T080000
END:STANDARD
BEGIN:DAYLIGHT
TZOFFSETFROM:-0700
TZOFFSETTO:-0600
TZNAME:MDT
DTSTART:20250309T090000
END:DAYLIGHT
BEGIN:STANDARD
TZOFFSETFROM:-0600
TZOFFSETTO:-0700
TZNAME:MST
DTSTART:20251102T080000
END:STANDARD
BEGIN:DAYLIGHT
TZOFFSETFROM:-0700
TZOFFSETTO:-0600
TZNAME:MDT
DTSTART:20260308T090000
END:DAYLIGHT
BEGIN:STANDARD
TZOFFSETFROM:-0600
TZOFFSETTO:-0700
TZNAME:MST
DTSTART:20261101T080000
END:STANDARD
END:VTIMEZONE
BEGIN:VEVENT
DTSTART;TZID=America/Edmonton:20251107T150000
DTEND;TZID=America/Edmonton:20251107T180000
DTSTAMP:20260425T051313
CREATED:20251024T064228Z
LAST-MODIFIED:20251024T064228Z
UID:10003318-1762527600-1762538400@highcountrynews.ca
SUMMARY:Festive Foothills Art Sale + Sneak Peek
DESCRIPTION:Join us at the Leighton Art Centre for our Festive Foothills Art Sale\, a holiday art sale featuring unique\, handcrafted gifts by over 70 Alberta artists! From November 8 to December 20\, explore original paintings\, pottery\, glass\, textiles\, jewellery\, and more\, all in a stunning foothills setting. Want early access? Don’t miss our Sneak Peek Event on November 7 (3–6 PM) with live music\, warm drinks\, a raffle filled with local goodies\, and the chance to shop before the crowds. Admission by donation; bring a food bank item to support the Okotoks Food Bank!
URL:https://highcountrynews.ca/event/festive-foothills-art-sale-sneak-peek/
LOCATION:Leighton Art Centre\, 282027 144 Street West\, Foothills\, Alberta\, T1S 0Y4\, Canada
CATEGORIES:Arts & Entertainment
ATTACH;FMTTYPE=image/webp:https://highcountrynews.ca/wp-content/uploads/2025/10/FF-Sneak-Peek-jpg.webp
GEO:50.7963184;-114.2101064
X-APPLE-STRUCTURED-LOCATION;VALUE=URI;X-ADDRESS=Leighton Art Centre 282027 144 Street West Foothills Alberta T1S 0Y4 Canada;X-APPLE-RADIUS=500;X-TITLE=282027 144 Street West:geo:-114.2101064,50.7963184
END:VEVENT
END:VCALENDAR