BEGIN:VCALENDAR
VERSION:2.0
PRODID:-//High Country News - ECPv6.15.18//NONSGML v1.0//EN
CALSCALE:GREGORIAN
METHOD:PUBLISH
X-ORIGINAL-URL:https://highcountrynews.ca
X-WR-CALDESC:Events for High Country News
REFRESH-INTERVAL;VALUE=DURATION:PT1H
X-Robots-Tag:noindex
X-PUBLISHED-TTL:PT1H
BEGIN:VTIMEZONE
TZID:America/Edmonton
BEGIN:DAYLIGHT
TZOFFSETFROM:-0700
TZOFFSETTO:-0600
TZNAME:MDT
DTSTART:20250309T090000
END:DAYLIGHT
BEGIN:STANDARD
TZOFFSETFROM:-0600
TZOFFSETTO:-0700
TZNAME:MST
DTSTART:20251102T080000
END:STANDARD
BEGIN:DAYLIGHT
TZOFFSETFROM:-0700
TZOFFSETTO:-0600
TZNAME:MDT
DTSTART:20260308T090000
END:DAYLIGHT
BEGIN:STANDARD
TZOFFSETFROM:-0600
TZOFFSETTO:-0700
TZNAME:MST
DTSTART:20261101T080000
END:STANDARD
BEGIN:DAYLIGHT
TZOFFSETFROM:-0700
TZOFFSETTO:-0600
TZNAME:MDT
DTSTART:20270314T090000
END:DAYLIGHT
BEGIN:STANDARD
TZOFFSETFROM:-0600
TZOFFSETTO:-0700
TZNAME:MST
DTSTART:20271107T080000
END:STANDARD
END:VTIMEZONE
BEGIN:VEVENT
DTSTART;TZID=America/Edmonton:20260329T140000
DTEND;TZID=America/Edmonton:20260329T140000
DTSTAMP:20260425T082551
CREATED:20260213T064646Z
LAST-MODIFIED:20260213T064719Z
UID:10003585-1774792800-1774792800@highcountrynews.ca
SUMMARY:BCHS Presents “Lessons From the Boom: What the First Turner Valley Tells Us About Alberta Today”
DESCRIPTION:With Dr. Paul Chastko Associate Professor of History at the University of Calgary & author of “The Boom: Oil\, Popular Culture and Politics in Alberta\, 1912-1924” \nSnowbirds Chalet\, 19 Balsam Ave. Bragg Creek \n2:00 pm Sunday\, March 29 th 2026\nAdmission by donation\nRefreshments served\nRSVP at braggcreekhs@gmail.com
URL:https://highcountrynews.ca/event/bchs-presents-lessons-from-the-boom-what-the-first-turner-valley-tells-us-about-alberta-today/
LOCATION:Snowbird’s Chalet\, 19 Balsam Avenue\, Bragg Creek\, Alberta\, T0L 0K0\, Canada
CATEGORIES:Bragg Creek
ATTACH;FMTTYPE=image/webp:https://highcountrynews.ca/wp-content/uploads/2026/02/turner-valley-boom-speaker-event-poster.webp
END:VEVENT
BEGIN:VEVENT
DTSTART;TZID=America/Edmonton:20260125T140000
DTEND;TZID=America/Edmonton:20260125T140000
DTSTAMP:20260425T082551
CREATED:20260116T065102Z
LAST-MODIFIED:20260116T065102Z
UID:10003575-1769349600-1769349600@highcountrynews.ca
SUMMARY:Ranching Adventures in the Ghost River Valley
DESCRIPTION:
URL:https://highcountrynews.ca/event/ranching-adventures-in-the-ghost-river-valley/
LOCATION:The Post House\, 36 White Avenue\, Bragg Creek\, Alberta\, T0L 0K0\, Canada
CATEGORIES:Bragg Creek
ATTACH;FMTTYPE=application/pdf:https://highcountrynews.ca/wp-content/uploads/2026/01/Jumping-Pound-talk-poster.pdf
END:VEVENT
END:VCALENDAR