BEGIN:VCALENDAR
VERSION:2.0
PRODID:-//High Country News - ECPv6.15.18//NONSGML v1.0//EN
CALSCALE:GREGORIAN
METHOD:PUBLISH
X-ORIGINAL-URL:https://highcountrynews.ca
X-WR-CALDESC:Events for High Country News
REFRESH-INTERVAL;VALUE=DURATION:PT1H
X-Robots-Tag:noindex
X-PUBLISHED-TTL:PT1H
BEGIN:VTIMEZONE
TZID:America/Edmonton
BEGIN:DAYLIGHT
TZOFFSETFROM:-0700
TZOFFSETTO:-0600
TZNAME:MDT
DTSTART:20250309T090000
END:DAYLIGHT
BEGIN:STANDARD
TZOFFSETFROM:-0600
TZOFFSETTO:-0700
TZNAME:MST
DTSTART:20251102T080000
END:STANDARD
BEGIN:DAYLIGHT
TZOFFSETFROM:-0700
TZOFFSETTO:-0600
TZNAME:MDT
DTSTART:20260308T090000
END:DAYLIGHT
BEGIN:STANDARD
TZOFFSETFROM:-0600
TZOFFSETTO:-0700
TZNAME:MST
DTSTART:20261101T080000
END:STANDARD
BEGIN:DAYLIGHT
TZOFFSETFROM:-0700
TZOFFSETTO:-0600
TZNAME:MDT
DTSTART:20270314T090000
END:DAYLIGHT
BEGIN:STANDARD
TZOFFSETFROM:-0600
TZOFFSETTO:-0700
TZNAME:MST
DTSTART:20271107T080000
END:STANDARD
END:VTIMEZONE
BEGIN:VEVENT
DTSTART;TZID=America/Edmonton:20260328T193000
DTEND;TZID=America/Edmonton:20260328T193000
DTSTAMP:20260425T063031
CREATED:20260304T211439Z
LAST-MODIFIED:20260304T211455Z
UID:10003591-1774726200-1774726200@highcountrynews.ca
SUMMARY:Beneath the Arch Concert Series presents Andrina Turenne
DESCRIPTION:Beneath the Arch Concert Series presents Andrina Turenne on March 28. Andrina is a Franco-Manitoban of Metis descent and mixes rock and roots music. Go to beneaththearch.ca for tickets.
URL:https://highcountrynews.ca/event/beneath-the-arch-concert-series-presents-andrina-turenne/
LOCATION:Flare ‘n Derrick Community Hall\, 129 Main Street NE\, Turner Valley\, Canada
CATEGORIES:Arts & Entertainment,Diamond Valley
ATTACH;FMTTYPE=image/webp:https://highcountrynews.ca/wp-content/uploads/2026/03/Andrina-Turenne-on-March-28.webp
END:VEVENT
BEGIN:VEVENT
DTSTART;TZID=America/Edmonton:20260228T193000
DTEND;TZID=America/Edmonton:20260228T193000
DTSTAMP:20260425T063031
CREATED:20260203T064831Z
LAST-MODIFIED:20260203T064831Z
UID:10003582-1772307000-1772307000@highcountrynews.ca
SUMMARY:Beneath the Arch presents Lynne Hansen
DESCRIPTION:Beneath the Arch presents Lynne Hansen with accompanist on Feb. 28. Lynne is a Canadian singer-songwriter with nine solo albums and has toured internationally. She does Americana\, country and roots and plays guitar as well as porchboard bass. For tickets and details\, visit the Arch’s website\, the show will be held at 7:30 at the Flare and Derrick.
URL:https://highcountrynews.ca/event/beneath-the-arch-presents-lynne-hansen/
LOCATION:Flare ‘n Derrick Community Hall\, 129 Main Street NE\, Turner Valley\, Canada
CATEGORIES:Arts & Entertainment,Diamond Valley
ATTACH;FMTTYPE=image/webp:https://highcountrynews.ca/wp-content/uploads/2026/02/Lynne-Hansen-Feb-28.webp
END:VEVENT
END:VCALENDAR