BEGIN:VCALENDAR
VERSION:2.0
PRODID:-//High Country News - ECPv6.15.18//NONSGML v1.0//EN
CALSCALE:GREGORIAN
METHOD:PUBLISH
X-WR-CALNAME:High Country News
X-ORIGINAL-URL:https://highcountrynews.ca
X-WR-CALDESC:Events for High Country News
REFRESH-INTERVAL;VALUE=DURATION:PT1H
X-Robots-Tag:noindex
X-PUBLISHED-TTL:PT1H
BEGIN:VTIMEZONE
TZID:America/Edmonton
BEGIN:DAYLIGHT
TZOFFSETFROM:-0700
TZOFFSETTO:-0600
TZNAME:MDT
DTSTART:20250309T090000
END:DAYLIGHT
BEGIN:STANDARD
TZOFFSETFROM:-0600
TZOFFSETTO:-0700
TZNAME:MST
DTSTART:20251102T080000
END:STANDARD
BEGIN:DAYLIGHT
TZOFFSETFROM:-0700
TZOFFSETTO:-0600
TZNAME:MDT
DTSTART:20260308T090000
END:DAYLIGHT
BEGIN:STANDARD
TZOFFSETFROM:-0600
TZOFFSETTO:-0700
TZNAME:MST
DTSTART:20261101T080000
END:STANDARD
BEGIN:DAYLIGHT
TZOFFSETFROM:-0700
TZOFFSETTO:-0600
TZNAME:MDT
DTSTART:20270314T090000
END:DAYLIGHT
BEGIN:STANDARD
TZOFFSETFROM:-0600
TZOFFSETTO:-0700
TZNAME:MST
DTSTART:20271107T080000
END:STANDARD
END:VTIMEZONE
BEGIN:VEVENT
DTSTART;VALUE=DATE:20260130
DTEND;VALUE=DATE:20260202
DTSTAMP:20260424T204349
CREATED:20260122T021647Z
LAST-MODIFIED:20260122T022258Z
UID:10003580-1769731200-1769990399@highcountrynews.ca
SUMMARY:4th Annual Foothills Freeze Ringette Tournament
DESCRIPTION:Our 4th Annual Foothills Freeze Ringette Tournament hosts 28 teams\, 360+ athletes\, managers\, coaches and families from Alberta and Saskatchewan at Okotoks Rec Center Piper Arena (Tournament HQ)\, Highriver Bob Snodgrass Arena and Okotoks Viking Gold Arena Jan 30-31 for the round robin games and Feb 1st for the medal games across 4 age groups and 7 playing levels. \nFoothills Ringette represents all of Foothills County and Okotoks\, High River\, Diamond Valley. All the tournament information (including divisions\, schedule\, and contacts) is available at https://www.foothillsringette.com/content/2026-foothills-freeze-information – we encourage folks within the community to come watch the the tournament games for free\, enjoy a couple local vendors onsite (Pressed YYC and Ranchers Creamery) participate in the silent auction\, plinko and raffles at the Tournament Hq – Piper Arena. There is also a matinee coaches game Saturday at 2:00PM at Piper Arena which was a full house last year! \nCome enjoy watching ringette with Foothills Ringette Association’s Freeze Tournament – featuring a U16 team for the first time. We are also looking for new players to join in our Activestart and U-10/12 Programs for which we will be hosting free Come Try Ringette sessions with equipment supplied 5 times between Mar-Sep 2026.
URL:https://highcountrynews.ca/event/4th-annual-foothills-freeze-ringette-tournament/
CATEGORIES:Okotoks
ATTACH;FMTTYPE=image/webp:https://highcountrynews.ca/wp-content/uploads/2026/01/2026-tournament-website-header.webp
END:VEVENT
END:VCALENDAR