BEGIN:VCALENDAR
VERSION:2.0
PRODID:-//High Country News - ECPv6.15.18//NONSGML v1.0//EN
CALSCALE:GREGORIAN
METHOD:PUBLISH
X-WR-CALNAME:High Country News
X-ORIGINAL-URL:https://highcountrynews.ca
X-WR-CALDESC:Events for High Country News
REFRESH-INTERVAL;VALUE=DURATION:PT1H
X-Robots-Tag:noindex
X-PUBLISHED-TTL:PT1H
BEGIN:VTIMEZONE
TZID:America/Edmonton
BEGIN:DAYLIGHT
TZOFFSETFROM:-0700
TZOFFSETTO:-0600
TZNAME:MDT
DTSTART:20240310T090000
END:DAYLIGHT
BEGIN:STANDARD
TZOFFSETFROM:-0600
TZOFFSETTO:-0700
TZNAME:MST
DTSTART:20241103T080000
END:STANDARD
BEGIN:DAYLIGHT
TZOFFSETFROM:-0700
TZOFFSETTO:-0600
TZNAME:MDT
DTSTART:20250309T090000
END:DAYLIGHT
BEGIN:STANDARD
TZOFFSETFROM:-0600
TZOFFSETTO:-0700
TZNAME:MST
DTSTART:20251102T080000
END:STANDARD
BEGIN:DAYLIGHT
TZOFFSETFROM:-0700
TZOFFSETTO:-0600
TZNAME:MDT
DTSTART:20260308T090000
END:DAYLIGHT
BEGIN:STANDARD
TZOFFSETFROM:-0600
TZOFFSETTO:-0700
TZNAME:MST
DTSTART:20261101T080000
END:STANDARD
END:VTIMEZONE
BEGIN:VEVENT
DTSTART;TZID=America/Edmonton:20251106T090000
DTEND;TZID=America/Edmonton:20251109T160000
DTSTAMP:20260425T050656
CREATED:20251103T085928Z
LAST-MODIFIED:20251103T092237Z
UID:10003321-1762419600-1762704000@highcountrynews.ca
SUMMARY:Millarville Christmas Market
DESCRIPTION:Start planning ahead for the 2025 Christmas Market at the Millarville Racetrack. \nNovember 6 – 9\n9:00 AM to 4:00 PM Daily \nNovember 13 – 16\n9:00 AM to 4:00 PM Daily \nTickets: $7.50 (children 12 and under free) \nFor more information: www.millarvilleracetrack.com/christmas-market
URL:https://highcountrynews.ca/event/millarville-christmas-market/2025-11-06/
LOCATION:Millarville Racetrack Hall\, Millarville\, Alberta\, Canada
CATEGORIES:Millarville
END:VEVENT
BEGIN:VEVENT
DTSTART;TZID=America/Edmonton:20251113T090000
DTEND;TZID=America/Edmonton:20251116T160000
DTSTAMP:20260425T050656
CREATED:20251103T085928Z
LAST-MODIFIED:20251103T092237Z
UID:10003322-1763024400-1763308800@highcountrynews.ca
SUMMARY:Millarville Christmas Market
DESCRIPTION:Start planning ahead for the 2025 Christmas Market at the Millarville Racetrack. \nNovember 6 – 9\n9:00 AM to 4:00 PM Daily \nNovember 13 – 16\n9:00 AM to 4:00 PM Daily \nTickets: $7.50 (children 12 and under free) \nFor more information: www.millarvilleracetrack.com/christmas-market
URL:https://highcountrynews.ca/event/millarville-christmas-market/2025-11-13/
LOCATION:Millarville Racetrack Hall\, Millarville\, Alberta\, Canada
CATEGORIES:Millarville
END:VEVENT
BEGIN:VEVENT
DTSTART;TZID=America/Edmonton:20251122T100000
DTEND;TZID=America/Edmonton:20251122T160000
DTSTAMP:20260425T050656
CREATED:20251103T233855Z
LAST-MODIFIED:20251103T233855Z
UID:10003328-1763805600-1763827200@highcountrynews.ca
SUMMARY:DeWinton Christmas Market
DESCRIPTION:
URL:https://highcountrynews.ca/event/dewinton-christmas-market/
LOCATION:De Winton Community Hall\, 114 Macleod Trail E\, De Winton\, Alberta\, T0L 0X0\, Canada
CATEGORIES:Arts & Entertainment
ATTACH;FMTTYPE=image/webp:https://highcountrynews.ca/wp-content/uploads/2025/11/DeWinton-Christmas-Market.webp
END:VEVENT
BEGIN:VEVENT
DTSTART;TZID=America/Edmonton:20251129T130000
DTEND;TZID=America/Edmonton:20251129T160000
DTSTAMP:20260425T050656
CREATED:20251005T181855Z
LAST-MODIFIED:20251005T181855Z
UID:10003294-1764421200-1764432000@highcountrynews.ca
SUMMARY:Gingerbread Tea\, Craft & Bake Sale
DESCRIPTION:
URL:https://highcountrynews.ca/event/gingerbread-tea-craft-bake-sale/
LOCATION:Springbank Heritage Club\, 244168\, RR 33\, Calgary\, Alberta\, T3Z  2E7\, Canada
CATEGORIES:Springbank
ATTACH;FMTTYPE=image/webp:https://highcountrynews.ca/wp-content/uploads/2025/10/Gingerbread-tea-and-bake-sale.webp
ORGANIZER;CN="Springbank Heritage Club":MAILTO:springbankhc@telus.net
GEO:51.0765589;-114.3519505
X-APPLE-STRUCTURED-LOCATION;VALUE=URI;X-ADDRESS=Springbank Heritage Club 244168 RR 33 Calgary Alberta T3Z  2E7 Canada;X-APPLE-RADIUS=500;X-TITLE=244168\, RR 33:geo:-114.3519505,51.0765589
END:VEVENT
END:VCALENDAR