BEGIN:VCALENDAR
VERSION:2.0
PRODID:-//High Country News - ECPv6.15.18//NONSGML v1.0//EN
CALSCALE:GREGORIAN
METHOD:PUBLISH
X-WR-CALNAME:High Country News
X-ORIGINAL-URL:https://highcountrynews.ca
X-WR-CALDESC:Events for High Country News
REFRESH-INTERVAL;VALUE=DURATION:PT1H
X-Robots-Tag:noindex
X-PUBLISHED-TTL:PT1H
BEGIN:VTIMEZONE
TZID:America/Edmonton
BEGIN:DAYLIGHT
TZOFFSETFROM:-0700
TZOFFSETTO:-0600
TZNAME:MDT
DTSTART:20250309T090000
END:DAYLIGHT
BEGIN:STANDARD
TZOFFSETFROM:-0600
TZOFFSETTO:-0700
TZNAME:MST
DTSTART:20251102T080000
END:STANDARD
BEGIN:DAYLIGHT
TZOFFSETFROM:-0700
TZOFFSETTO:-0600
TZNAME:MDT
DTSTART:20260308T090000
END:DAYLIGHT
BEGIN:STANDARD
TZOFFSETFROM:-0600
TZOFFSETTO:-0700
TZNAME:MST
DTSTART:20261101T080000
END:STANDARD
BEGIN:DAYLIGHT
TZOFFSETFROM:-0700
TZOFFSETTO:-0600
TZNAME:MDT
DTSTART:20270314T090000
END:DAYLIGHT
BEGIN:STANDARD
TZOFFSETFROM:-0600
TZOFFSETTO:-0700
TZNAME:MST
DTSTART:20271107T080000
END:STANDARD
END:VTIMEZONE
BEGIN:VEVENT
DTSTART;TZID=America/Edmonton:20260501T131500
DTEND;TZID=America/Edmonton:20260501T131500
DTSTAMP:20260424T184157
CREATED:20260116T064648Z
LAST-MODIFIED:20260116T064648Z
UID:10003540-1777641300-1777641300@highcountrynews.ca
SUMMARY:Snowbirds: Open Mic Night
DESCRIPTION:Fridays \n1:15pm: Exercise Class – 45 minutes bring your own dumbells or borrow newcomers welcome\, drop-in $10/class
URL:https://highcountrynews.ca/event/snowbirds-open-mic-night-2/2026-05-01/
LOCATION:Snowbird’s Chalet\, 19 Balsam Avenue\, Bragg Creek\, Alberta\, T0L 0K0\, Canada
CATEGORIES:Bragg Creek
ATTACH;FMTTYPE=image/webp:https://highcountrynews.ca/wp-content/uploads/2026/01/HCN_Snowbirds_Jan2026-scaled.webp
END:VEVENT
BEGIN:VEVENT
DTSTART;TZID=America/Edmonton:20260508T131500
DTEND;TZID=America/Edmonton:20260508T131500
DTSTAMP:20260424T184157
CREATED:20260116T064648Z
LAST-MODIFIED:20260116T064648Z
UID:10003541-1778246100-1778246100@highcountrynews.ca
SUMMARY:Snowbirds: Open Mic Night
DESCRIPTION:Fridays \n1:15pm: Exercise Class – 45 minutes bring your own dumbells or borrow newcomers welcome\, drop-in $10/class
URL:https://highcountrynews.ca/event/snowbirds-open-mic-night-2/2026-05-08/
LOCATION:Snowbird’s Chalet\, 19 Balsam Avenue\, Bragg Creek\, Alberta\, T0L 0K0\, Canada
CATEGORIES:Bragg Creek
ATTACH;FMTTYPE=image/webp:https://highcountrynews.ca/wp-content/uploads/2026/01/HCN_Snowbirds_Jan2026-scaled.webp
END:VEVENT
BEGIN:VEVENT
DTSTART;TZID=America/Edmonton:20260515T131500
DTEND;TZID=America/Edmonton:20260515T131500
DTSTAMP:20260424T184157
CREATED:20260116T064648Z
LAST-MODIFIED:20260116T064648Z
UID:10003542-1778850900-1778850900@highcountrynews.ca
SUMMARY:Snowbirds: Open Mic Night
DESCRIPTION:Fridays \n1:15pm: Exercise Class – 45 minutes bring your own dumbells or borrow newcomers welcome\, drop-in $10/class
URL:https://highcountrynews.ca/event/snowbirds-open-mic-night-2/2026-05-15/
LOCATION:Snowbird’s Chalet\, 19 Balsam Avenue\, Bragg Creek\, Alberta\, T0L 0K0\, Canada
CATEGORIES:Bragg Creek
ATTACH;FMTTYPE=image/webp:https://highcountrynews.ca/wp-content/uploads/2026/01/HCN_Snowbirds_Jan2026-scaled.webp
END:VEVENT
BEGIN:VEVENT
DTSTART;TZID=America/Edmonton:20260522T131500
DTEND;TZID=America/Edmonton:20260522T131500
DTSTAMP:20260424T184157
CREATED:20260116T064648Z
LAST-MODIFIED:20260116T064648Z
UID:10003543-1779455700-1779455700@highcountrynews.ca
SUMMARY:Snowbirds: Open Mic Night
DESCRIPTION:Fridays \n1:15pm: Exercise Class – 45 minutes bring your own dumbells or borrow newcomers welcome\, drop-in $10/class
URL:https://highcountrynews.ca/event/snowbirds-open-mic-night-2/2026-05-22/
LOCATION:Snowbird’s Chalet\, 19 Balsam Avenue\, Bragg Creek\, Alberta\, T0L 0K0\, Canada
CATEGORIES:Bragg Creek
ATTACH;FMTTYPE=image/webp:https://highcountrynews.ca/wp-content/uploads/2026/01/HCN_Snowbirds_Jan2026-scaled.webp
END:VEVENT
BEGIN:VEVENT
DTSTART;TZID=America/Edmonton:20260529T131500
DTEND;TZID=America/Edmonton:20260529T131500
DTSTAMP:20260424T184157
CREATED:20260116T064648Z
LAST-MODIFIED:20260116T064648Z
UID:10003544-1780060500-1780060500@highcountrynews.ca
SUMMARY:Snowbirds: Open Mic Night
DESCRIPTION:Fridays \n1:15pm: Exercise Class – 45 minutes bring your own dumbells or borrow newcomers welcome\, drop-in $10/class
URL:https://highcountrynews.ca/event/snowbirds-open-mic-night-2/2026-05-29/
LOCATION:Snowbird’s Chalet\, 19 Balsam Avenue\, Bragg Creek\, Alberta\, T0L 0K0\, Canada
CATEGORIES:Bragg Creek
ATTACH;FMTTYPE=image/webp:https://highcountrynews.ca/wp-content/uploads/2026/01/HCN_Snowbirds_Jan2026-scaled.webp
END:VEVENT
BEGIN:VEVENT
DTSTART;TZID=America/Edmonton:20260605T131500
DTEND;TZID=America/Edmonton:20260605T131500
DTSTAMP:20260424T184157
CREATED:20260116T064648Z
LAST-MODIFIED:20260116T064648Z
UID:10003545-1780665300-1780665300@highcountrynews.ca
SUMMARY:Snowbirds: Open Mic Night
DESCRIPTION:Fridays \n1:15pm: Exercise Class – 45 minutes bring your own dumbells or borrow newcomers welcome\, drop-in $10/class
URL:https://highcountrynews.ca/event/snowbirds-open-mic-night-2/2026-06-05/
LOCATION:Snowbird’s Chalet\, 19 Balsam Avenue\, Bragg Creek\, Alberta\, T0L 0K0\, Canada
CATEGORIES:Bragg Creek
ATTACH;FMTTYPE=image/webp:https://highcountrynews.ca/wp-content/uploads/2026/01/HCN_Snowbirds_Jan2026-scaled.webp
END:VEVENT
BEGIN:VEVENT
DTSTART;TZID=America/Edmonton:20260612T131500
DTEND;TZID=America/Edmonton:20260612T131500
DTSTAMP:20260424T184157
CREATED:20260116T064648Z
LAST-MODIFIED:20260116T064648Z
UID:10003546-1781270100-1781270100@highcountrynews.ca
SUMMARY:Snowbirds: Open Mic Night
DESCRIPTION:Fridays \n1:15pm: Exercise Class – 45 minutes bring your own dumbells or borrow newcomers welcome\, drop-in $10/class
URL:https://highcountrynews.ca/event/snowbirds-open-mic-night-2/2026-06-12/
LOCATION:Snowbird’s Chalet\, 19 Balsam Avenue\, Bragg Creek\, Alberta\, T0L 0K0\, Canada
CATEGORIES:Bragg Creek
ATTACH;FMTTYPE=image/webp:https://highcountrynews.ca/wp-content/uploads/2026/01/HCN_Snowbirds_Jan2026-scaled.webp
END:VEVENT
BEGIN:VEVENT
DTSTART;TZID=America/Edmonton:20260619T131500
DTEND;TZID=America/Edmonton:20260619T131500
DTSTAMP:20260424T184157
CREATED:20260116T064648Z
LAST-MODIFIED:20260116T064648Z
UID:10003547-1781874900-1781874900@highcountrynews.ca
SUMMARY:Snowbirds: Open Mic Night
DESCRIPTION:Fridays \n1:15pm: Exercise Class – 45 minutes bring your own dumbells or borrow newcomers welcome\, drop-in $10/class
URL:https://highcountrynews.ca/event/snowbirds-open-mic-night-2/2026-06-19/
LOCATION:Snowbird’s Chalet\, 19 Balsam Avenue\, Bragg Creek\, Alberta\, T0L 0K0\, Canada
CATEGORIES:Bragg Creek
ATTACH;FMTTYPE=image/webp:https://highcountrynews.ca/wp-content/uploads/2026/01/HCN_Snowbirds_Jan2026-scaled.webp
END:VEVENT
BEGIN:VEVENT
DTSTART;TZID=America/Edmonton:20260626T131500
DTEND;TZID=America/Edmonton:20260626T131500
DTSTAMP:20260424T184157
CREATED:20260116T064648Z
LAST-MODIFIED:20260116T064648Z
UID:10003548-1782479700-1782479700@highcountrynews.ca
SUMMARY:Snowbirds: Open Mic Night
DESCRIPTION:Fridays \n1:15pm: Exercise Class – 45 minutes bring your own dumbells or borrow newcomers welcome\, drop-in $10/class
URL:https://highcountrynews.ca/event/snowbirds-open-mic-night-2/2026-06-26/
LOCATION:Snowbird’s Chalet\, 19 Balsam Avenue\, Bragg Creek\, Alberta\, T0L 0K0\, Canada
CATEGORIES:Bragg Creek
ATTACH;FMTTYPE=image/webp:https://highcountrynews.ca/wp-content/uploads/2026/01/HCN_Snowbirds_Jan2026-scaled.webp
END:VEVENT
BEGIN:VEVENT
DTSTART;TZID=America/Edmonton:20260703T131500
DTEND;TZID=America/Edmonton:20260703T131500
DTSTAMP:20260424T184157
CREATED:20260116T064648Z
LAST-MODIFIED:20260116T064648Z
UID:10003549-1783084500-1783084500@highcountrynews.ca
SUMMARY:Snowbirds: Open Mic Night
DESCRIPTION:Fridays \n1:15pm: Exercise Class – 45 minutes bring your own dumbells or borrow newcomers welcome\, drop-in $10/class
URL:https://highcountrynews.ca/event/snowbirds-open-mic-night-2/2026-07-03/
LOCATION:Snowbird’s Chalet\, 19 Balsam Avenue\, Bragg Creek\, Alberta\, T0L 0K0\, Canada
CATEGORIES:Bragg Creek
ATTACH;FMTTYPE=image/webp:https://highcountrynews.ca/wp-content/uploads/2026/01/HCN_Snowbirds_Jan2026-scaled.webp
END:VEVENT
BEGIN:VEVENT
DTSTART;TZID=America/Edmonton:20260710T131500
DTEND;TZID=America/Edmonton:20260710T131500
DTSTAMP:20260424T184157
CREATED:20260116T064648Z
LAST-MODIFIED:20260116T064648Z
UID:10003550-1783689300-1783689300@highcountrynews.ca
SUMMARY:Snowbirds: Open Mic Night
DESCRIPTION:Fridays \n1:15pm: Exercise Class – 45 minutes bring your own dumbells or borrow newcomers welcome\, drop-in $10/class
URL:https://highcountrynews.ca/event/snowbirds-open-mic-night-2/2026-07-10/
LOCATION:Snowbird’s Chalet\, 19 Balsam Avenue\, Bragg Creek\, Alberta\, T0L 0K0\, Canada
CATEGORIES:Bragg Creek
ATTACH;FMTTYPE=image/webp:https://highcountrynews.ca/wp-content/uploads/2026/01/HCN_Snowbirds_Jan2026-scaled.webp
END:VEVENT
BEGIN:VEVENT
DTSTART;TZID=America/Edmonton:20260717T131500
DTEND;TZID=America/Edmonton:20260717T131500
DTSTAMP:20260424T184157
CREATED:20260116T064648Z
LAST-MODIFIED:20260116T064648Z
UID:10003551-1784294100-1784294100@highcountrynews.ca
SUMMARY:Snowbirds: Open Mic Night
DESCRIPTION:Fridays \n1:15pm: Exercise Class – 45 minutes bring your own dumbells or borrow newcomers welcome\, drop-in $10/class
URL:https://highcountrynews.ca/event/snowbirds-open-mic-night-2/2026-07-17/
LOCATION:Snowbird’s Chalet\, 19 Balsam Avenue\, Bragg Creek\, Alberta\, T0L 0K0\, Canada
CATEGORIES:Bragg Creek
ATTACH;FMTTYPE=image/webp:https://highcountrynews.ca/wp-content/uploads/2026/01/HCN_Snowbirds_Jan2026-scaled.webp
END:VEVENT
BEGIN:VEVENT
DTSTART;TZID=America/Edmonton:20260724T131500
DTEND;TZID=America/Edmonton:20260724T131500
DTSTAMP:20260424T184157
CREATED:20260116T064648Z
LAST-MODIFIED:20260116T064648Z
UID:10003552-1784898900-1784898900@highcountrynews.ca
SUMMARY:Snowbirds: Open Mic Night
DESCRIPTION:Fridays \n1:15pm: Exercise Class – 45 minutes bring your own dumbells or borrow newcomers welcome\, drop-in $10/class
URL:https://highcountrynews.ca/event/snowbirds-open-mic-night-2/2026-07-24/
LOCATION:Snowbird’s Chalet\, 19 Balsam Avenue\, Bragg Creek\, Alberta\, T0L 0K0\, Canada
CATEGORIES:Bragg Creek
ATTACH;FMTTYPE=image/webp:https://highcountrynews.ca/wp-content/uploads/2026/01/HCN_Snowbirds_Jan2026-scaled.webp
END:VEVENT
BEGIN:VEVENT
DTSTART;TZID=America/Edmonton:20260731T131500
DTEND;TZID=America/Edmonton:20260731T131500
DTSTAMP:20260424T184157
CREATED:20260116T064648Z
LAST-MODIFIED:20260116T064648Z
UID:10003553-1785503700-1785503700@highcountrynews.ca
SUMMARY:Snowbirds: Open Mic Night
DESCRIPTION:Fridays \n1:15pm: Exercise Class – 45 minutes bring your own dumbells or borrow newcomers welcome\, drop-in $10/class
URL:https://highcountrynews.ca/event/snowbirds-open-mic-night-2/2026-07-31/
LOCATION:Snowbird’s Chalet\, 19 Balsam Avenue\, Bragg Creek\, Alberta\, T0L 0K0\, Canada
CATEGORIES:Bragg Creek
ATTACH;FMTTYPE=image/webp:https://highcountrynews.ca/wp-content/uploads/2026/01/HCN_Snowbirds_Jan2026-scaled.webp
END:VEVENT
BEGIN:VEVENT
DTSTART;TZID=America/Edmonton:20260807T131500
DTEND;TZID=America/Edmonton:20260807T131500
DTSTAMP:20260424T184157
CREATED:20260116T064648Z
LAST-MODIFIED:20260116T064648Z
UID:10003554-1786108500-1786108500@highcountrynews.ca
SUMMARY:Snowbirds: Open Mic Night
DESCRIPTION:Fridays \n1:15pm: Exercise Class – 45 minutes bring your own dumbells or borrow newcomers welcome\, drop-in $10/class
URL:https://highcountrynews.ca/event/snowbirds-open-mic-night-2/2026-08-07/
LOCATION:Snowbird’s Chalet\, 19 Balsam Avenue\, Bragg Creek\, Alberta\, T0L 0K0\, Canada
CATEGORIES:Bragg Creek
ATTACH;FMTTYPE=image/webp:https://highcountrynews.ca/wp-content/uploads/2026/01/HCN_Snowbirds_Jan2026-scaled.webp
END:VEVENT
BEGIN:VEVENT
DTSTART;TZID=America/Edmonton:20260814T131500
DTEND;TZID=America/Edmonton:20260814T131500
DTSTAMP:20260424T184157
CREATED:20260116T064648Z
LAST-MODIFIED:20260116T064648Z
UID:10003555-1786713300-1786713300@highcountrynews.ca
SUMMARY:Snowbirds: Open Mic Night
DESCRIPTION:Fridays \n1:15pm: Exercise Class – 45 minutes bring your own dumbells or borrow newcomers welcome\, drop-in $10/class
URL:https://highcountrynews.ca/event/snowbirds-open-mic-night-2/2026-08-14/
LOCATION:Snowbird’s Chalet\, 19 Balsam Avenue\, Bragg Creek\, Alberta\, T0L 0K0\, Canada
CATEGORIES:Bragg Creek
ATTACH;FMTTYPE=image/webp:https://highcountrynews.ca/wp-content/uploads/2026/01/HCN_Snowbirds_Jan2026-scaled.webp
END:VEVENT
BEGIN:VEVENT
DTSTART;TZID=America/Edmonton:20260821T131500
DTEND;TZID=America/Edmonton:20260821T131500
DTSTAMP:20260424T184157
CREATED:20260116T064648Z
LAST-MODIFIED:20260116T064648Z
UID:10003556-1787318100-1787318100@highcountrynews.ca
SUMMARY:Snowbirds: Open Mic Night
DESCRIPTION:Fridays \n1:15pm: Exercise Class – 45 minutes bring your own dumbells or borrow newcomers welcome\, drop-in $10/class
URL:https://highcountrynews.ca/event/snowbirds-open-mic-night-2/2026-08-21/
LOCATION:Snowbird’s Chalet\, 19 Balsam Avenue\, Bragg Creek\, Alberta\, T0L 0K0\, Canada
CATEGORIES:Bragg Creek
ATTACH;FMTTYPE=image/webp:https://highcountrynews.ca/wp-content/uploads/2026/01/HCN_Snowbirds_Jan2026-scaled.webp
END:VEVENT
BEGIN:VEVENT
DTSTART;TZID=America/Edmonton:20260828T131500
DTEND;TZID=America/Edmonton:20260828T131500
DTSTAMP:20260424T184157
CREATED:20260116T064648Z
LAST-MODIFIED:20260116T064648Z
UID:10003557-1787922900-1787922900@highcountrynews.ca
SUMMARY:Snowbirds: Open Mic Night
DESCRIPTION:Fridays \n1:15pm: Exercise Class – 45 minutes bring your own dumbells or borrow newcomers welcome\, drop-in $10/class
URL:https://highcountrynews.ca/event/snowbirds-open-mic-night-2/2026-08-28/
LOCATION:Snowbird’s Chalet\, 19 Balsam Avenue\, Bragg Creek\, Alberta\, T0L 0K0\, Canada
CATEGORIES:Bragg Creek
ATTACH;FMTTYPE=image/webp:https://highcountrynews.ca/wp-content/uploads/2026/01/HCN_Snowbirds_Jan2026-scaled.webp
END:VEVENT
BEGIN:VEVENT
DTSTART;TZID=America/Edmonton:20260904T131500
DTEND;TZID=America/Edmonton:20260904T131500
DTSTAMP:20260424T184157
CREATED:20260116T064648Z
LAST-MODIFIED:20260116T064648Z
UID:10003558-1788527700-1788527700@highcountrynews.ca
SUMMARY:Snowbirds: Open Mic Night
DESCRIPTION:Fridays \n1:15pm: Exercise Class – 45 minutes bring your own dumbells or borrow newcomers welcome\, drop-in $10/class
URL:https://highcountrynews.ca/event/snowbirds-open-mic-night-2/2026-09-04/
LOCATION:Snowbird’s Chalet\, 19 Balsam Avenue\, Bragg Creek\, Alberta\, T0L 0K0\, Canada
CATEGORIES:Bragg Creek
ATTACH;FMTTYPE=image/webp:https://highcountrynews.ca/wp-content/uploads/2026/01/HCN_Snowbirds_Jan2026-scaled.webp
END:VEVENT
BEGIN:VEVENT
DTSTART;TZID=America/Edmonton:20260911T131500
DTEND;TZID=America/Edmonton:20260911T131500
DTSTAMP:20260424T184157
CREATED:20260116T064648Z
LAST-MODIFIED:20260116T064648Z
UID:10003559-1789132500-1789132500@highcountrynews.ca
SUMMARY:Snowbirds: Open Mic Night
DESCRIPTION:Fridays \n1:15pm: Exercise Class – 45 minutes bring your own dumbells or borrow newcomers welcome\, drop-in $10/class
URL:https://highcountrynews.ca/event/snowbirds-open-mic-night-2/2026-09-11/
LOCATION:Snowbird’s Chalet\, 19 Balsam Avenue\, Bragg Creek\, Alberta\, T0L 0K0\, Canada
CATEGORIES:Bragg Creek
ATTACH;FMTTYPE=image/webp:https://highcountrynews.ca/wp-content/uploads/2026/01/HCN_Snowbirds_Jan2026-scaled.webp
END:VEVENT
BEGIN:VEVENT
DTSTART;TZID=America/Edmonton:20260918T131500
DTEND;TZID=America/Edmonton:20260918T131500
DTSTAMP:20260424T184157
CREATED:20260116T064648Z
LAST-MODIFIED:20260116T064648Z
UID:10003560-1789737300-1789737300@highcountrynews.ca
SUMMARY:Snowbirds: Open Mic Night
DESCRIPTION:Fridays \n1:15pm: Exercise Class – 45 minutes bring your own dumbells or borrow newcomers welcome\, drop-in $10/class
URL:https://highcountrynews.ca/event/snowbirds-open-mic-night-2/2026-09-18/
LOCATION:Snowbird’s Chalet\, 19 Balsam Avenue\, Bragg Creek\, Alberta\, T0L 0K0\, Canada
CATEGORIES:Bragg Creek
ATTACH;FMTTYPE=image/webp:https://highcountrynews.ca/wp-content/uploads/2026/01/HCN_Snowbirds_Jan2026-scaled.webp
END:VEVENT
BEGIN:VEVENT
DTSTART;TZID=America/Edmonton:20260925T131500
DTEND;TZID=America/Edmonton:20260925T131500
DTSTAMP:20260424T184157
CREATED:20260116T064648Z
LAST-MODIFIED:20260116T064648Z
UID:10003561-1790342100-1790342100@highcountrynews.ca
SUMMARY:Snowbirds: Open Mic Night
DESCRIPTION:Fridays \n1:15pm: Exercise Class – 45 minutes bring your own dumbells or borrow newcomers welcome\, drop-in $10/class
URL:https://highcountrynews.ca/event/snowbirds-open-mic-night-2/2026-09-25/
LOCATION:Snowbird’s Chalet\, 19 Balsam Avenue\, Bragg Creek\, Alberta\, T0L 0K0\, Canada
CATEGORIES:Bragg Creek
ATTACH;FMTTYPE=image/webp:https://highcountrynews.ca/wp-content/uploads/2026/01/HCN_Snowbirds_Jan2026-scaled.webp
END:VEVENT
BEGIN:VEVENT
DTSTART;TZID=America/Edmonton:20261002T131500
DTEND;TZID=America/Edmonton:20261002T131500
DTSTAMP:20260424T184157
CREATED:20260116T064648Z
LAST-MODIFIED:20260116T064648Z
UID:10003562-1790946900-1790946900@highcountrynews.ca
SUMMARY:Snowbirds: Open Mic Night
DESCRIPTION:Fridays \n1:15pm: Exercise Class – 45 minutes bring your own dumbells or borrow newcomers welcome\, drop-in $10/class
URL:https://highcountrynews.ca/event/snowbirds-open-mic-night-2/2026-10-02/
LOCATION:Snowbird’s Chalet\, 19 Balsam Avenue\, Bragg Creek\, Alberta\, T0L 0K0\, Canada
CATEGORIES:Bragg Creek
ATTACH;FMTTYPE=image/webp:https://highcountrynews.ca/wp-content/uploads/2026/01/HCN_Snowbirds_Jan2026-scaled.webp
END:VEVENT
BEGIN:VEVENT
DTSTART;TZID=America/Edmonton:20261009T131500
DTEND;TZID=America/Edmonton:20261009T131500
DTSTAMP:20260424T184157
CREATED:20260116T064648Z
LAST-MODIFIED:20260116T064648Z
UID:10003563-1791551700-1791551700@highcountrynews.ca
SUMMARY:Snowbirds: Open Mic Night
DESCRIPTION:Fridays \n1:15pm: Exercise Class – 45 minutes bring your own dumbells or borrow newcomers welcome\, drop-in $10/class
URL:https://highcountrynews.ca/event/snowbirds-open-mic-night-2/2026-10-09/
LOCATION:Snowbird’s Chalet\, 19 Balsam Avenue\, Bragg Creek\, Alberta\, T0L 0K0\, Canada
CATEGORIES:Bragg Creek
ATTACH;FMTTYPE=image/webp:https://highcountrynews.ca/wp-content/uploads/2026/01/HCN_Snowbirds_Jan2026-scaled.webp
END:VEVENT
BEGIN:VEVENT
DTSTART;TZID=America/Edmonton:20261016T131500
DTEND;TZID=America/Edmonton:20261016T131500
DTSTAMP:20260424T184157
CREATED:20260116T064648Z
LAST-MODIFIED:20260116T064648Z
UID:10003564-1792156500-1792156500@highcountrynews.ca
SUMMARY:Snowbirds: Open Mic Night
DESCRIPTION:Fridays \n1:15pm: Exercise Class – 45 minutes bring your own dumbells or borrow newcomers welcome\, drop-in $10/class
URL:https://highcountrynews.ca/event/snowbirds-open-mic-night-2/2026-10-16/
LOCATION:Snowbird’s Chalet\, 19 Balsam Avenue\, Bragg Creek\, Alberta\, T0L 0K0\, Canada
CATEGORIES:Bragg Creek
ATTACH;FMTTYPE=image/webp:https://highcountrynews.ca/wp-content/uploads/2026/01/HCN_Snowbirds_Jan2026-scaled.webp
END:VEVENT
BEGIN:VEVENT
DTSTART;TZID=America/Edmonton:20261023T131500
DTEND;TZID=America/Edmonton:20261023T131500
DTSTAMP:20260424T184157
CREATED:20260116T064648Z
LAST-MODIFIED:20260116T064648Z
UID:10003565-1792761300-1792761300@highcountrynews.ca
SUMMARY:Snowbirds: Open Mic Night
DESCRIPTION:Fridays \n1:15pm: Exercise Class – 45 minutes bring your own dumbells or borrow newcomers welcome\, drop-in $10/class
URL:https://highcountrynews.ca/event/snowbirds-open-mic-night-2/2026-10-23/
LOCATION:Snowbird’s Chalet\, 19 Balsam Avenue\, Bragg Creek\, Alberta\, T0L 0K0\, Canada
CATEGORIES:Bragg Creek
ATTACH;FMTTYPE=image/webp:https://highcountrynews.ca/wp-content/uploads/2026/01/HCN_Snowbirds_Jan2026-scaled.webp
END:VEVENT
BEGIN:VEVENT
DTSTART;TZID=America/Edmonton:20261030T131500
DTEND;TZID=America/Edmonton:20261030T131500
DTSTAMP:20260424T184157
CREATED:20260116T064648Z
LAST-MODIFIED:20260116T064648Z
UID:10003566-1793366100-1793366100@highcountrynews.ca
SUMMARY:Snowbirds: Open Mic Night
DESCRIPTION:Fridays \n1:15pm: Exercise Class – 45 minutes bring your own dumbells or borrow newcomers welcome\, drop-in $10/class
URL:https://highcountrynews.ca/event/snowbirds-open-mic-night-2/2026-10-30/
LOCATION:Snowbird’s Chalet\, 19 Balsam Avenue\, Bragg Creek\, Alberta\, T0L 0K0\, Canada
CATEGORIES:Bragg Creek
ATTACH;FMTTYPE=image/webp:https://highcountrynews.ca/wp-content/uploads/2026/01/HCN_Snowbirds_Jan2026-scaled.webp
END:VEVENT
BEGIN:VEVENT
DTSTART;TZID=America/Edmonton:20261106T131500
DTEND;TZID=America/Edmonton:20261106T131500
DTSTAMP:20260424T184157
CREATED:20260116T064648Z
LAST-MODIFIED:20260116T064648Z
UID:10003567-1793970900-1793970900@highcountrynews.ca
SUMMARY:Snowbirds: Open Mic Night
DESCRIPTION:Fridays \n1:15pm: Exercise Class – 45 minutes bring your own dumbells or borrow newcomers welcome\, drop-in $10/class
URL:https://highcountrynews.ca/event/snowbirds-open-mic-night-2/2026-11-06/
LOCATION:Snowbird’s Chalet\, 19 Balsam Avenue\, Bragg Creek\, Alberta\, T0L 0K0\, Canada
CATEGORIES:Bragg Creek
ATTACH;FMTTYPE=image/webp:https://highcountrynews.ca/wp-content/uploads/2026/01/HCN_Snowbirds_Jan2026-scaled.webp
END:VEVENT
BEGIN:VEVENT
DTSTART;TZID=America/Edmonton:20261113T131500
DTEND;TZID=America/Edmonton:20261113T131500
DTSTAMP:20260424T184157
CREATED:20260116T064648Z
LAST-MODIFIED:20260116T064648Z
UID:10003568-1794575700-1794575700@highcountrynews.ca
SUMMARY:Snowbirds: Open Mic Night
DESCRIPTION:Fridays \n1:15pm: Exercise Class – 45 minutes bring your own dumbells or borrow newcomers welcome\, drop-in $10/class
URL:https://highcountrynews.ca/event/snowbirds-open-mic-night-2/2026-11-13/
LOCATION:Snowbird’s Chalet\, 19 Balsam Avenue\, Bragg Creek\, Alberta\, T0L 0K0\, Canada
CATEGORIES:Bragg Creek
ATTACH;FMTTYPE=image/webp:https://highcountrynews.ca/wp-content/uploads/2026/01/HCN_Snowbirds_Jan2026-scaled.webp
END:VEVENT
BEGIN:VEVENT
DTSTART;TZID=America/Edmonton:20261120T131500
DTEND;TZID=America/Edmonton:20261120T131500
DTSTAMP:20260424T184157
CREATED:20260116T064648Z
LAST-MODIFIED:20260116T064648Z
UID:10003569-1795180500-1795180500@highcountrynews.ca
SUMMARY:Snowbirds: Open Mic Night
DESCRIPTION:Fridays \n1:15pm: Exercise Class – 45 minutes bring your own dumbells or borrow newcomers welcome\, drop-in $10/class
URL:https://highcountrynews.ca/event/snowbirds-open-mic-night-2/2026-11-20/
LOCATION:Snowbird’s Chalet\, 19 Balsam Avenue\, Bragg Creek\, Alberta\, T0L 0K0\, Canada
CATEGORIES:Bragg Creek
ATTACH;FMTTYPE=image/webp:https://highcountrynews.ca/wp-content/uploads/2026/01/HCN_Snowbirds_Jan2026-scaled.webp
END:VEVENT
END:VCALENDAR