BEGIN:VCALENDAR
VERSION:2.0
PRODID:-//High Country News - ECPv6.15.18//NONSGML v1.0//EN
CALSCALE:GREGORIAN
METHOD:PUBLISH
X-WR-CALNAME:High Country News
X-ORIGINAL-URL:https://highcountrynews.ca
X-WR-CALDESC:Events for High Country News
REFRESH-INTERVAL;VALUE=DURATION:PT1H
X-Robots-Tag:noindex
X-PUBLISHED-TTL:PT1H
BEGIN:VTIMEZONE
TZID:America/Edmonton
BEGIN:DAYLIGHT
TZOFFSETFROM:-0700
TZOFFSETTO:-0600
TZNAME:MDT
DTSTART:20250309T090000
END:DAYLIGHT
BEGIN:STANDARD
TZOFFSETFROM:-0600
TZOFFSETTO:-0700
TZNAME:MST
DTSTART:20251102T080000
END:STANDARD
BEGIN:DAYLIGHT
TZOFFSETFROM:-0700
TZOFFSETTO:-0600
TZNAME:MDT
DTSTART:20260308T090000
END:DAYLIGHT
BEGIN:STANDARD
TZOFFSETFROM:-0600
TZOFFSETTO:-0700
TZNAME:MST
DTSTART:20261101T080000
END:STANDARD
BEGIN:DAYLIGHT
TZOFFSETFROM:-0700
TZOFFSETTO:-0600
TZNAME:MDT
DTSTART:20270314T090000
END:DAYLIGHT
BEGIN:STANDARD
TZOFFSETFROM:-0600
TZOFFSETTO:-0700
TZNAME:MST
DTSTART:20271107T080000
END:STANDARD
END:VTIMEZONE
BEGIN:VEVENT
DTSTART;TZID=America/Edmonton:20260506T130000
DTEND;TZID=America/Edmonton:20260506T130000
DTSTAMP:20260424T152547
CREATED:20260116T063859Z
LAST-MODIFIED:20260116T063859Z
UID:10003505-1778072400-1778072400@highcountrynews.ca
SUMMARY:Snowbirds: Book Club
DESCRIPTION:First Wednesday each month \n1:00pm Book Club – bring a book to share with the group
URL:https://highcountrynews.ca/event/snowbirds-book-club/2026-05-06/
LOCATION:Snowbird’s Chalet\, 19 Balsam Avenue\, Bragg Creek\, Alberta\, T0L 0K0\, Canada
CATEGORIES:Bragg Creek
ATTACH;FMTTYPE=image/webp:https://highcountrynews.ca/wp-content/uploads/2026/01/HCN_Snowbirds_Jan2026-scaled.webp
END:VEVENT
BEGIN:VEVENT
DTSTART;TZID=America/Edmonton:20260603T130000
DTEND;TZID=America/Edmonton:20260603T130000
DTSTAMP:20260424T152547
CREATED:20260116T063859Z
LAST-MODIFIED:20260116T063859Z
UID:10003506-1780491600-1780491600@highcountrynews.ca
SUMMARY:Snowbirds: Book Club
DESCRIPTION:First Wednesday each month \n1:00pm Book Club – bring a book to share with the group
URL:https://highcountrynews.ca/event/snowbirds-book-club/2026-06-03/
LOCATION:Snowbird’s Chalet\, 19 Balsam Avenue\, Bragg Creek\, Alberta\, T0L 0K0\, Canada
CATEGORIES:Bragg Creek
ATTACH;FMTTYPE=image/webp:https://highcountrynews.ca/wp-content/uploads/2026/01/HCN_Snowbirds_Jan2026-scaled.webp
END:VEVENT
BEGIN:VEVENT
DTSTART;TZID=America/Edmonton:20260701T130000
DTEND;TZID=America/Edmonton:20260701T130000
DTSTAMP:20260424T152547
CREATED:20260116T063859Z
LAST-MODIFIED:20260116T063859Z
UID:10003507-1782910800-1782910800@highcountrynews.ca
SUMMARY:Snowbirds: Book Club
DESCRIPTION:First Wednesday each month \n1:00pm Book Club – bring a book to share with the group
URL:https://highcountrynews.ca/event/snowbirds-book-club/2026-07-01/
LOCATION:Snowbird’s Chalet\, 19 Balsam Avenue\, Bragg Creek\, Alberta\, T0L 0K0\, Canada
CATEGORIES:Bragg Creek
ATTACH;FMTTYPE=image/webp:https://highcountrynews.ca/wp-content/uploads/2026/01/HCN_Snowbirds_Jan2026-scaled.webp
END:VEVENT
BEGIN:VEVENT
DTSTART;TZID=America/Edmonton:20260805T130000
DTEND;TZID=America/Edmonton:20260805T130000
DTSTAMP:20260424T152547
CREATED:20260116T063859Z
LAST-MODIFIED:20260116T063859Z
UID:10003508-1785934800-1785934800@highcountrynews.ca
SUMMARY:Snowbirds: Book Club
DESCRIPTION:First Wednesday each month \n1:00pm Book Club – bring a book to share with the group
URL:https://highcountrynews.ca/event/snowbirds-book-club/2026-08-05/
LOCATION:Snowbird’s Chalet\, 19 Balsam Avenue\, Bragg Creek\, Alberta\, T0L 0K0\, Canada
CATEGORIES:Bragg Creek
ATTACH;FMTTYPE=image/webp:https://highcountrynews.ca/wp-content/uploads/2026/01/HCN_Snowbirds_Jan2026-scaled.webp
END:VEVENT
BEGIN:VEVENT
DTSTART;TZID=America/Edmonton:20260902T130000
DTEND;TZID=America/Edmonton:20260902T130000
DTSTAMP:20260424T152547
CREATED:20260116T063859Z
LAST-MODIFIED:20260116T063859Z
UID:10003509-1788354000-1788354000@highcountrynews.ca
SUMMARY:Snowbirds: Book Club
DESCRIPTION:First Wednesday each month \n1:00pm Book Club – bring a book to share with the group
URL:https://highcountrynews.ca/event/snowbirds-book-club/2026-09-02/
LOCATION:Snowbird’s Chalet\, 19 Balsam Avenue\, Bragg Creek\, Alberta\, T0L 0K0\, Canada
CATEGORIES:Bragg Creek
ATTACH;FMTTYPE=image/webp:https://highcountrynews.ca/wp-content/uploads/2026/01/HCN_Snowbirds_Jan2026-scaled.webp
END:VEVENT
BEGIN:VEVENT
DTSTART;TZID=America/Edmonton:20261007T130000
DTEND;TZID=America/Edmonton:20261007T130000
DTSTAMP:20260424T152547
CREATED:20260116T063859Z
LAST-MODIFIED:20260116T063859Z
UID:10003510-1791378000-1791378000@highcountrynews.ca
SUMMARY:Snowbirds: Book Club
DESCRIPTION:First Wednesday each month \n1:00pm Book Club – bring a book to share with the group
URL:https://highcountrynews.ca/event/snowbirds-book-club/2026-10-07/
LOCATION:Snowbird’s Chalet\, 19 Balsam Avenue\, Bragg Creek\, Alberta\, T0L 0K0\, Canada
CATEGORIES:Bragg Creek
ATTACH;FMTTYPE=image/webp:https://highcountrynews.ca/wp-content/uploads/2026/01/HCN_Snowbirds_Jan2026-scaled.webp
END:VEVENT
BEGIN:VEVENT
DTSTART;TZID=America/Edmonton:20261104T130000
DTEND;TZID=America/Edmonton:20261104T130000
DTSTAMP:20260424T152547
CREATED:20260116T063859Z
LAST-MODIFIED:20260116T063859Z
UID:10003511-1793797200-1793797200@highcountrynews.ca
SUMMARY:Snowbirds: Book Club
DESCRIPTION:First Wednesday each month \n1:00pm Book Club – bring a book to share with the group
URL:https://highcountrynews.ca/event/snowbirds-book-club/2026-11-04/
LOCATION:Snowbird’s Chalet\, 19 Balsam Avenue\, Bragg Creek\, Alberta\, T0L 0K0\, Canada
CATEGORIES:Bragg Creek
ATTACH;FMTTYPE=image/webp:https://highcountrynews.ca/wp-content/uploads/2026/01/HCN_Snowbirds_Jan2026-scaled.webp
END:VEVENT
BEGIN:VEVENT
DTSTART;TZID=America/Edmonton:20261202T130000
DTEND;TZID=America/Edmonton:20261202T130000
DTSTAMP:20260424T152547
CREATED:20260116T063859Z
LAST-MODIFIED:20260116T063859Z
UID:10003512-1796216400-1796216400@highcountrynews.ca
SUMMARY:Snowbirds: Book Club
DESCRIPTION:First Wednesday each month \n1:00pm Book Club – bring a book to share with the group
URL:https://highcountrynews.ca/event/snowbirds-book-club/2026-12-02/
LOCATION:Snowbird’s Chalet\, 19 Balsam Avenue\, Bragg Creek\, Alberta\, T0L 0K0\, Canada
CATEGORIES:Bragg Creek
ATTACH;FMTTYPE=image/webp:https://highcountrynews.ca/wp-content/uploads/2026/01/HCN_Snowbirds_Jan2026-scaled.webp
END:VEVENT
END:VCALENDAR