BEGIN:VCALENDAR
VERSION:2.0
PRODID:-//High Country News - ECPv6.15.18//NONSGML v1.0//EN
CALSCALE:GREGORIAN
METHOD:PUBLISH
X-WR-CALNAME:High Country News
X-ORIGINAL-URL:https://highcountrynews.ca
X-WR-CALDESC:Events for High Country News
REFRESH-INTERVAL;VALUE=DURATION:PT1H
X-Robots-Tag:noindex
X-PUBLISHED-TTL:PT1H
BEGIN:VTIMEZONE
TZID:America/Edmonton
BEGIN:DAYLIGHT
TZOFFSETFROM:-0700
TZOFFSETTO:-0600
TZNAME:MDT
DTSTART:20250309T090000
END:DAYLIGHT
BEGIN:STANDARD
TZOFFSETFROM:-0600
TZOFFSETTO:-0700
TZNAME:MST
DTSTART:20251102T080000
END:STANDARD
BEGIN:DAYLIGHT
TZOFFSETFROM:-0700
TZOFFSETTO:-0600
TZNAME:MDT
DTSTART:20260308T090000
END:DAYLIGHT
BEGIN:STANDARD
TZOFFSETFROM:-0600
TZOFFSETTO:-0700
TZNAME:MST
DTSTART:20261101T080000
END:STANDARD
BEGIN:DAYLIGHT
TZOFFSETFROM:-0700
TZOFFSETTO:-0600
TZNAME:MDT
DTSTART:20270314T090000
END:DAYLIGHT
BEGIN:STANDARD
TZOFFSETFROM:-0600
TZOFFSETTO:-0700
TZNAME:MST
DTSTART:20271107T080000
END:STANDARD
END:VTIMEZONE
BEGIN:VEVENT
DTSTART;TZID=America/Edmonton:20260430T160000
DTEND;TZID=America/Edmonton:20260430T210000
DTSTAMP:20260424T120950
CREATED:20260116T063710Z
LAST-MODIFIED:20260116T063710Z
UID:10003465-1777564800-1777582800@highcountrynews.ca
SUMMARY:Snowbirds: Open House/Pub Night
DESCRIPTION:
URL:https://highcountrynews.ca/event/snowbirds-open-house-pub-night/2026-04-30/
LOCATION:Snowbird’s Chalet\, 19 Balsam Avenue\, Bragg Creek\, Alberta\, T0L 0K0\, Canada
CATEGORIES:Bragg Creek
ATTACH;FMTTYPE=image/webp:https://highcountrynews.ca/wp-content/uploads/2026/01/HCN_Snowbirds_Jan2026-scaled.webp
END:VEVENT
BEGIN:VEVENT
DTSTART;TZID=America/Edmonton:20260507T160000
DTEND;TZID=America/Edmonton:20260507T210000
DTSTAMP:20260424T120950
CREATED:20260116T063710Z
LAST-MODIFIED:20260116T063710Z
UID:10003466-1778169600-1778187600@highcountrynews.ca
SUMMARY:Snowbirds: Open House/Pub Night
DESCRIPTION:
URL:https://highcountrynews.ca/event/snowbirds-open-house-pub-night/2026-05-07/
LOCATION:Snowbird’s Chalet\, 19 Balsam Avenue\, Bragg Creek\, Alberta\, T0L 0K0\, Canada
CATEGORIES:Bragg Creek
ATTACH;FMTTYPE=image/webp:https://highcountrynews.ca/wp-content/uploads/2026/01/HCN_Snowbirds_Jan2026-scaled.webp
END:VEVENT
BEGIN:VEVENT
DTSTART;TZID=America/Edmonton:20260514T160000
DTEND;TZID=America/Edmonton:20260514T210000
DTSTAMP:20260424T120950
CREATED:20260116T063710Z
LAST-MODIFIED:20260116T063710Z
UID:10003467-1778774400-1778792400@highcountrynews.ca
SUMMARY:Snowbirds: Open House/Pub Night
DESCRIPTION:
URL:https://highcountrynews.ca/event/snowbirds-open-house-pub-night/2026-05-14/
LOCATION:Snowbird’s Chalet\, 19 Balsam Avenue\, Bragg Creek\, Alberta\, T0L 0K0\, Canada
CATEGORIES:Bragg Creek
ATTACH;FMTTYPE=image/webp:https://highcountrynews.ca/wp-content/uploads/2026/01/HCN_Snowbirds_Jan2026-scaled.webp
END:VEVENT
BEGIN:VEVENT
DTSTART;TZID=America/Edmonton:20260521T160000
DTEND;TZID=America/Edmonton:20260521T210000
DTSTAMP:20260424T120950
CREATED:20260116T063710Z
LAST-MODIFIED:20260116T063710Z
UID:10003468-1779379200-1779397200@highcountrynews.ca
SUMMARY:Snowbirds: Open House/Pub Night
DESCRIPTION:
URL:https://highcountrynews.ca/event/snowbirds-open-house-pub-night/2026-05-21/
LOCATION:Snowbird’s Chalet\, 19 Balsam Avenue\, Bragg Creek\, Alberta\, T0L 0K0\, Canada
CATEGORIES:Bragg Creek
ATTACH;FMTTYPE=image/webp:https://highcountrynews.ca/wp-content/uploads/2026/01/HCN_Snowbirds_Jan2026-scaled.webp
END:VEVENT
BEGIN:VEVENT
DTSTART;TZID=America/Edmonton:20260528T160000
DTEND;TZID=America/Edmonton:20260528T210000
DTSTAMP:20260424T120950
CREATED:20260116T063710Z
LAST-MODIFIED:20260116T063710Z
UID:10003469-1779984000-1780002000@highcountrynews.ca
SUMMARY:Snowbirds: Open House/Pub Night
DESCRIPTION:
URL:https://highcountrynews.ca/event/snowbirds-open-house-pub-night/2026-05-28/
LOCATION:Snowbird’s Chalet\, 19 Balsam Avenue\, Bragg Creek\, Alberta\, T0L 0K0\, Canada
CATEGORIES:Bragg Creek
ATTACH;FMTTYPE=image/webp:https://highcountrynews.ca/wp-content/uploads/2026/01/HCN_Snowbirds_Jan2026-scaled.webp
END:VEVENT
BEGIN:VEVENT
DTSTART;TZID=America/Edmonton:20260604T160000
DTEND;TZID=America/Edmonton:20260604T210000
DTSTAMP:20260424T120950
CREATED:20260116T063710Z
LAST-MODIFIED:20260116T063710Z
UID:10003470-1780588800-1780606800@highcountrynews.ca
SUMMARY:Snowbirds: Open House/Pub Night
DESCRIPTION:
URL:https://highcountrynews.ca/event/snowbirds-open-house-pub-night/2026-06-04/
LOCATION:Snowbird’s Chalet\, 19 Balsam Avenue\, Bragg Creek\, Alberta\, T0L 0K0\, Canada
CATEGORIES:Bragg Creek
ATTACH;FMTTYPE=image/webp:https://highcountrynews.ca/wp-content/uploads/2026/01/HCN_Snowbirds_Jan2026-scaled.webp
END:VEVENT
BEGIN:VEVENT
DTSTART;TZID=America/Edmonton:20260611T160000
DTEND;TZID=America/Edmonton:20260611T210000
DTSTAMP:20260424T120950
CREATED:20260116T063710Z
LAST-MODIFIED:20260116T063710Z
UID:10003471-1781193600-1781211600@highcountrynews.ca
SUMMARY:Snowbirds: Open House/Pub Night
DESCRIPTION:
URL:https://highcountrynews.ca/event/snowbirds-open-house-pub-night/2026-06-11/
LOCATION:Snowbird’s Chalet\, 19 Balsam Avenue\, Bragg Creek\, Alberta\, T0L 0K0\, Canada
CATEGORIES:Bragg Creek
ATTACH;FMTTYPE=image/webp:https://highcountrynews.ca/wp-content/uploads/2026/01/HCN_Snowbirds_Jan2026-scaled.webp
END:VEVENT
BEGIN:VEVENT
DTSTART;TZID=America/Edmonton:20260618T160000
DTEND;TZID=America/Edmonton:20260618T210000
DTSTAMP:20260424T120950
CREATED:20260116T063710Z
LAST-MODIFIED:20260116T063710Z
UID:10003472-1781798400-1781816400@highcountrynews.ca
SUMMARY:Snowbirds: Open House/Pub Night
DESCRIPTION:
URL:https://highcountrynews.ca/event/snowbirds-open-house-pub-night/2026-06-18/
LOCATION:Snowbird’s Chalet\, 19 Balsam Avenue\, Bragg Creek\, Alberta\, T0L 0K0\, Canada
CATEGORIES:Bragg Creek
ATTACH;FMTTYPE=image/webp:https://highcountrynews.ca/wp-content/uploads/2026/01/HCN_Snowbirds_Jan2026-scaled.webp
END:VEVENT
BEGIN:VEVENT
DTSTART;TZID=America/Edmonton:20260625T160000
DTEND;TZID=America/Edmonton:20260625T210000
DTSTAMP:20260424T120950
CREATED:20260116T063710Z
LAST-MODIFIED:20260116T063710Z
UID:10003473-1782403200-1782421200@highcountrynews.ca
SUMMARY:Snowbirds: Open House/Pub Night
DESCRIPTION:
URL:https://highcountrynews.ca/event/snowbirds-open-house-pub-night/2026-06-25/
LOCATION:Snowbird’s Chalet\, 19 Balsam Avenue\, Bragg Creek\, Alberta\, T0L 0K0\, Canada
CATEGORIES:Bragg Creek
ATTACH;FMTTYPE=image/webp:https://highcountrynews.ca/wp-content/uploads/2026/01/HCN_Snowbirds_Jan2026-scaled.webp
END:VEVENT
BEGIN:VEVENT
DTSTART;TZID=America/Edmonton:20260702T160000
DTEND;TZID=America/Edmonton:20260702T210000
DTSTAMP:20260424T120950
CREATED:20260116T063710Z
LAST-MODIFIED:20260116T063710Z
UID:10003474-1783008000-1783026000@highcountrynews.ca
SUMMARY:Snowbirds: Open House/Pub Night
DESCRIPTION:
URL:https://highcountrynews.ca/event/snowbirds-open-house-pub-night/2026-07-02/
LOCATION:Snowbird’s Chalet\, 19 Balsam Avenue\, Bragg Creek\, Alberta\, T0L 0K0\, Canada
CATEGORIES:Bragg Creek
ATTACH;FMTTYPE=image/webp:https://highcountrynews.ca/wp-content/uploads/2026/01/HCN_Snowbirds_Jan2026-scaled.webp
END:VEVENT
BEGIN:VEVENT
DTSTART;TZID=America/Edmonton:20260709T160000
DTEND;TZID=America/Edmonton:20260709T210000
DTSTAMP:20260424T120950
CREATED:20260116T063710Z
LAST-MODIFIED:20260116T063710Z
UID:10003475-1783612800-1783630800@highcountrynews.ca
SUMMARY:Snowbirds: Open House/Pub Night
DESCRIPTION:
URL:https://highcountrynews.ca/event/snowbirds-open-house-pub-night/2026-07-09/
LOCATION:Snowbird’s Chalet\, 19 Balsam Avenue\, Bragg Creek\, Alberta\, T0L 0K0\, Canada
CATEGORIES:Bragg Creek
ATTACH;FMTTYPE=image/webp:https://highcountrynews.ca/wp-content/uploads/2026/01/HCN_Snowbirds_Jan2026-scaled.webp
END:VEVENT
BEGIN:VEVENT
DTSTART;TZID=America/Edmonton:20260716T160000
DTEND;TZID=America/Edmonton:20260716T210000
DTSTAMP:20260424T120950
CREATED:20260116T063710Z
LAST-MODIFIED:20260116T063710Z
UID:10003476-1784217600-1784235600@highcountrynews.ca
SUMMARY:Snowbirds: Open House/Pub Night
DESCRIPTION:
URL:https://highcountrynews.ca/event/snowbirds-open-house-pub-night/2026-07-16/
LOCATION:Snowbird’s Chalet\, 19 Balsam Avenue\, Bragg Creek\, Alberta\, T0L 0K0\, Canada
CATEGORIES:Bragg Creek
ATTACH;FMTTYPE=image/webp:https://highcountrynews.ca/wp-content/uploads/2026/01/HCN_Snowbirds_Jan2026-scaled.webp
END:VEVENT
BEGIN:VEVENT
DTSTART;TZID=America/Edmonton:20260723T160000
DTEND;TZID=America/Edmonton:20260723T210000
DTSTAMP:20260424T120950
CREATED:20260116T063710Z
LAST-MODIFIED:20260116T063710Z
UID:10003477-1784822400-1784840400@highcountrynews.ca
SUMMARY:Snowbirds: Open House/Pub Night
DESCRIPTION:
URL:https://highcountrynews.ca/event/snowbirds-open-house-pub-night/2026-07-23/
LOCATION:Snowbird’s Chalet\, 19 Balsam Avenue\, Bragg Creek\, Alberta\, T0L 0K0\, Canada
CATEGORIES:Bragg Creek
ATTACH;FMTTYPE=image/webp:https://highcountrynews.ca/wp-content/uploads/2026/01/HCN_Snowbirds_Jan2026-scaled.webp
END:VEVENT
BEGIN:VEVENT
DTSTART;TZID=America/Edmonton:20260730T160000
DTEND;TZID=America/Edmonton:20260730T210000
DTSTAMP:20260424T120950
CREATED:20260116T063710Z
LAST-MODIFIED:20260116T063710Z
UID:10003478-1785427200-1785445200@highcountrynews.ca
SUMMARY:Snowbirds: Open House/Pub Night
DESCRIPTION:
URL:https://highcountrynews.ca/event/snowbirds-open-house-pub-night/2026-07-30/
LOCATION:Snowbird’s Chalet\, 19 Balsam Avenue\, Bragg Creek\, Alberta\, T0L 0K0\, Canada
CATEGORIES:Bragg Creek
ATTACH;FMTTYPE=image/webp:https://highcountrynews.ca/wp-content/uploads/2026/01/HCN_Snowbirds_Jan2026-scaled.webp
END:VEVENT
BEGIN:VEVENT
DTSTART;TZID=America/Edmonton:20260806T160000
DTEND;TZID=America/Edmonton:20260806T210000
DTSTAMP:20260424T120950
CREATED:20260116T063710Z
LAST-MODIFIED:20260116T063710Z
UID:10003479-1786032000-1786050000@highcountrynews.ca
SUMMARY:Snowbirds: Open House/Pub Night
DESCRIPTION:
URL:https://highcountrynews.ca/event/snowbirds-open-house-pub-night/2026-08-06/
LOCATION:Snowbird’s Chalet\, 19 Balsam Avenue\, Bragg Creek\, Alberta\, T0L 0K0\, Canada
CATEGORIES:Bragg Creek
ATTACH;FMTTYPE=image/webp:https://highcountrynews.ca/wp-content/uploads/2026/01/HCN_Snowbirds_Jan2026-scaled.webp
END:VEVENT
BEGIN:VEVENT
DTSTART;TZID=America/Edmonton:20260813T160000
DTEND;TZID=America/Edmonton:20260813T210000
DTSTAMP:20260424T120950
CREATED:20260116T063710Z
LAST-MODIFIED:20260116T063710Z
UID:10003480-1786636800-1786654800@highcountrynews.ca
SUMMARY:Snowbirds: Open House/Pub Night
DESCRIPTION:
URL:https://highcountrynews.ca/event/snowbirds-open-house-pub-night/2026-08-13/
LOCATION:Snowbird’s Chalet\, 19 Balsam Avenue\, Bragg Creek\, Alberta\, T0L 0K0\, Canada
CATEGORIES:Bragg Creek
ATTACH;FMTTYPE=image/webp:https://highcountrynews.ca/wp-content/uploads/2026/01/HCN_Snowbirds_Jan2026-scaled.webp
END:VEVENT
BEGIN:VEVENT
DTSTART;TZID=America/Edmonton:20260820T160000
DTEND;TZID=America/Edmonton:20260820T210000
DTSTAMP:20260424T120950
CREATED:20260116T063710Z
LAST-MODIFIED:20260116T063710Z
UID:10003481-1787241600-1787259600@highcountrynews.ca
SUMMARY:Snowbirds: Open House/Pub Night
DESCRIPTION:
URL:https://highcountrynews.ca/event/snowbirds-open-house-pub-night/2026-08-20/
LOCATION:Snowbird’s Chalet\, 19 Balsam Avenue\, Bragg Creek\, Alberta\, T0L 0K0\, Canada
CATEGORIES:Bragg Creek
ATTACH;FMTTYPE=image/webp:https://highcountrynews.ca/wp-content/uploads/2026/01/HCN_Snowbirds_Jan2026-scaled.webp
END:VEVENT
BEGIN:VEVENT
DTSTART;TZID=America/Edmonton:20260827T160000
DTEND;TZID=America/Edmonton:20260827T210000
DTSTAMP:20260424T120950
CREATED:20260116T063710Z
LAST-MODIFIED:20260116T063710Z
UID:10003482-1787846400-1787864400@highcountrynews.ca
SUMMARY:Snowbirds: Open House/Pub Night
DESCRIPTION:
URL:https://highcountrynews.ca/event/snowbirds-open-house-pub-night/2026-08-27/
LOCATION:Snowbird’s Chalet\, 19 Balsam Avenue\, Bragg Creek\, Alberta\, T0L 0K0\, Canada
CATEGORIES:Bragg Creek
ATTACH;FMTTYPE=image/webp:https://highcountrynews.ca/wp-content/uploads/2026/01/HCN_Snowbirds_Jan2026-scaled.webp
END:VEVENT
BEGIN:VEVENT
DTSTART;TZID=America/Edmonton:20260903T160000
DTEND;TZID=America/Edmonton:20260903T210000
DTSTAMP:20260424T120950
CREATED:20260116T063710Z
LAST-MODIFIED:20260116T063710Z
UID:10003483-1788451200-1788469200@highcountrynews.ca
SUMMARY:Snowbirds: Open House/Pub Night
DESCRIPTION:
URL:https://highcountrynews.ca/event/snowbirds-open-house-pub-night/2026-09-03/
LOCATION:Snowbird’s Chalet\, 19 Balsam Avenue\, Bragg Creek\, Alberta\, T0L 0K0\, Canada
CATEGORIES:Bragg Creek
ATTACH;FMTTYPE=image/webp:https://highcountrynews.ca/wp-content/uploads/2026/01/HCN_Snowbirds_Jan2026-scaled.webp
END:VEVENT
BEGIN:VEVENT
DTSTART;TZID=America/Edmonton:20260910T160000
DTEND;TZID=America/Edmonton:20260910T210000
DTSTAMP:20260424T120950
CREATED:20260116T063710Z
LAST-MODIFIED:20260116T063710Z
UID:10003484-1789056000-1789074000@highcountrynews.ca
SUMMARY:Snowbirds: Open House/Pub Night
DESCRIPTION:
URL:https://highcountrynews.ca/event/snowbirds-open-house-pub-night/2026-09-10/
LOCATION:Snowbird’s Chalet\, 19 Balsam Avenue\, Bragg Creek\, Alberta\, T0L 0K0\, Canada
CATEGORIES:Bragg Creek
ATTACH;FMTTYPE=image/webp:https://highcountrynews.ca/wp-content/uploads/2026/01/HCN_Snowbirds_Jan2026-scaled.webp
END:VEVENT
BEGIN:VEVENT
DTSTART;TZID=America/Edmonton:20260917T160000
DTEND;TZID=America/Edmonton:20260917T210000
DTSTAMP:20260424T120950
CREATED:20260116T063710Z
LAST-MODIFIED:20260116T063710Z
UID:10003485-1789660800-1789678800@highcountrynews.ca
SUMMARY:Snowbirds: Open House/Pub Night
DESCRIPTION:
URL:https://highcountrynews.ca/event/snowbirds-open-house-pub-night/2026-09-17/
LOCATION:Snowbird’s Chalet\, 19 Balsam Avenue\, Bragg Creek\, Alberta\, T0L 0K0\, Canada
CATEGORIES:Bragg Creek
ATTACH;FMTTYPE=image/webp:https://highcountrynews.ca/wp-content/uploads/2026/01/HCN_Snowbirds_Jan2026-scaled.webp
END:VEVENT
BEGIN:VEVENT
DTSTART;TZID=America/Edmonton:20260924T160000
DTEND;TZID=America/Edmonton:20260924T210000
DTSTAMP:20260424T120950
CREATED:20260116T063710Z
LAST-MODIFIED:20260116T063710Z
UID:10003486-1790265600-1790283600@highcountrynews.ca
SUMMARY:Snowbirds: Open House/Pub Night
DESCRIPTION:
URL:https://highcountrynews.ca/event/snowbirds-open-house-pub-night/2026-09-24/
LOCATION:Snowbird’s Chalet\, 19 Balsam Avenue\, Bragg Creek\, Alberta\, T0L 0K0\, Canada
CATEGORIES:Bragg Creek
ATTACH;FMTTYPE=image/webp:https://highcountrynews.ca/wp-content/uploads/2026/01/HCN_Snowbirds_Jan2026-scaled.webp
END:VEVENT
BEGIN:VEVENT
DTSTART;TZID=America/Edmonton:20261001T160000
DTEND;TZID=America/Edmonton:20261001T210000
DTSTAMP:20260424T120950
CREATED:20260116T063710Z
LAST-MODIFIED:20260116T063710Z
UID:10003487-1790870400-1790888400@highcountrynews.ca
SUMMARY:Snowbirds: Open House/Pub Night
DESCRIPTION:
URL:https://highcountrynews.ca/event/snowbirds-open-house-pub-night/2026-10-01/
LOCATION:Snowbird’s Chalet\, 19 Balsam Avenue\, Bragg Creek\, Alberta\, T0L 0K0\, Canada
CATEGORIES:Bragg Creek
ATTACH;FMTTYPE=image/webp:https://highcountrynews.ca/wp-content/uploads/2026/01/HCN_Snowbirds_Jan2026-scaled.webp
END:VEVENT
BEGIN:VEVENT
DTSTART;TZID=America/Edmonton:20261008T160000
DTEND;TZID=America/Edmonton:20261008T210000
DTSTAMP:20260424T120950
CREATED:20260116T063710Z
LAST-MODIFIED:20260116T063710Z
UID:10003488-1791475200-1791493200@highcountrynews.ca
SUMMARY:Snowbirds: Open House/Pub Night
DESCRIPTION:
URL:https://highcountrynews.ca/event/snowbirds-open-house-pub-night/2026-10-08/
LOCATION:Snowbird’s Chalet\, 19 Balsam Avenue\, Bragg Creek\, Alberta\, T0L 0K0\, Canada
CATEGORIES:Bragg Creek
ATTACH;FMTTYPE=image/webp:https://highcountrynews.ca/wp-content/uploads/2026/01/HCN_Snowbirds_Jan2026-scaled.webp
END:VEVENT
BEGIN:VEVENT
DTSTART;TZID=America/Edmonton:20261015T160000
DTEND;TZID=America/Edmonton:20261015T210000
DTSTAMP:20260424T120950
CREATED:20260116T063710Z
LAST-MODIFIED:20260116T063710Z
UID:10003489-1792080000-1792098000@highcountrynews.ca
SUMMARY:Snowbirds: Open House/Pub Night
DESCRIPTION:
URL:https://highcountrynews.ca/event/snowbirds-open-house-pub-night/2026-10-15/
LOCATION:Snowbird’s Chalet\, 19 Balsam Avenue\, Bragg Creek\, Alberta\, T0L 0K0\, Canada
CATEGORIES:Bragg Creek
ATTACH;FMTTYPE=image/webp:https://highcountrynews.ca/wp-content/uploads/2026/01/HCN_Snowbirds_Jan2026-scaled.webp
END:VEVENT
BEGIN:VEVENT
DTSTART;TZID=America/Edmonton:20261022T160000
DTEND;TZID=America/Edmonton:20261022T210000
DTSTAMP:20260424T120950
CREATED:20260116T063710Z
LAST-MODIFIED:20260116T063710Z
UID:10003490-1792684800-1792702800@highcountrynews.ca
SUMMARY:Snowbirds: Open House/Pub Night
DESCRIPTION:
URL:https://highcountrynews.ca/event/snowbirds-open-house-pub-night/2026-10-22/
LOCATION:Snowbird’s Chalet\, 19 Balsam Avenue\, Bragg Creek\, Alberta\, T0L 0K0\, Canada
CATEGORIES:Bragg Creek
ATTACH;FMTTYPE=image/webp:https://highcountrynews.ca/wp-content/uploads/2026/01/HCN_Snowbirds_Jan2026-scaled.webp
END:VEVENT
BEGIN:VEVENT
DTSTART;TZID=America/Edmonton:20261029T160000
DTEND;TZID=America/Edmonton:20261029T210000
DTSTAMP:20260424T120950
CREATED:20260116T063710Z
LAST-MODIFIED:20260116T063710Z
UID:10003491-1793289600-1793307600@highcountrynews.ca
SUMMARY:Snowbirds: Open House/Pub Night
DESCRIPTION:
URL:https://highcountrynews.ca/event/snowbirds-open-house-pub-night/2026-10-29/
LOCATION:Snowbird’s Chalet\, 19 Balsam Avenue\, Bragg Creek\, Alberta\, T0L 0K0\, Canada
CATEGORIES:Bragg Creek
ATTACH;FMTTYPE=image/webp:https://highcountrynews.ca/wp-content/uploads/2026/01/HCN_Snowbirds_Jan2026-scaled.webp
END:VEVENT
BEGIN:VEVENT
DTSTART;TZID=America/Edmonton:20261105T160000
DTEND;TZID=America/Edmonton:20261105T210000
DTSTAMP:20260424T120950
CREATED:20260116T063710Z
LAST-MODIFIED:20260116T063710Z
UID:10003492-1793894400-1793912400@highcountrynews.ca
SUMMARY:Snowbirds: Open House/Pub Night
DESCRIPTION:
URL:https://highcountrynews.ca/event/snowbirds-open-house-pub-night/2026-11-05/
LOCATION:Snowbird’s Chalet\, 19 Balsam Avenue\, Bragg Creek\, Alberta\, T0L 0K0\, Canada
CATEGORIES:Bragg Creek
ATTACH;FMTTYPE=image/webp:https://highcountrynews.ca/wp-content/uploads/2026/01/HCN_Snowbirds_Jan2026-scaled.webp
END:VEVENT
BEGIN:VEVENT
DTSTART;TZID=America/Edmonton:20261112T160000
DTEND;TZID=America/Edmonton:20261112T210000
DTSTAMP:20260424T120950
CREATED:20260116T063710Z
LAST-MODIFIED:20260116T063710Z
UID:10003493-1794499200-1794517200@highcountrynews.ca
SUMMARY:Snowbirds: Open House/Pub Night
DESCRIPTION:
URL:https://highcountrynews.ca/event/snowbirds-open-house-pub-night/2026-11-12/
LOCATION:Snowbird’s Chalet\, 19 Balsam Avenue\, Bragg Creek\, Alberta\, T0L 0K0\, Canada
CATEGORIES:Bragg Creek
ATTACH;FMTTYPE=image/webp:https://highcountrynews.ca/wp-content/uploads/2026/01/HCN_Snowbirds_Jan2026-scaled.webp
END:VEVENT
BEGIN:VEVENT
DTSTART;TZID=America/Edmonton:20261119T160000
DTEND;TZID=America/Edmonton:20261119T210000
DTSTAMP:20260424T120950
CREATED:20260116T063710Z
LAST-MODIFIED:20260116T063710Z
UID:10003494-1795104000-1795122000@highcountrynews.ca
SUMMARY:Snowbirds: Open House/Pub Night
DESCRIPTION:
URL:https://highcountrynews.ca/event/snowbirds-open-house-pub-night/2026-11-19/
LOCATION:Snowbird’s Chalet\, 19 Balsam Avenue\, Bragg Creek\, Alberta\, T0L 0K0\, Canada
CATEGORIES:Bragg Creek
ATTACH;FMTTYPE=image/webp:https://highcountrynews.ca/wp-content/uploads/2026/01/HCN_Snowbirds_Jan2026-scaled.webp
END:VEVENT
END:VCALENDAR