BEGIN:VCALENDAR
VERSION:2.0
PRODID:-//High Country News - ECPv6.15.18//NONSGML v1.0//EN
CALSCALE:GREGORIAN
METHOD:PUBLISH
X-WR-CALNAME:High Country News
X-ORIGINAL-URL:https://highcountrynews.ca
X-WR-CALDESC:Events for High Country News
REFRESH-INTERVAL;VALUE=DURATION:PT1H
X-Robots-Tag:noindex
X-PUBLISHED-TTL:PT1H
BEGIN:VTIMEZONE
TZID:America/Edmonton
BEGIN:DAYLIGHT
TZOFFSETFROM:-0700
TZOFFSETTO:-0600
TZNAME:MDT
DTSTART:20250309T090000
END:DAYLIGHT
BEGIN:STANDARD
TZOFFSETFROM:-0600
TZOFFSETTO:-0700
TZNAME:MST
DTSTART:20251102T080000
END:STANDARD
BEGIN:DAYLIGHT
TZOFFSETFROM:-0700
TZOFFSETTO:-0600
TZNAME:MDT
DTSTART:20260308T090000
END:DAYLIGHT
BEGIN:STANDARD
TZOFFSETFROM:-0600
TZOFFSETTO:-0700
TZNAME:MST
DTSTART:20261101T080000
END:STANDARD
BEGIN:DAYLIGHT
TZOFFSETFROM:-0700
TZOFFSETTO:-0600
TZNAME:MDT
DTSTART:20270314T090000
END:DAYLIGHT
BEGIN:STANDARD
TZOFFSETFROM:-0600
TZOFFSETTO:-0700
TZNAME:MST
DTSTART:20271107T080000
END:STANDARD
END:VTIMEZONE
BEGIN:VEVENT
DTSTART;VALUE=DATE:20260424
DTEND;VALUE=DATE:20260425
DTSTAMP:20260424T102804
CREATED:20260121T230912Z
LAST-MODIFIED:20260121T231322Z
UID:10003579-1776988800-1777075199@highcountrynews.ca
SUMMARY:Taste of Bragg Creek
DESCRIPTION:Save the Date\nGet ready for a delicious community event celebrating local flavour! 🍽️✨\nTaste of Bragg Creek is your chance to sample and try a variety of foods\, connect with neighbours\, and enjoy an evening of great bites and good company. More info coming soon!
URL:https://highcountrynews.ca/event/taste-of-bragg-creek/
LOCATION:Alberta
CATEGORIES:Bragg Creek
ATTACH;FMTTYPE=image/webp:https://highcountrynews.ca/wp-content/uploads/2026/01/Taste-of-Bragg-Creek-2026.webp
ORGANIZER;CN="Bragg Creek Community Association":MAILTO:info@braggcreekca.com
END:VEVENT
BEGIN:VEVENT
DTSTART;TZID=America/Edmonton:20260424T131500
DTEND;TZID=America/Edmonton:20260424T131500
DTSTAMP:20260424T102804
CREATED:20260116T064648Z
LAST-MODIFIED:20260116T064648Z
UID:10003539-1777036500-1777036500@highcountrynews.ca
SUMMARY:Snowbirds: Open Mic Night
DESCRIPTION:Fridays \n1:15pm: Exercise Class – 45 minutes bring your own dumbells or borrow newcomers welcome\, drop-in $10/class
URL:https://highcountrynews.ca/event/snowbirds-open-mic-night-2/2026-04-24/
LOCATION:Snowbird’s Chalet\, 19 Balsam Avenue\, Bragg Creek\, Alberta\, T0L 0K0\, Canada
CATEGORIES:Bragg Creek
ATTACH;FMTTYPE=image/webp:https://highcountrynews.ca/wp-content/uploads/2026/01/HCN_Snowbirds_Jan2026-scaled.webp
END:VEVENT
BEGIN:VEVENT
DTSTART;TZID=America/Edmonton:20260424T190000
DTEND;TZID=America/Edmonton:20260424T190000
DTSTAMP:20260424T102804
CREATED:20260407T012645Z
LAST-MODIFIED:20260407T012645Z
UID:10003599-1777057200-1777057200@highcountrynews.ca
SUMMARY:Community Dance and Games Night at Red Deer Lake United Church
DESCRIPTION:COMMUNITY DANCE AND GAMES NIGHT – April 24\, 7pm\nGet ready to move\, mingle\, and enjoy an evening of music\, dancing\, and community at Red Deer Lake United Church! Tickets available online\, after Church or at the door.
URL:https://highcountrynews.ca/event/community-dance-and-games-night-at-red-deer-lake-united-church/
LOCATION:Red Deer Lake United Church\, 96187 Spruce Meadows Green SW\, Calgary\, AB\, T1S 2R9\, Canada
CATEGORIES:Community
END:VEVENT
BEGIN:VEVENT
DTSTART;TZID=America/Edmonton:20260425T193000
DTEND;TZID=America/Edmonton:20260425T193000
DTSTAMP:20260424T102804
CREATED:20260407T010453Z
LAST-MODIFIED:20260407T010851Z
UID:10003598-1777145400-1777145400@highcountrynews.ca
SUMMARY:Beneath the Arch presents Scott Nolan and Band
DESCRIPTION:Beneath the Arch Concert series presents Scott Nolan\, an amazing storyteller and a man of many instruments on April 25 at the Flare and Derrick. The Arch’s annual bursary is also available to apply in April. This bursary enables young performing artists to enhance their experiences and skills. It is available to grades 4-12 students who reside in or attend school in the Foothills. For full details\, or to get tickets for the Nolan show\, please visit beneaththearch.ca.
URL:https://highcountrynews.ca/event/beneath-the-arch-presents-scott-nolan-and-band/
LOCATION:Flare ‘n Derrick Community Hall\, 129 Main Street NE\, Turner Valley\, Canada
CATEGORIES:Arts & Entertainment
ATTACH;FMTTYPE=image/webp:https://highcountrynews.ca/wp-content/uploads/2026/04/Scott-Nolan-Beneath-the-Arch.webp
END:VEVENT
BEGIN:VEVENT
DTSTART;TZID=America/Edmonton:20260428T130000
DTEND;TZID=America/Edmonton:20260428T160000
DTSTAMP:20260424T102804
CREATED:20260116T063210Z
LAST-MODIFIED:20260116T063243Z
UID:10003363-1777381200-1777392000@highcountrynews.ca
SUMMARY:Snowbirds: Ladies Group & Snooker
DESCRIPTION:Diamond Valley Singers Spring Concert\nSun\, April 12 | 2 PM | Sheep River Library\nEnjoy a lively afternoon of favourites\, classics\, and Canadian folk songs. Free admission\, donations welcome.
URL:https://highcountrynews.ca/event/ladies-group-snooker/2026-04-28/
LOCATION:Snowbird’s Chalet\, 19 Balsam Avenue\, Bragg Creek\, Alberta\, T0L 0K0\, Canada
CATEGORIES:Bragg Creek
ATTACH;FMTTYPE=image/webp:https://highcountrynews.ca/wp-content/uploads/2026/01/HCN_Snowbirds_Jan2026-scaled.webp
END:VEVENT
BEGIN:VEVENT
DTSTART;TZID=America/Edmonton:20260430T130000
DTEND;TZID=America/Edmonton:20260430T160000
DTSTAMP:20260424T102804
CREATED:20260116T063530Z
LAST-MODIFIED:20260116T063530Z
UID:10003414-1777554000-1777564800@highcountrynews.ca
SUMMARY:Snowbirds: Snooker
DESCRIPTION:Diamond Valley Singers Spring Concert\nSun\, April 12 | 2 PM | Sheep River Library\nEnjoy a lively afternoon of favourites\, classics\, and Canadian folk songs. Free admission\, donations welcome.
URL:https://highcountrynews.ca/event/snowbirds-snooker/2026-04-30/
LOCATION:Snowbird’s Chalet\, 19 Balsam Avenue\, Bragg Creek\, Alberta\, T0L 0K0\, Canada
CATEGORIES:Bragg Creek
ATTACH;FMTTYPE=image/webp:https://highcountrynews.ca/wp-content/uploads/2026/01/HCN_Snowbirds_Jan2026-scaled.webp
END:VEVENT
BEGIN:VEVENT
DTSTART;TZID=America/Edmonton:20260430T160000
DTEND;TZID=America/Edmonton:20260430T210000
DTSTAMP:20260424T102804
CREATED:20260116T063710Z
LAST-MODIFIED:20260116T063710Z
UID:10003465-1777564800-1777582800@highcountrynews.ca
SUMMARY:Snowbirds: Open House/Pub Night
DESCRIPTION:Diamond Valley Singers Spring Concert\nSun\, April 12 | 2 PM | Sheep River Library\nEnjoy a lively afternoon of favourites\, classics\, and Canadian folk songs. Free admission\, donations welcome.
URL:https://highcountrynews.ca/event/snowbirds-open-house-pub-night/2026-04-30/
LOCATION:Snowbird’s Chalet\, 19 Balsam Avenue\, Bragg Creek\, Alberta\, T0L 0K0\, Canada
CATEGORIES:Bragg Creek
ATTACH;FMTTYPE=image/webp:https://highcountrynews.ca/wp-content/uploads/2026/01/HCN_Snowbirds_Jan2026-scaled.webp
END:VEVENT
END:VCALENDAR