BEGIN:VCALENDAR
VERSION:2.0
PRODID:-//High Country News - ECPv6.15.18//NONSGML v1.0//EN
CALSCALE:GREGORIAN
METHOD:PUBLISH
X-ORIGINAL-URL:https://highcountrynews.ca
X-WR-CALDESC:Events for High Country News
REFRESH-INTERVAL;VALUE=DURATION:PT1H
X-Robots-Tag:noindex
X-PUBLISHED-TTL:PT1H
BEGIN:VTIMEZONE
TZID:America/Edmonton
BEGIN:DAYLIGHT
TZOFFSETFROM:-0700
TZOFFSETTO:-0600
TZNAME:MDT
DTSTART:20250309T090000
END:DAYLIGHT
BEGIN:STANDARD
TZOFFSETFROM:-0600
TZOFFSETTO:-0700
TZNAME:MST
DTSTART:20251102T080000
END:STANDARD
BEGIN:DAYLIGHT
TZOFFSETFROM:-0700
TZOFFSETTO:-0600
TZNAME:MDT
DTSTART:20260308T090000
END:DAYLIGHT
BEGIN:STANDARD
TZOFFSETFROM:-0600
TZOFFSETTO:-0700
TZNAME:MST
DTSTART:20261101T080000
END:STANDARD
BEGIN:DAYLIGHT
TZOFFSETFROM:-0700
TZOFFSETTO:-0600
TZNAME:MDT
DTSTART:20270314T090000
END:DAYLIGHT
BEGIN:STANDARD
TZOFFSETFROM:-0600
TZOFFSETTO:-0700
TZNAME:MST
DTSTART:20271107T080000
END:STANDARD
END:VTIMEZONE
BEGIN:VEVENT
DTSTART;VALUE=DATE:20260130
DTEND;VALUE=DATE:20260202
DTSTAMP:20260424T170036
CREATED:20260122T021647Z
LAST-MODIFIED:20260122T022258Z
UID:10003580-1769731200-1769990399@highcountrynews.ca
SUMMARY:4th Annual Foothills Freeze Ringette Tournament
DESCRIPTION:Our 4th Annual Foothills Freeze Ringette Tournament hosts 28 teams\, 360+ athletes\, managers\, coaches and families from Alberta and Saskatchewan at Okotoks Rec Center Piper Arena (Tournament HQ)\, Highriver Bob Snodgrass Arena and Okotoks Viking Gold Arena Jan 30-31 for the round robin games and Feb 1st for the medal games across 4 age groups and 7 playing levels. \nFoothills Ringette represents all of Foothills County and Okotoks\, High River\, Diamond Valley. All the tournament information (including divisions\, schedule\, and contacts) is available at https://www.foothillsringette.com/content/2026-foothills-freeze-information – we encourage folks within the community to come watch the the tournament games for free\, enjoy a couple local vendors onsite (Pressed YYC and Ranchers Creamery) participate in the silent auction\, plinko and raffles at the Tournament Hq – Piper Arena. There is also a matinee coaches game Saturday at 2:00PM at Piper Arena which was a full house last year! \nCome enjoy watching ringette with Foothills Ringette Association’s Freeze Tournament – featuring a U16 team for the first time. We are also looking for new players to join in our Activestart and U-10/12 Programs for which we will be hosting free Come Try Ringette sessions with equipment supplied 5 times between Mar-Sep 2026.
URL:https://highcountrynews.ca/event/4th-annual-foothills-freeze-ringette-tournament/
LOCATION:Alberta
CATEGORIES:Okotoks
ATTACH;FMTTYPE=image/webp:https://highcountrynews.ca/wp-content/uploads/2026/01/2026-tournament-website-header.webp
END:VEVENT
BEGIN:VEVENT
DTSTART;TZID=America/Edmonton:20260203T130000
DTEND;TZID=America/Edmonton:20260203T160000
DTSTAMP:20260424T170036
CREATED:20260116T063210Z
LAST-MODIFIED:20260116T063243Z
UID:10003351-1770123600-1770134400@highcountrynews.ca
SUMMARY:Snowbirds: Ladies Group & Snooker
DESCRIPTION:Diamond Valley Singers Spring Concert\nSun\, April 12 | 2 PM | Sheep River Library\nEnjoy a lively afternoon of favourites\, classics\, and Canadian folk songs. Free admission\, donations welcome.
URL:https://highcountrynews.ca/event/ladies-group-snooker/2026-02-03/
LOCATION:Snowbird’s Chalet\, 19 Balsam Avenue\, Bragg Creek\, Alberta\, T0L 0K0\, Canada
CATEGORIES:Bragg Creek
ATTACH;FMTTYPE=image/webp:https://highcountrynews.ca/wp-content/uploads/2026/01/HCN_Snowbirds_Jan2026-scaled.webp
END:VEVENT
BEGIN:VEVENT
DTSTART;TZID=America/Edmonton:20260204T130000
DTEND;TZID=America/Edmonton:20260204T130000
DTSTAMP:20260424T170036
CREATED:20260116T063859Z
LAST-MODIFIED:20260116T063859Z
UID:10003502-1770210000-1770210000@highcountrynews.ca
SUMMARY:Snowbirds: Book Club
DESCRIPTION:First Wednesday each month \n1:00pm Book Club – bring a book to share with the group
URL:https://highcountrynews.ca/event/snowbirds-book-club/2026-02-04/
LOCATION:Snowbird’s Chalet\, 19 Balsam Avenue\, Bragg Creek\, Alberta\, T0L 0K0\, Canada
CATEGORIES:Bragg Creek
ATTACH;FMTTYPE=image/webp:https://highcountrynews.ca/wp-content/uploads/2026/01/HCN_Snowbirds_Jan2026-scaled.webp
END:VEVENT
BEGIN:VEVENT
DTSTART;TZID=America/Edmonton:20260205T130000
DTEND;TZID=America/Edmonton:20260205T160000
DTSTAMP:20260424T170036
CREATED:20260116T063530Z
LAST-MODIFIED:20260116T063530Z
UID:10003402-1770296400-1770307200@highcountrynews.ca
SUMMARY:Snowbirds: Snooker
DESCRIPTION:Diamond Valley Singers Spring Concert\nSun\, April 12 | 2 PM | Sheep River Library\nEnjoy a lively afternoon of favourites\, classics\, and Canadian folk songs. Free admission\, donations welcome.
URL:https://highcountrynews.ca/event/snowbirds-snooker/2026-02-05/
LOCATION:Snowbird’s Chalet\, 19 Balsam Avenue\, Bragg Creek\, Alberta\, T0L 0K0\, Canada
CATEGORIES:Bragg Creek
ATTACH;FMTTYPE=image/webp:https://highcountrynews.ca/wp-content/uploads/2026/01/HCN_Snowbirds_Jan2026-scaled.webp
END:VEVENT
BEGIN:VEVENT
DTSTART;TZID=America/Edmonton:20260205T160000
DTEND;TZID=America/Edmonton:20260205T210000
DTSTAMP:20260424T170036
CREATED:20260116T063710Z
LAST-MODIFIED:20260116T063710Z
UID:10003453-1770307200-1770325200@highcountrynews.ca
SUMMARY:Snowbirds: Open House/Pub Night
DESCRIPTION:Diamond Valley Singers Spring Concert\nSun\, April 12 | 2 PM | Sheep River Library\nEnjoy a lively afternoon of favourites\, classics\, and Canadian folk songs. Free admission\, donations welcome.
URL:https://highcountrynews.ca/event/snowbirds-open-house-pub-night/2026-02-05/
LOCATION:Snowbird’s Chalet\, 19 Balsam Avenue\, Bragg Creek\, Alberta\, T0L 0K0\, Canada
CATEGORIES:Bragg Creek
ATTACH;FMTTYPE=image/webp:https://highcountrynews.ca/wp-content/uploads/2026/01/HCN_Snowbirds_Jan2026-scaled.webp
END:VEVENT
BEGIN:VEVENT
DTSTART;TZID=America/Edmonton:20260206T131500
DTEND;TZID=America/Edmonton:20260206T131500
DTSTAMP:20260424T170036
CREATED:20260116T064648Z
LAST-MODIFIED:20260116T064648Z
UID:10003528-1770383700-1770383700@highcountrynews.ca
SUMMARY:Snowbirds: Open Mic Night
DESCRIPTION:Fridays \n1:15pm: Exercise Class – 45 minutes bring your own dumbells or borrow newcomers welcome\, drop-in $10/class
URL:https://highcountrynews.ca/event/snowbirds-open-mic-night-2/2026-02-06/
LOCATION:Snowbird’s Chalet\, 19 Balsam Avenue\, Bragg Creek\, Alberta\, T0L 0K0\, Canada
CATEGORIES:Bragg Creek
ATTACH;FMTTYPE=image/webp:https://highcountrynews.ca/wp-content/uploads/2026/01/HCN_Snowbirds_Jan2026-scaled.webp
END:VEVENT
BEGIN:VEVENT
DTSTART;VALUE=DATE:20260207
DTEND;VALUE=DATE:20260208
DTSTAMP:20260424T170036
CREATED:20260203T221359Z
LAST-MODIFIED:20260203T221359Z
UID:10003583-1770422400-1770508799@highcountrynews.ca
SUMMARY:BCPA Presents Shaye's Lounge Dinner Concert
DESCRIPTION:SHAYE ZADRAVEC RETURNS TO BRAGG CREEK SNOWBIRDS LOUNGE ON FEBRUARY 7 2026\nShaye Zadravec is returning to Bragg Creek for a dinner concert at The Bragg Creek Snowbirds Lounge on Friday February 7\, playing with Tim Leacock on guitar\,Garth Kennedy on keys\, and Sydney Zadravec on bass.. Shaye introduced the Bragg Creek Performing Arts Dinner Concert Series in 2023 to a sold out audience. A popular\, Calgary based performer her mello tones appeal to a broad based audience. Tickets at braggcreekperformingarts.com.
URL:https://highcountrynews.ca/event/bcpa-presents-shayes-lounge-dinner-concert/
LOCATION:Snowbird’s Chalet\, 19 Balsam Avenue\, Bragg Creek\, Alberta\, T0L 0K0\, Canada
CATEGORIES:Arts & Entertainment,Bragg Creek
ATTACH;FMTTYPE=image/webp:https://highcountrynews.ca/wp-content/uploads/2026/02/Shayes-Lounge-Feb26.webp
END:VEVENT
BEGIN:VEVENT
DTSTART;TZID=America/Edmonton:20260207T190000
DTEND;TZID=America/Edmonton:20260207T190000
DTSTAMP:20260424T170036
CREATED:20251203T070105Z
LAST-MODIFIED:20260203T205204Z
UID:10003336-1770490800-1770490800@highcountrynews.ca
SUMMARY:New Year's Masquerade Bash
DESCRIPTION:We had to postpone the New Year’s Eve Masquerade Bash. Due to the last-minute change\, we were unable to update our January Issue in the High Country News. So…. GREAT NEWS… you haven’t missed the fun! The event is going to be better than originally planned…there are now over $1700 in prizes to be won!!! Don’t miss out on some serious mid-winter fun! It takes a lot of volunteer hours to organize these events\, and local businesses have blown us away with their generosity\, so please come out and show your support! \nSaturday\, February 7th @ 7:00pm \nMardi Gras Masquerade Dance @ Square Butte Hall featuring Alicyn Campbell \n18+ adult event \nHors D’oeuvres + Drinks + Dancing + AMAZING PRIZES!!! \nLet your creativity shine and enjoy some playful anonymity. From a simple mask to lavish attire and extravagant details\, there’s no limit to what this night will entail! The “Best Ladies Mask/attire” prize\, valued at $400 and is sponsored by SpineSurfer.ca\, Bohemia\, Little Black Dress\, Bluerock Gallery\, Luxe Nail Bar\, Sweet Briar\, and Chocolate by Cotton. The “Best Gentleman’s Mask/attire” prize valued at over $600 is sponsored by Rona\, Marshall’s Country Store\, Diamond Valley Barber Co. & the Black Diamond Elk Ranch. The “Best Couple” prize includes a generous sleigh ride donation from Anchor D Guiding & Outfitting\, plus contributions from Bohemia\, Westwood\, and Eco Liquor. Plus\, there is a fantastic door prize donated by Eau Claire Distillery and a 50/50 cash prize. \nWIN YOUR TICKET – Purchase tickets online and be entered for a chance to win your ticket! (Plus\, when you buy your tickets in advance\, it helps us plan a more successful event) \nMasks are optional\, and basic ones will be available at the door\, but darn it\, let’s have some FUN!!! \nFor complete prize details & tickets visit\nwww.squarebuttehall.com\ninfo@squarebuttehall.com\nFacebook @squarebuttehall
URL:https://highcountrynews.ca/event/new-years-masquerade-bash/
LOCATION:Square Butte Community Hall\, Canada
CATEGORIES:General
ORGANIZER;CN="Square Butte Community Association":MAILTO:sq.butte.comm.assoc@gmail.com
END:VEVENT
BEGIN:VEVENT
DTSTART;TZID=America/Edmonton:20260210T130000
DTEND;TZID=America/Edmonton:20260210T160000
DTSTAMP:20260424T170036
CREATED:20260116T063210Z
LAST-MODIFIED:20260116T063243Z
UID:10003352-1770728400-1770739200@highcountrynews.ca
SUMMARY:Snowbirds: Ladies Group & Snooker
DESCRIPTION:Diamond Valley Singers Spring Concert\nSun\, April 12 | 2 PM | Sheep River Library\nEnjoy a lively afternoon of favourites\, classics\, and Canadian folk songs. Free admission\, donations welcome.
URL:https://highcountrynews.ca/event/ladies-group-snooker/2026-02-10/
LOCATION:Snowbird’s Chalet\, 19 Balsam Avenue\, Bragg Creek\, Alberta\, T0L 0K0\, Canada
CATEGORIES:Bragg Creek
ATTACH;FMTTYPE=image/webp:https://highcountrynews.ca/wp-content/uploads/2026/01/HCN_Snowbirds_Jan2026-scaled.webp
END:VEVENT
BEGIN:VEVENT
DTSTART;TZID=America/Edmonton:20260212T130000
DTEND;TZID=America/Edmonton:20260212T160000
DTSTAMP:20260424T170036
CREATED:20260116T063530Z
LAST-MODIFIED:20260116T063530Z
UID:10003403-1770901200-1770912000@highcountrynews.ca
SUMMARY:Snowbirds: Snooker
DESCRIPTION:Diamond Valley Singers Spring Concert\nSun\, April 12 | 2 PM | Sheep River Library\nEnjoy a lively afternoon of favourites\, classics\, and Canadian folk songs. Free admission\, donations welcome.
URL:https://highcountrynews.ca/event/snowbirds-snooker/2026-02-12/
LOCATION:Snowbird’s Chalet\, 19 Balsam Avenue\, Bragg Creek\, Alberta\, T0L 0K0\, Canada
CATEGORIES:Bragg Creek
ATTACH;FMTTYPE=image/webp:https://highcountrynews.ca/wp-content/uploads/2026/01/HCN_Snowbirds_Jan2026-scaled.webp
END:VEVENT
BEGIN:VEVENT
DTSTART;TZID=America/Edmonton:20260212T160000
DTEND;TZID=America/Edmonton:20260212T210000
DTSTAMP:20260424T170036
CREATED:20260116T063710Z
LAST-MODIFIED:20260116T063710Z
UID:10003454-1770912000-1770930000@highcountrynews.ca
SUMMARY:Snowbirds: Open House/Pub Night
DESCRIPTION:Diamond Valley Singers Spring Concert\nSun\, April 12 | 2 PM | Sheep River Library\nEnjoy a lively afternoon of favourites\, classics\, and Canadian folk songs. Free admission\, donations welcome.
URL:https://highcountrynews.ca/event/snowbirds-open-house-pub-night/2026-02-12/
LOCATION:Snowbird’s Chalet\, 19 Balsam Avenue\, Bragg Creek\, Alberta\, T0L 0K0\, Canada
CATEGORIES:Bragg Creek
ATTACH;FMTTYPE=image/webp:https://highcountrynews.ca/wp-content/uploads/2026/01/HCN_Snowbirds_Jan2026-scaled.webp
END:VEVENT
BEGIN:VEVENT
DTSTART;TZID=America/Edmonton:20260213T131500
DTEND;TZID=America/Edmonton:20260213T131500
DTSTAMP:20260424T170036
CREATED:20260116T064648Z
LAST-MODIFIED:20260116T064648Z
UID:10003529-1770988500-1770988500@highcountrynews.ca
SUMMARY:Snowbirds: Open Mic Night
DESCRIPTION:Fridays \n1:15pm: Exercise Class – 45 minutes bring your own dumbells or borrow newcomers welcome\, drop-in $10/class
URL:https://highcountrynews.ca/event/snowbirds-open-mic-night-2/2026-02-13/
LOCATION:Snowbird’s Chalet\, 19 Balsam Avenue\, Bragg Creek\, Alberta\, T0L 0K0\, Canada
CATEGORIES:Bragg Creek
ATTACH;FMTTYPE=image/webp:https://highcountrynews.ca/wp-content/uploads/2026/01/HCN_Snowbirds_Jan2026-scaled.webp
END:VEVENT
BEGIN:VEVENT
DTSTART;TZID=America/Edmonton:20260215T180000
DTEND;TZID=America/Edmonton:20260215T200000
DTSTAMP:20260424T170036
CREATED:20260215T221656Z
LAST-MODIFIED:20260215T221656Z
UID:10003587-1771178400-1771185600@highcountrynews.ca
SUMMARY:Olympic Family Skate Night
DESCRIPTION:This Sunday at 6pm the Rink and Concession will be open for a Team Canada Skate and Showing of the Olympics on our Giant Outdoor Screen. Wear your favourite Team Canada Jersey or Canadian colours for this fun night! 6-8pm
URL:https://highcountrynews.ca/event/olympic-family-skate-night/
LOCATION:Alberta
CATEGORIES:Bragg Creek
ATTACH;FMTTYPE=image/webp:https://highcountrynews.ca/wp-content/uploads/2026/02/Olympic-Family-Skate-Night.webp
ORGANIZER;CN="Redwood Meadows Community Association":MAILTO:programs@redwoodmeadows.ab.ca
END:VEVENT
BEGIN:VEVENT
DTSTART;TZID=America/Edmonton:20260217T130000
DTEND;TZID=America/Edmonton:20260217T160000
DTSTAMP:20260424T170036
CREATED:20260116T063210Z
LAST-MODIFIED:20260116T063243Z
UID:10003353-1771333200-1771344000@highcountrynews.ca
SUMMARY:Snowbirds: Ladies Group & Snooker
DESCRIPTION:Diamond Valley Singers Spring Concert\nSun\, April 12 | 2 PM | Sheep River Library\nEnjoy a lively afternoon of favourites\, classics\, and Canadian folk songs. Free admission\, donations welcome.
URL:https://highcountrynews.ca/event/ladies-group-snooker/2026-02-17/
LOCATION:Snowbird’s Chalet\, 19 Balsam Avenue\, Bragg Creek\, Alberta\, T0L 0K0\, Canada
CATEGORIES:Bragg Creek
ATTACH;FMTTYPE=image/webp:https://highcountrynews.ca/wp-content/uploads/2026/01/HCN_Snowbirds_Jan2026-scaled.webp
END:VEVENT
BEGIN:VEVENT
DTSTART;TZID=America/Edmonton:20260219T130000
DTEND;TZID=America/Edmonton:20260219T160000
DTSTAMP:20260424T170036
CREATED:20260116T063530Z
LAST-MODIFIED:20260116T063530Z
UID:10003404-1771506000-1771516800@highcountrynews.ca
SUMMARY:Snowbirds: Snooker
DESCRIPTION:Diamond Valley Singers Spring Concert\nSun\, April 12 | 2 PM | Sheep River Library\nEnjoy a lively afternoon of favourites\, classics\, and Canadian folk songs. Free admission\, donations welcome.
URL:https://highcountrynews.ca/event/snowbirds-snooker/2026-02-19/
LOCATION:Snowbird’s Chalet\, 19 Balsam Avenue\, Bragg Creek\, Alberta\, T0L 0K0\, Canada
CATEGORIES:Bragg Creek
ATTACH;FMTTYPE=image/webp:https://highcountrynews.ca/wp-content/uploads/2026/01/HCN_Snowbirds_Jan2026-scaled.webp
END:VEVENT
BEGIN:VEVENT
DTSTART;TZID=America/Edmonton:20260219T160000
DTEND;TZID=America/Edmonton:20260219T210000
DTSTAMP:20260424T170036
CREATED:20260116T063710Z
LAST-MODIFIED:20260116T063710Z
UID:10003455-1771516800-1771534800@highcountrynews.ca
SUMMARY:Snowbirds: Open House/Pub Night
DESCRIPTION:Diamond Valley Singers Spring Concert\nSun\, April 12 | 2 PM | Sheep River Library\nEnjoy a lively afternoon of favourites\, classics\, and Canadian folk songs. Free admission\, donations welcome.
URL:https://highcountrynews.ca/event/snowbirds-open-house-pub-night/2026-02-19/
LOCATION:Snowbird’s Chalet\, 19 Balsam Avenue\, Bragg Creek\, Alberta\, T0L 0K0\, Canada
CATEGORIES:Bragg Creek
ATTACH;FMTTYPE=image/webp:https://highcountrynews.ca/wp-content/uploads/2026/01/HCN_Snowbirds_Jan2026-scaled.webp
END:VEVENT
BEGIN:VEVENT
DTSTART;TZID=America/Edmonton:20260219T190000
DTEND;TZID=America/Edmonton:20260219T190000
DTSTAMP:20260424T170036
CREATED:20260116T064050Z
LAST-MODIFIED:20260116T064050Z
UID:10003514-1771527600-1771527600@highcountrynews.ca
SUMMARY:Snowbirds: Open Mic Night
DESCRIPTION:Third Thursday each month \n7pm: Open Mic Night come play or listen!
URL:https://highcountrynews.ca/event/snowbirds-open-mic-night/2026-02-19/
LOCATION:Snowbird’s Chalet\, 19 Balsam Avenue\, Bragg Creek\, Alberta\, T0L 0K0\, Canada
CATEGORIES:Bragg Creek
ATTACH;FMTTYPE=image/webp:https://highcountrynews.ca/wp-content/uploads/2026/01/HCN_Snowbirds_Jan2026-scaled.webp
END:VEVENT
BEGIN:VEVENT
DTSTART;VALUE=DATE:20260220
DTEND;VALUE=DATE:20260301
DTSTAMP:20260424T170036
CREATED:20260213T064028Z
LAST-MODIFIED:20260213T070035Z
UID:10003584-1771545600-1772323199@highcountrynews.ca
SUMMARY:Shakespeare R&J
DESCRIPTION:Four young students\, in a repressive college environment\, decide to vary their very governed lives. After school\, one breaks out a copy of William Shakespeare’s Romeo and Juliet\, and they all take turns reading the play aloud. The Bard’s words and the story itself are thrilling to the boys\, and they become swept away\, enmeshed in the emotion so much so that they break school rules in order to continue their readings. The rigidity of their lives begins to parallel the lives of the characters in the play: roles in the family\, roles in society\, and the roles played by men and women soon seem to make sense. \nDATES\nFebruary 20\, 2026 – February 28\, 2026 \nLocation\nWest Village Theatre \nAddress\n2007 10 Avenue SW\, Calgary\, AB T3C 0K4
URL:https://highcountrynews.ca/event/shakespeares-rj/
LOCATION:Alberta
CATEGORIES:Arts & Entertainment
ATTACH;FMTTYPE=image/webp:https://highcountrynews.ca/wp-content/uploads/2026/02/ST_RJ_POSTER_REVISED.webp
END:VEVENT
BEGIN:VEVENT
DTSTART;TZID=America/Edmonton:20260220T131500
DTEND;TZID=America/Edmonton:20260220T131500
DTSTAMP:20260424T170036
CREATED:20260116T064648Z
LAST-MODIFIED:20260116T064648Z
UID:10003530-1771593300-1771593300@highcountrynews.ca
SUMMARY:Snowbirds: Open Mic Night
DESCRIPTION:Fridays \n1:15pm: Exercise Class – 45 minutes bring your own dumbells or borrow newcomers welcome\, drop-in $10/class
URL:https://highcountrynews.ca/event/snowbirds-open-mic-night-2/2026-02-20/
LOCATION:Snowbird’s Chalet\, 19 Balsam Avenue\, Bragg Creek\, Alberta\, T0L 0K0\, Canada
CATEGORIES:Bragg Creek
ATTACH;FMTTYPE=image/webp:https://highcountrynews.ca/wp-content/uploads/2026/01/HCN_Snowbirds_Jan2026-scaled.webp
END:VEVENT
BEGIN:VEVENT
DTSTART;VALUE=DATE:20260222
DTEND;VALUE=DATE:20260224
DTSTAMP:20260424T170036
CREATED:20260116T062641Z
LAST-MODIFIED:20260203T203859Z
UID:10003347-1771718400-1771891140@highcountrynews.ca
SUMMARY:Hodgins and Hall's Auctions
DESCRIPTION:Diamond Valley Singers Spring Concert\nSun\, April 12 | 2 PM | Sheep River Library\nEnjoy a lively afternoon of favourites\, classics\, and Canadian folk songs. Free admission\, donations welcome.
URL:https://highcountrynews.ca/event/auctions/2026-02-22/1/
LOCATION:Alberta
CATEGORIES:Online
ATTACH;FMTTYPE=image/webp:https://highcountrynews.ca/wp-content/uploads/2026/01/HallsHighCountryDecember2025CMYK.webp
END:VEVENT
BEGIN:VEVENT
DTSTART;VALUE=DATE:20260222
DTEND;VALUE=DATE:20260224
DTSTAMP:20260424T170036
CREATED:20260116T062641Z
LAST-MODIFIED:20260203T203859Z
UID:10003346-1771718400-1771891199@highcountrynews.ca
SUMMARY:Hodgins and Hall's Auctions
DESCRIPTION:Diamond Valley Singers Spring Concert\nSun\, April 12 | 2 PM | Sheep River Library\nEnjoy a lively afternoon of favourites\, classics\, and Canadian folk songs. Free admission\, donations welcome.
URL:https://highcountrynews.ca/event/auctions/2026-02-22/2/
LOCATION:Alberta
CATEGORIES:Online
ATTACH;FMTTYPE=image/webp:https://highcountrynews.ca/wp-content/uploads/2026/01/HallsHighCountryDecember2025CMYK.webp
END:VEVENT
BEGIN:VEVENT
DTSTART;TZID=America/Edmonton:20260224T130000
DTEND;TZID=America/Edmonton:20260224T160000
DTSTAMP:20260424T170036
CREATED:20260116T063210Z
LAST-MODIFIED:20260116T063243Z
UID:10003354-1771938000-1771948800@highcountrynews.ca
SUMMARY:Snowbirds: Ladies Group & Snooker
DESCRIPTION:Diamond Valley Singers Spring Concert\nSun\, April 12 | 2 PM | Sheep River Library\nEnjoy a lively afternoon of favourites\, classics\, and Canadian folk songs. Free admission\, donations welcome.
URL:https://highcountrynews.ca/event/ladies-group-snooker/2026-02-24/
LOCATION:Snowbird’s Chalet\, 19 Balsam Avenue\, Bragg Creek\, Alberta\, T0L 0K0\, Canada
CATEGORIES:Bragg Creek
ATTACH;FMTTYPE=image/webp:https://highcountrynews.ca/wp-content/uploads/2026/01/HCN_Snowbirds_Jan2026-scaled.webp
END:VEVENT
BEGIN:VEVENT
DTSTART;TZID=America/Edmonton:20260226T130000
DTEND;TZID=America/Edmonton:20260226T160000
DTSTAMP:20260424T170036
CREATED:20260116T063530Z
LAST-MODIFIED:20260116T063530Z
UID:10003405-1772110800-1772121600@highcountrynews.ca
SUMMARY:Snowbirds: Snooker
DESCRIPTION:Diamond Valley Singers Spring Concert\nSun\, April 12 | 2 PM | Sheep River Library\nEnjoy a lively afternoon of favourites\, classics\, and Canadian folk songs. Free admission\, donations welcome.
URL:https://highcountrynews.ca/event/snowbirds-snooker/2026-02-26/
LOCATION:Snowbird’s Chalet\, 19 Balsam Avenue\, Bragg Creek\, Alberta\, T0L 0K0\, Canada
CATEGORIES:Bragg Creek
ATTACH;FMTTYPE=image/webp:https://highcountrynews.ca/wp-content/uploads/2026/01/HCN_Snowbirds_Jan2026-scaled.webp
END:VEVENT
BEGIN:VEVENT
DTSTART;TZID=America/Edmonton:20260226T160000
DTEND;TZID=America/Edmonton:20260226T210000
DTSTAMP:20260424T170036
CREATED:20260116T063710Z
LAST-MODIFIED:20260116T063710Z
UID:10003456-1772121600-1772139600@highcountrynews.ca
SUMMARY:Snowbirds: Open House/Pub Night
DESCRIPTION:Diamond Valley Singers Spring Concert\nSun\, April 12 | 2 PM | Sheep River Library\nEnjoy a lively afternoon of favourites\, classics\, and Canadian folk songs. Free admission\, donations welcome.
URL:https://highcountrynews.ca/event/snowbirds-open-house-pub-night/2026-02-26/
LOCATION:Snowbird’s Chalet\, 19 Balsam Avenue\, Bragg Creek\, Alberta\, T0L 0K0\, Canada
CATEGORIES:Bragg Creek
ATTACH;FMTTYPE=image/webp:https://highcountrynews.ca/wp-content/uploads/2026/01/HCN_Snowbirds_Jan2026-scaled.webp
END:VEVENT
BEGIN:VEVENT
DTSTART;TZID=America/Edmonton:20260227T131500
DTEND;TZID=America/Edmonton:20260227T131500
DTSTAMP:20260424T170036
CREATED:20260116T064648Z
LAST-MODIFIED:20260116T064648Z
UID:10003531-1772198100-1772198100@highcountrynews.ca
SUMMARY:Snowbirds: Open Mic Night
DESCRIPTION:Fridays \n1:15pm: Exercise Class – 45 minutes bring your own dumbells or borrow newcomers welcome\, drop-in $10/class
URL:https://highcountrynews.ca/event/snowbirds-open-mic-night-2/2026-02-27/
LOCATION:Snowbird’s Chalet\, 19 Balsam Avenue\, Bragg Creek\, Alberta\, T0L 0K0\, Canada
CATEGORIES:Bragg Creek
ATTACH;FMTTYPE=image/webp:https://highcountrynews.ca/wp-content/uploads/2026/01/HCN_Snowbirds_Jan2026-scaled.webp
END:VEVENT
BEGIN:VEVENT
DTSTART;TZID=America/Edmonton:20260228T193000
DTEND;TZID=America/Edmonton:20260228T193000
DTSTAMP:20260424T170037
CREATED:20260203T064831Z
LAST-MODIFIED:20260203T064831Z
UID:10003582-1772307000-1772307000@highcountrynews.ca
SUMMARY:Beneath the Arch presents Lynne Hansen
DESCRIPTION:Beneath the Arch presents Lynne Hansen with accompanist on Feb. 28. Lynne is a Canadian singer-songwriter with nine solo albums and has toured internationally. She does Americana\, country and roots and plays guitar as well as porchboard bass. For tickets and details\, visit the Arch’s website\, the show will be held at 7:30 at the Flare and Derrick.
URL:https://highcountrynews.ca/event/beneath-the-arch-presents-lynne-hansen/
LOCATION:Flare ‘n Derrick Community Hall\, 129 Main Street NE\, Turner Valley\, Canada
CATEGORIES:Arts & Entertainment,Diamond Valley
ATTACH;FMTTYPE=image/webp:https://highcountrynews.ca/wp-content/uploads/2026/02/Lynne-Hansen-Feb-28.webp
END:VEVENT
END:VCALENDAR