BEGIN:VCALENDAR
VERSION:2.0
PRODID:-//High Country News - ECPv6.15.18//NONSGML v1.0//EN
CALSCALE:GREGORIAN
METHOD:PUBLISH
X-WR-CALNAME:High Country News
X-ORIGINAL-URL:https://highcountrynews.ca
X-WR-CALDESC:Events for High Country News
REFRESH-INTERVAL;VALUE=DURATION:PT1H
X-Robots-Tag:noindex
X-PUBLISHED-TTL:PT1H
BEGIN:VTIMEZONE
TZID:America/Edmonton
BEGIN:DAYLIGHT
TZOFFSETFROM:-0700
TZOFFSETTO:-0600
TZNAME:MDT
DTSTART:20250309T090000
END:DAYLIGHT
BEGIN:STANDARD
TZOFFSETFROM:-0600
TZOFFSETTO:-0700
TZNAME:MST
DTSTART:20251102T080000
END:STANDARD
BEGIN:DAYLIGHT
TZOFFSETFROM:-0700
TZOFFSETTO:-0600
TZNAME:MDT
DTSTART:20260308T090000
END:DAYLIGHT
BEGIN:STANDARD
TZOFFSETFROM:-0600
TZOFFSETTO:-0700
TZNAME:MST
DTSTART:20261101T080000
END:STANDARD
BEGIN:DAYLIGHT
TZOFFSETFROM:-0700
TZOFFSETTO:-0600
TZNAME:MDT
DTSTART:20270314T090000
END:DAYLIGHT
BEGIN:STANDARD
TZOFFSETFROM:-0600
TZOFFSETTO:-0700
TZNAME:MST
DTSTART:20271107T080000
END:STANDARD
END:VTIMEZONE
BEGIN:VEVENT
DTSTART;TZID=America/Edmonton:20261027T130000
DTEND;TZID=America/Edmonton:20261027T160000
DTSTAMP:20260425T051808
CREATED:20260116T063210Z
LAST-MODIFIED:20260116T063243Z
UID:10003389-1793106000-1793116800@highcountrynews.ca
SUMMARY:Snowbirds: Ladies Group & Snooker
DESCRIPTION:Diamond Valley Singers Spring Concert\nSun\, April 12 | 2 PM | Sheep River Library\nEnjoy a lively afternoon of favourites\, classics\, and Canadian folk songs. Free admission\, donations welcome.
URL:https://highcountrynews.ca/event/ladies-group-snooker/2026-10-27/
LOCATION:Snowbird’s Chalet\, 19 Balsam Avenue\, Bragg Creek\, Alberta\, T0L 0K0\, Canada
CATEGORIES:Bragg Creek
ATTACH;FMTTYPE=image/webp:https://highcountrynews.ca/wp-content/uploads/2026/01/HCN_Snowbirds_Jan2026-scaled.webp
END:VEVENT
BEGIN:VEVENT
DTSTART;TZID=America/Edmonton:20261029T130000
DTEND;TZID=America/Edmonton:20261029T160000
DTSTAMP:20260425T051808
CREATED:20260116T063530Z
LAST-MODIFIED:20260116T063530Z
UID:10003440-1793278800-1793289600@highcountrynews.ca
SUMMARY:Snowbirds: Snooker
DESCRIPTION:Diamond Valley Singers Spring Concert\nSun\, April 12 | 2 PM | Sheep River Library\nEnjoy a lively afternoon of favourites\, classics\, and Canadian folk songs. Free admission\, donations welcome.
URL:https://highcountrynews.ca/event/snowbirds-snooker/2026-10-29/
LOCATION:Snowbird’s Chalet\, 19 Balsam Avenue\, Bragg Creek\, Alberta\, T0L 0K0\, Canada
CATEGORIES:Bragg Creek
ATTACH;FMTTYPE=image/webp:https://highcountrynews.ca/wp-content/uploads/2026/01/HCN_Snowbirds_Jan2026-scaled.webp
END:VEVENT
BEGIN:VEVENT
DTSTART;TZID=America/Edmonton:20261029T160000
DTEND;TZID=America/Edmonton:20261029T210000
DTSTAMP:20260425T051808
CREATED:20260116T063710Z
LAST-MODIFIED:20260116T063710Z
UID:10003491-1793289600-1793307600@highcountrynews.ca
SUMMARY:Snowbirds: Open House/Pub Night
DESCRIPTION:Diamond Valley Singers Spring Concert\nSun\, April 12 | 2 PM | Sheep River Library\nEnjoy a lively afternoon of favourites\, classics\, and Canadian folk songs. Free admission\, donations welcome.
URL:https://highcountrynews.ca/event/snowbirds-open-house-pub-night/2026-10-29/
LOCATION:Snowbird’s Chalet\, 19 Balsam Avenue\, Bragg Creek\, Alberta\, T0L 0K0\, Canada
CATEGORIES:Bragg Creek
ATTACH;FMTTYPE=image/webp:https://highcountrynews.ca/wp-content/uploads/2026/01/HCN_Snowbirds_Jan2026-scaled.webp
END:VEVENT
BEGIN:VEVENT
DTSTART;TZID=America/Edmonton:20261030T131500
DTEND;TZID=America/Edmonton:20261030T131500
DTSTAMP:20260425T051808
CREATED:20260116T064648Z
LAST-MODIFIED:20260116T064648Z
UID:10003566-1793366100-1793366100@highcountrynews.ca
SUMMARY:Snowbirds: Open Mic Night
DESCRIPTION:Fridays \n1:15pm: Exercise Class – 45 minutes bring your own dumbells or borrow newcomers welcome\, drop-in $10/class
URL:https://highcountrynews.ca/event/snowbirds-open-mic-night-2/2026-10-30/
LOCATION:Snowbird’s Chalet\, 19 Balsam Avenue\, Bragg Creek\, Alberta\, T0L 0K0\, Canada
CATEGORIES:Bragg Creek
ATTACH;FMTTYPE=image/webp:https://highcountrynews.ca/wp-content/uploads/2026/01/HCN_Snowbirds_Jan2026-scaled.webp
END:VEVENT
BEGIN:VEVENT
DTSTART;TZID=America/Edmonton:20261104T130000
DTEND;TZID=America/Edmonton:20261104T130000
DTSTAMP:20260425T051808
CREATED:20260116T063859Z
LAST-MODIFIED:20260116T063859Z
UID:10003511-1793797200-1793797200@highcountrynews.ca
SUMMARY:Snowbirds: Book Club
DESCRIPTION:First Wednesday each month \n1:00pm Book Club – bring a book to share with the group
URL:https://highcountrynews.ca/event/snowbirds-book-club/2026-11-04/
LOCATION:Snowbird’s Chalet\, 19 Balsam Avenue\, Bragg Creek\, Alberta\, T0L 0K0\, Canada
CATEGORIES:Bragg Creek
ATTACH;FMTTYPE=image/webp:https://highcountrynews.ca/wp-content/uploads/2026/01/HCN_Snowbirds_Jan2026-scaled.webp
END:VEVENT
BEGIN:VEVENT
DTSTART;TZID=America/Edmonton:20261119T190000
DTEND;TZID=America/Edmonton:20261119T190000
DTSTAMP:20260425T051808
CREATED:20260116T064050Z
LAST-MODIFIED:20260116T064050Z
UID:10003523-1795114800-1795114800@highcountrynews.ca
SUMMARY:Snowbirds: Open Mic Night
DESCRIPTION:Third Thursday each month \n7pm: Open Mic Night come play or listen!
URL:https://highcountrynews.ca/event/snowbirds-open-mic-night/2026-11-19/
LOCATION:Snowbird’s Chalet\, 19 Balsam Avenue\, Bragg Creek\, Alberta\, T0L 0K0\, Canada
CATEGORIES:Bragg Creek
ATTACH;FMTTYPE=image/webp:https://highcountrynews.ca/wp-content/uploads/2026/01/HCN_Snowbirds_Jan2026-scaled.webp
END:VEVENT
END:VCALENDAR