BEGIN:VCALENDAR
VERSION:2.0
PRODID:-//High Country News - ECPv6.15.18//NONSGML v1.0//EN
CALSCALE:GREGORIAN
METHOD:PUBLISH
X-WR-CALNAME:High Country News
X-ORIGINAL-URL:https://highcountrynews.ca
X-WR-CALDESC:Events for High Country News
REFRESH-INTERVAL;VALUE=DURATION:PT1H
X-Robots-Tag:noindex
X-PUBLISHED-TTL:PT1H
BEGIN:VTIMEZONE
TZID:America/Edmonton
BEGIN:DAYLIGHT
TZOFFSETFROM:-0700
TZOFFSETTO:-0600
TZNAME:MDT
DTSTART:20250309T090000
END:DAYLIGHT
BEGIN:STANDARD
TZOFFSETFROM:-0600
TZOFFSETTO:-0700
TZNAME:MST
DTSTART:20251102T080000
END:STANDARD
BEGIN:DAYLIGHT
TZOFFSETFROM:-0700
TZOFFSETTO:-0600
TZNAME:MDT
DTSTART:20260308T090000
END:DAYLIGHT
BEGIN:STANDARD
TZOFFSETFROM:-0600
TZOFFSETTO:-0700
TZNAME:MST
DTSTART:20261101T080000
END:STANDARD
BEGIN:DAYLIGHT
TZOFFSETFROM:-0700
TZOFFSETTO:-0600
TZNAME:MDT
DTSTART:20270314T090000
END:DAYLIGHT
BEGIN:STANDARD
TZOFFSETFROM:-0600
TZOFFSETTO:-0700
TZNAME:MST
DTSTART:20271107T080000
END:STANDARD
END:VTIMEZONE
BEGIN:VEVENT
DTSTART;TZID=America/Edmonton:20260506T130000
DTEND;TZID=America/Edmonton:20260506T130000
DTSTAMP:20260424T154434
CREATED:20260116T063859Z
LAST-MODIFIED:20260116T063859Z
UID:10003505-1778072400-1778072400@highcountrynews.ca
SUMMARY:Snowbirds: Book Club
DESCRIPTION:First Wednesday each month \n1:00pm Book Club – bring a book to share with the group
URL:https://highcountrynews.ca/event/snowbirds-book-club/2026-05-06/
LOCATION:Snowbird’s Chalet\, 19 Balsam Avenue\, Bragg Creek\, Alberta\, T0L 0K0\, Canada
CATEGORIES:Bragg Creek
ATTACH;FMTTYPE=image/webp:https://highcountrynews.ca/wp-content/uploads/2026/01/HCN_Snowbirds_Jan2026-scaled.webp
END:VEVENT
BEGIN:VEVENT
DTSTART;TZID=America/Edmonton:20260507T130000
DTEND;TZID=America/Edmonton:20260507T160000
DTSTAMP:20260424T154434
CREATED:20260116T063530Z
LAST-MODIFIED:20260116T063530Z
UID:10003415-1778158800-1778169600@highcountrynews.ca
SUMMARY:Snowbirds: Snooker
DESCRIPTION:Diamond Valley Singers Spring Concert\nSun\, April 12 | 2 PM | Sheep River Library\nEnjoy a lively afternoon of favourites\, classics\, and Canadian folk songs. Free admission\, donations welcome.
URL:https://highcountrynews.ca/event/snowbirds-snooker/2026-05-07/
LOCATION:Snowbird’s Chalet\, 19 Balsam Avenue\, Bragg Creek\, Alberta\, T0L 0K0\, Canada
CATEGORIES:Bragg Creek
ATTACH;FMTTYPE=image/webp:https://highcountrynews.ca/wp-content/uploads/2026/01/HCN_Snowbirds_Jan2026-scaled.webp
END:VEVENT
BEGIN:VEVENT
DTSTART;TZID=America/Edmonton:20260507T160000
DTEND;TZID=America/Edmonton:20260507T210000
DTSTAMP:20260424T154434
CREATED:20260116T063710Z
LAST-MODIFIED:20260116T063710Z
UID:10003466-1778169600-1778187600@highcountrynews.ca
SUMMARY:Snowbirds: Open House/Pub Night
DESCRIPTION:Diamond Valley Singers Spring Concert\nSun\, April 12 | 2 PM | Sheep River Library\nEnjoy a lively afternoon of favourites\, classics\, and Canadian folk songs. Free admission\, donations welcome.
URL:https://highcountrynews.ca/event/snowbirds-open-house-pub-night/2026-05-07/
LOCATION:Snowbird’s Chalet\, 19 Balsam Avenue\, Bragg Creek\, Alberta\, T0L 0K0\, Canada
CATEGORIES:Bragg Creek
ATTACH;FMTTYPE=image/webp:https://highcountrynews.ca/wp-content/uploads/2026/01/HCN_Snowbirds_Jan2026-scaled.webp
END:VEVENT
BEGIN:VEVENT
DTSTART;TZID=America/Edmonton:20260508T131500
DTEND;TZID=America/Edmonton:20260508T131500
DTSTAMP:20260424T154434
CREATED:20260116T064648Z
LAST-MODIFIED:20260116T064648Z
UID:10003541-1778246100-1778246100@highcountrynews.ca
SUMMARY:Snowbirds: Open Mic Night
DESCRIPTION:Fridays \n1:15pm: Exercise Class – 45 minutes bring your own dumbells or borrow newcomers welcome\, drop-in $10/class
URL:https://highcountrynews.ca/event/snowbirds-open-mic-night-2/2026-05-08/
LOCATION:Snowbird’s Chalet\, 19 Balsam Avenue\, Bragg Creek\, Alberta\, T0L 0K0\, Canada
CATEGORIES:Bragg Creek
ATTACH;FMTTYPE=image/webp:https://highcountrynews.ca/wp-content/uploads/2026/01/HCN_Snowbirds_Jan2026-scaled.webp
END:VEVENT
BEGIN:VEVENT
DTSTART;TZID=America/Edmonton:20260508T190000
DTEND;TZID=America/Edmonton:20260508T190000
DTSTAMP:20260424T154434
CREATED:20250805T071053Z
LAST-MODIFIED:20250805T071053Z
UID:10003006-1778266800-1778266800@highcountrynews.ca
SUMMARY:Swap Donkey Presents: 9 to 5 The Musical
DESCRIPTION:Join us for our production of 9 to 5: The Musical!\nSYNOPSIS:\n9 to 5: The Musical\, with music and lyrics by Dolly Parton and book by Patricia Resnick\, is based on the seminal 1980 hit movie.  Set in the late 1970s\, this hilarious story of friendship and revenge in the Rolodex era is outrageous\, thought-provoking\, and even a little romantic. \nPushed to the boiling point\, three female coworkers concoct a plan to get even with the sexist\, egotistical\, lying\, hypocritical bigot they call their boss.  In a hilarious turn of events\, Violet\, Judy\, and Doralee live out their wildest fantasy – giving their boss the boot!  While Hart remains “otherwise engaged\,” the women give their workplace a dream makeover\, taking control of the company that had always kept them down.  Hey\, a girl can scheme\, can’t she? \n9 to 5: The Musical is presented through special arrangement with and all authorized materials are supplied by Music Theatre International\, New York\, NY\, 212-541-4684\, mtishows.com. \nPERFORMANCE DATES AND TIMES:\nPerformances (11 total) May 1 to 10\, 2025:\n•       Friday\, May 1\, 2026 at 7:00 p.m.\n•       Saturday\, May 2\, 2026 at 2:00 p.m.\n•       Saturday\, May 2\, 2026 at 7:00 p.m.\n•       Sunday\, May 3\, 2026 at 2:00 p.m.\n•       Friday\, May 8\, 2026 at 7:00 p.m.\n•       Saturday\, May 9\, 2026 at 2:00 p.m.\n•       Saturday\, May 9\, 2026 at 7:00 p.m.\n•       Sunday\, May 10\, 2026 at 2:00 p.m. \nPRODUCTION INFORMATION:\nPlease note that all tickets are for rush seating. \nTheatre doors open 30 minutes before showtime. \n9 to 5: The Musical may not be appropriate for younger audiences as it contains some adult language and scenes that depict sexual harassment and adult situations. \nRun time is approximately 2.5 hours. \nTICKETS:\nhttps://swampdonkeytheatre.ca/9-to-5-the-musical-tickets/
URL:https://highcountrynews.ca/event/swap-donkey-presents-9-to-5-the-musical/2026-05-08/
LOCATION:Alberta
CATEGORIES:Arts & Entertainment,Bragg Creek
ATTACH;FMTTYPE=image/webp:https://highcountrynews.ca/wp-content/uploads/2025/08/Nine-to-Five-Poster-11-X-17.webp
ORGANIZER;CN="Swamp Donkey Musical Theatre":MAILTO:swampdonkeytheatre@gmail.com
END:VEVENT
BEGIN:VEVENT
DTSTART;TZID=America/Edmonton:20260509T140000
DTEND;TZID=America/Edmonton:20260509T170000
DTSTAMP:20260424T154434
CREATED:20260304T065838Z
LAST-MODIFIED:20260304T065838Z
UID:10003589-1778335200-1778346000@highcountrynews.ca
SUMMARY:Mother's High Tea in the Country
DESCRIPTION:Diamond Valley Singers Spring Concert\nSun\, April 12 | 2 PM | Sheep River Library\nEnjoy a lively afternoon of favourites\, classics\, and Canadian folk songs. Free admission\, donations welcome.
URL:https://highcountrynews.ca/event/mothers-high-tea-in-the-country/
LOCATION:De Winton Community Hall\, 114 Macleod Trail E\, De Winton\, Alberta\, T0L 0X0\, Canada
CATEGORIES:De Winton
ATTACH;FMTTYPE=image/webp:https://highcountrynews.ca/wp-content/uploads/2026/03/Mothers-High-Tea-in-the-Country.webp
END:VEVENT
BEGIN:VEVENT
DTSTART;TZID=America/Edmonton:20260512T130000
DTEND;TZID=America/Edmonton:20260512T160000
DTSTAMP:20260424T154434
CREATED:20260116T063210Z
LAST-MODIFIED:20260116T063243Z
UID:10003365-1778590800-1778601600@highcountrynews.ca
SUMMARY:Snowbirds: Ladies Group & Snooker
DESCRIPTION:Diamond Valley Singers Spring Concert\nSun\, April 12 | 2 PM | Sheep River Library\nEnjoy a lively afternoon of favourites\, classics\, and Canadian folk songs. Free admission\, donations welcome.
URL:https://highcountrynews.ca/event/ladies-group-snooker/2026-05-12/
LOCATION:Snowbird’s Chalet\, 19 Balsam Avenue\, Bragg Creek\, Alberta\, T0L 0K0\, Canada
CATEGORIES:Bragg Creek
ATTACH;FMTTYPE=image/webp:https://highcountrynews.ca/wp-content/uploads/2026/01/HCN_Snowbirds_Jan2026-scaled.webp
END:VEVENT
BEGIN:VEVENT
DTSTART;TZID=America/Edmonton:20260521T190000
DTEND;TZID=America/Edmonton:20260521T190000
DTSTAMP:20260424T154434
CREATED:20260116T064050Z
LAST-MODIFIED:20260116T064050Z
UID:10003517-1779390000-1779390000@highcountrynews.ca
SUMMARY:Snowbirds: Open Mic Night
DESCRIPTION:Third Thursday each month \n7pm: Open Mic Night come play or listen!
URL:https://highcountrynews.ca/event/snowbirds-open-mic-night/2026-05-21/
LOCATION:Snowbird’s Chalet\, 19 Balsam Avenue\, Bragg Creek\, Alberta\, T0L 0K0\, Canada
CATEGORIES:Bragg Creek
ATTACH;FMTTYPE=image/webp:https://highcountrynews.ca/wp-content/uploads/2026/01/HCN_Snowbirds_Jan2026-scaled.webp
END:VEVENT
BEGIN:VEVENT
DTSTART;TZID=America/Edmonton:20260530T090000
DTEND;TZID=America/Edmonton:20260530T150000
DTSTAMP:20260424T154434
CREATED:20260121T230233Z
LAST-MODIFIED:20260121T231713Z
UID:10003577-1780131600-1780153200@highcountrynews.ca
SUMMARY:COMMUNITY YARD SALE
DESCRIPTION:MAY 30 | 9:00 AM – 3:00 PM  | Bragg Creek Centre Gym \n🛍️ Community Yard Sale \nClean out your closets and turn your treasures into cash at our Indoor Community Yard Sale on May 30! \nTable rentals are $20 | Young entrepreneurs encouraged!\nPerfect for anyone who doesn’t have enough items for a full yard sale of their own but still wants to join in. \nTo reserve your table\, email: rental@braggcreekca.com\n⚠️ Spots are limited – book early!
URL:https://highcountrynews.ca/event/community-yard-sale/
LOCATION:Bragg Creek Community Centre\, 23 White Avenue\, Bragg Creek\, Alberta\, T0L 0K0\, Canada
CATEGORIES:Bragg Creek,Community
ATTACH;FMTTYPE=image/webp:https://highcountrynews.ca/wp-content/uploads/2026/01/Bragg-Creek-Comm-Yard-Sale.webp
ORGANIZER;CN="Bragg Creek Community Association":MAILTO:info@braggcreekca.com
GEO:50.949917;-114.5636967
X-APPLE-STRUCTURED-LOCATION;VALUE=URI;X-ADDRESS=Bragg Creek Community Centre 23 White Avenue Bragg Creek Alberta T0L 0K0 Canada;X-APPLE-RADIUS=500;X-TITLE=23 White Avenue:geo:-114.5636967,50.949917
END:VEVENT
BEGIN:VEVENT
DTSTART;TZID=America/Edmonton:20260613T080000
DTEND;TZID=America/Edmonton:20260613T170000
DTSTAMP:20260424T154434
CREATED:20260215T215541Z
LAST-MODIFIED:20260215T215541Z
UID:10003586-1781337600-1781370000@highcountrynews.ca
SUMMARY:Branch Out Bike Tour for Brain Health Research
DESCRIPTION:Join Branch Out Neurological Foundation for its 15th Annual Bike Tour on June 13\, 2026\, at the Millarville Race Track. Over the past 15 years\, the event has raised more than $2.9 million for neurological research across Canada. Funds support innovative brain health research that goes beyond pharmaceuticals\, focusing on prevention\, lifestyle\, and long-term wellness. Cyclists can choose from 40 km\, 80 km\, or 100 km scenic routes through the foothills of Diamond Valley. The Bike Tour kicks off on Friday night with registration and festivities. Saturday’s ride includes a Western-style breakfast\, incredible rest stops\, recovery zones\, lunch\, BBQ dinner and awards\, beer garden\, live music\, camping\, and volunteer opportunities. Registration is open at branchoutfoundation.com/bike-tour/.
URL:https://highcountrynews.ca/event/branch-out-bike-tour-for-brain-health-research/
LOCATION:Alberta
CATEGORIES:Diamond Valley
ATTACH;FMTTYPE=image/webp:https://highcountrynews.ca/wp-content/uploads/2026/02/Bike-Tour-Event-listing-.webp
END:VEVENT
END:VCALENDAR