BEGIN:VCALENDAR
VERSION:2.0
PRODID:-//High Country News - ECPv6.15.18//NONSGML v1.0//EN
CALSCALE:GREGORIAN
METHOD:PUBLISH
X-WR-CALNAME:High Country News
X-ORIGINAL-URL:https://highcountrynews.ca
X-WR-CALDESC:Events for High Country News
REFRESH-INTERVAL;VALUE=DURATION:PT1H
X-Robots-Tag:noindex
X-PUBLISHED-TTL:PT1H
BEGIN:VTIMEZONE
TZID:America/Edmonton
BEGIN:DAYLIGHT
TZOFFSETFROM:-0700
TZOFFSETTO:-0600
TZNAME:MDT
DTSTART:20240310T090000
END:DAYLIGHT
BEGIN:STANDARD
TZOFFSETFROM:-0600
TZOFFSETTO:-0700
TZNAME:MST
DTSTART:20241103T080000
END:STANDARD
BEGIN:DAYLIGHT
TZOFFSETFROM:-0700
TZOFFSETTO:-0600
TZNAME:MDT
DTSTART:20250309T090000
END:DAYLIGHT
BEGIN:STANDARD
TZOFFSETFROM:-0600
TZOFFSETTO:-0700
TZNAME:MST
DTSTART:20251102T080000
END:STANDARD
BEGIN:DAYLIGHT
TZOFFSETFROM:-0700
TZOFFSETTO:-0600
TZNAME:MDT
DTSTART:20260308T090000
END:DAYLIGHT
BEGIN:STANDARD
TZOFFSETFROM:-0600
TZOFFSETTO:-0700
TZNAME:MST
DTSTART:20261101T080000
END:STANDARD
END:VTIMEZONE
BEGIN:VEVENT
DTSTART;VALUE=DATE:20251129
DTEND;VALUE=DATE:20251130
DTSTAMP:20260425T100633
CREATED:20251005T025427Z
LAST-MODIFIED:20251005T025427Z
UID:10003292-1764374400-1764460799@highcountrynews.ca
SUMMARY:Christmas Market
DESCRIPTION:Christmas Market at the Priddis Hall\nBack by popular demand! Join us for a wonderful community market where you can shop for unique items and support small\, local businesses. The market runs from 10am-4pm\, is free to attend and will have a full concession for breakfast and lunch. \nWe still have space for a couple more local makers. Email priddismarkets@gmail.com for more information or to reserve your table
URL:https://highcountrynews.ca/event/christmas-market/
CATEGORIES:Priddis
END:VEVENT
BEGIN:VEVENT
DTSTART;VALUE=DATE:20251130
DTEND;VALUE=DATE:20251201
DTSTAMP:20260425T100633
CREATED:20251005T025656Z
LAST-MODIFIED:20251005T025656Z
UID:10003293-1764460800-1764547199@highcountrynews.ca
SUMMARY:Photos with Santa & Mrs. Claus
DESCRIPTION:Join us at the Priddis Hall for this special holiday tradition. Book a time for a special\, private visit with our holiday guests. No waiting in long lines\, no extra fees for photos\, just come at your selected time and take as many pictures as you would like with your phone or camera. Tickets will go on sale at the end of the month.
URL:https://highcountrynews.ca/event/photos-with-santa-mrs-claus/
CATEGORIES:Priddis
END:VEVENT
END:VCALENDAR