BEGIN:VCALENDAR
VERSION:2.0
PRODID:-//High Country News - ECPv6.15.18//NONSGML v1.0//EN
CALSCALE:GREGORIAN
METHOD:PUBLISH
X-WR-CALNAME:High Country News
X-ORIGINAL-URL:https://highcountrynews.ca
X-WR-CALDESC:Events for High Country News
REFRESH-INTERVAL;VALUE=DURATION:PT1H
X-Robots-Tag:noindex
X-PUBLISHED-TTL:PT1H
BEGIN:VTIMEZONE
TZID:America/Edmonton
BEGIN:DAYLIGHT
TZOFFSETFROM:-0700
TZOFFSETTO:-0600
TZNAME:MDT
DTSTART:20250309T090000
END:DAYLIGHT
BEGIN:STANDARD
TZOFFSETFROM:-0600
TZOFFSETTO:-0700
TZNAME:MST
DTSTART:20251102T080000
END:STANDARD
BEGIN:DAYLIGHT
TZOFFSETFROM:-0700
TZOFFSETTO:-0600
TZNAME:MDT
DTSTART:20260308T090000
END:DAYLIGHT
BEGIN:STANDARD
TZOFFSETFROM:-0600
TZOFFSETTO:-0700
TZNAME:MST
DTSTART:20261101T080000
END:STANDARD
BEGIN:DAYLIGHT
TZOFFSETFROM:-0700
TZOFFSETTO:-0600
TZNAME:MDT
DTSTART:20270314T090000
END:DAYLIGHT
BEGIN:STANDARD
TZOFFSETFROM:-0600
TZOFFSETTO:-0700
TZNAME:MST
DTSTART:20271107T080000
END:STANDARD
END:VTIMEZONE
BEGIN:VEVENT
DTSTART;TZID=America/Edmonton:20260425T193000
DTEND;TZID=America/Edmonton:20260425T193000
DTSTAMP:20260424T203640
CREATED:20260407T010453Z
LAST-MODIFIED:20260407T010851Z
UID:10003598-1777145400-1777145400@highcountrynews.ca
SUMMARY:Beneath the Arch presents Scott Nolan and Band
DESCRIPTION:Beneath the Arch Concert series presents Scott Nolan\, an amazing storyteller and a man of many instruments on April 25 at the Flare and Derrick. The Arch’s annual bursary is also available to apply in April. This bursary enables young performing artists to enhance their experiences and skills. It is available to grades 4-12 students who reside in or attend school in the Foothills. For full details\, or to get tickets for the Nolan show\, please visit beneaththearch.ca.
URL:https://highcountrynews.ca/event/beneath-the-arch-presents-scott-nolan-and-band/
LOCATION:Flare ‘n Derrick Community Hall\, 129 Main Street NE\, Turner Valley\, Canada
CATEGORIES:Arts & Entertainment
ATTACH;FMTTYPE=image/webp:https://highcountrynews.ca/wp-content/uploads/2026/04/Scott-Nolan-Beneath-the-Arch.webp
END:VEVENT
BEGIN:VEVENT
DTSTART;TZID=America/Edmonton:20260501T190000
DTEND;TZID=America/Edmonton:20260501T190000
DTSTAMP:20260424T203640
CREATED:20250805T071053Z
LAST-MODIFIED:20250805T071053Z
UID:10003002-1777662000-1777662000@highcountrynews.ca
SUMMARY:Swap Donkey Presents: 9 to 5 The Musical
DESCRIPTION:Join us for our production of 9 to 5: The Musical!\nSYNOPSIS:\n9 to 5: The Musical\, with music and lyrics by Dolly Parton and book by Patricia Resnick\, is based on the seminal 1980 hit movie.  Set in the late 1970s\, this hilarious story of friendship and revenge in the Rolodex era is outrageous\, thought-provoking\, and even a little romantic. \nPushed to the boiling point\, three female coworkers concoct a plan to get even with the sexist\, egotistical\, lying\, hypocritical bigot they call their boss.  In a hilarious turn of events\, Violet\, Judy\, and Doralee live out their wildest fantasy – giving their boss the boot!  While Hart remains “otherwise engaged\,” the women give their workplace a dream makeover\, taking control of the company that had always kept them down.  Hey\, a girl can scheme\, can’t she? \n9 to 5: The Musical is presented through special arrangement with and all authorized materials are supplied by Music Theatre International\, New York\, NY\, 212-541-4684\, mtishows.com. \nPERFORMANCE DATES AND TIMES:\nPerformances (11 total) May 1 to 10\, 2025:\n•       Friday\, May 1\, 2026 at 7:00 p.m.\n•       Saturday\, May 2\, 2026 at 2:00 p.m.\n•       Saturday\, May 2\, 2026 at 7:00 p.m.\n•       Sunday\, May 3\, 2026 at 2:00 p.m.\n•       Friday\, May 8\, 2026 at 7:00 p.m.\n•       Saturday\, May 9\, 2026 at 2:00 p.m.\n•       Saturday\, May 9\, 2026 at 7:00 p.m.\n•       Sunday\, May 10\, 2026 at 2:00 p.m. \nPRODUCTION INFORMATION:\nPlease note that all tickets are for rush seating. \nTheatre doors open 30 minutes before showtime. \n9 to 5: The Musical may not be appropriate for younger audiences as it contains some adult language and scenes that depict sexual harassment and adult situations. \nRun time is approximately 2.5 hours. \nTICKETS:\nhttps://swampdonkeytheatre.ca/9-to-5-the-musical-tickets/
URL:https://highcountrynews.ca/event/swap-donkey-presents-9-to-5-the-musical/2026-05-01/
LOCATION:Alberta
CATEGORIES:Arts & Entertainment,Bragg Creek
ATTACH;FMTTYPE=image/webp:https://highcountrynews.ca/wp-content/uploads/2025/08/Nine-to-Five-Poster-11-X-17.webp
ORGANIZER;CN="Swamp Donkey Musical Theatre":MAILTO:swampdonkeytheatre@gmail.com
END:VEVENT
END:VCALENDAR