BEGIN:VCALENDAR
VERSION:2.0
PRODID:-//High Country News - ECPv6.15.18//NONSGML v1.0//EN
CALSCALE:GREGORIAN
METHOD:PUBLISH
X-WR-CALNAME:High Country News
X-ORIGINAL-URL:https://highcountrynews.ca
X-WR-CALDESC:Events for High Country News
REFRESH-INTERVAL;VALUE=DURATION:PT1H
X-Robots-Tag:noindex
X-PUBLISHED-TTL:PT1H
BEGIN:VTIMEZONE
TZID:America/Edmonton
BEGIN:DAYLIGHT
TZOFFSETFROM:-0700
TZOFFSETTO:-0600
TZNAME:MDT
DTSTART:20240310T090000
END:DAYLIGHT
BEGIN:STANDARD
TZOFFSETFROM:-0600
TZOFFSETTO:-0700
TZNAME:MST
DTSTART:20241103T080000
END:STANDARD
BEGIN:DAYLIGHT
TZOFFSETFROM:-0700
TZOFFSETTO:-0600
TZNAME:MDT
DTSTART:20250309T090000
END:DAYLIGHT
BEGIN:STANDARD
TZOFFSETFROM:-0600
TZOFFSETTO:-0700
TZNAME:MST
DTSTART:20251102T080000
END:STANDARD
BEGIN:DAYLIGHT
TZOFFSETFROM:-0700
TZOFFSETTO:-0600
TZNAME:MDT
DTSTART:20260308T090000
END:DAYLIGHT
BEGIN:STANDARD
TZOFFSETFROM:-0600
TZOFFSETTO:-0700
TZNAME:MST
DTSTART:20261101T080000
END:STANDARD
END:VTIMEZONE
BEGIN:VEVENT
DTSTART;VALUE=DATE:20251201
DTEND;VALUE=DATE:20251202
DTSTAMP:20260425T064946
CREATED:20251103T222804Z
LAST-MODIFIED:20251103T222804Z
UID:10003325-1764547200-1764633599@highcountrynews.ca
SUMMARY:Hodgins Fine Art Auction
DESCRIPTION:With over twenty years on the road and fifteen albums to his name\, Nova Scotia’s Dave Gunning is one of Canada’s most respected folk singersongwriters. A multiple ECMA and Canadian Folk Music Award winner\, he’s celebrated for his warm stage presence\, sharp wit\, and songs that honour everyday heroes while speaking honestly about the world around us. Deeply rooted in Pictou County\, Gunning’s music tells the stories of working people\, small-town resilience\, and community pride. His live performances weave heartfelt storytelling with perfectly timed humour\, creating an intimate\, engaging experience that feels both genuine and profoundly human. \nHaving shared stages with legends like Ron Hynes\, Rita MacNeil\, and Matt Andersen\, Gunning continues to forge his own path\, grounded in craftsmanship and connection. His upcoming album\, Field Notes- recorded in Point Lonsdale\, Australia and set for release Feb. 20\, 2026- returns to the stripped-back\, emotionally rich songwriting that has long defined his work. \nJoin Dave for an evening of stories\, songs\, and songs of life lived fully\, as he celebrates the release of Field Notes with a performance that promises to be heartfelt\, moving\, and memorable. \nCatch Dave at the Snowbirds Lounge in Bragg Creek on April 11\, 2026. Tickets at www.braggcreekperformingarts.ca
URL:https://highcountrynews.ca/event/hodgins-fine-art-auction/
LOCATION:Alberta
CATEGORIES:Arts & Entertainment
ATTACH;FMTTYPE=image/webp:https://highcountrynews.ca/wp-content/uploads/2025/11/hodgins-and-halls-nov-dec-25-auctions.webp
END:VEVENT
BEGIN:VEVENT
DTSTART;TZID=America/Edmonton:20251205T190000
DTEND;TZID=America/Edmonton:20251205T190000
DTSTAMP:20260425T064946
CREATED:20251024T045452Z
LAST-MODIFIED:20251024T064026Z
UID:10003313-1764961200-1764961200@highcountrynews.ca
SUMMARY:The Boars Head
DESCRIPTION:Join Shakespeare’s most beloved drunken clown Falstaff as he tries to keep the favour of Prince Hal and his kinsmen in “The Boar’s Head”. \nThe team at The Shakespeare Company have woven together a collection of the bard’s best comic scenes set in a tavern\, and partnered with Eau Claire Distillery to create a fun and immersive theatre experience! \nFor 4 nights Only\, “The Boar’s Head” will take over the Speakeasy at Eau Claire Distillery in Turner Valley. \nCome early to enjoy some food and drink and then sit back with a cup of sack and enjoy the show. \nDoors open at 6pm – Bar and food service available \nShow starts at 7pm – approx 75 min \nSpeakeasy remains open until 10pm \nFriday November 28\, Saturday November 29\, Friday December 5 & Saturday December 6
URL:https://highcountrynews.ca/event/the-boars-head/2025-12-05/
LOCATION:Alberta
CATEGORIES:Arts & Entertainment,Diamond Valley
ATTACH;FMTTYPE=image/webp:https://highcountrynews.ca/wp-content/uploads/2025/10/Boars-Head-Poster-FINAL_20251019_105933_0000.webp
END:VEVENT
BEGIN:VEVENT
DTSTART;TZID=America/Edmonton:20251206T190000
DTEND;TZID=America/Edmonton:20251206T190000
DTSTAMP:20260425T064946
CREATED:20251024T045452Z
LAST-MODIFIED:20251024T064026Z
UID:10003314-1765047600-1765047600@highcountrynews.ca
SUMMARY:The Boars Head
DESCRIPTION:Join Shakespeare’s most beloved drunken clown Falstaff as he tries to keep the favour of Prince Hal and his kinsmen in “The Boar’s Head”. \nThe team at The Shakespeare Company have woven together a collection of the bard’s best comic scenes set in a tavern\, and partnered with Eau Claire Distillery to create a fun and immersive theatre experience! \nFor 4 nights Only\, “The Boar’s Head” will take over the Speakeasy at Eau Claire Distillery in Turner Valley. \nCome early to enjoy some food and drink and then sit back with a cup of sack and enjoy the show. \nDoors open at 6pm – Bar and food service available \nShow starts at 7pm – approx 75 min \nSpeakeasy remains open until 10pm \nFriday November 28\, Saturday November 29\, Friday December 5 & Saturday December 6
URL:https://highcountrynews.ca/event/the-boars-head/2025-12-06/
LOCATION:Alberta
CATEGORIES:Arts & Entertainment,Diamond Valley
ATTACH;FMTTYPE=image/webp:https://highcountrynews.ca/wp-content/uploads/2025/10/Boars-Head-Poster-FINAL_20251019_105933_0000.webp
END:VEVENT
BEGIN:VEVENT
DTSTART;TZID=America/Edmonton:20251207T173000
DTEND;TZID=America/Edmonton:20251207T173000
DTSTAMP:20260425T064946
CREATED:20251103T223611Z
LAST-MODIFIED:20251103T223611Z
UID:10003327-1765128600-1765128600@highcountrynews.ca
SUMMARY:Square Butte Christmas Concert
DESCRIPTION:Planning has begun for Square Butte’s Christmas Concert! We are looking for talented people to take part. If you or someone you know would love to share your gift\, please reach out! Talents can include: pianists\, singers\, storytellers\, musicians\, dancers\, family skits or plays. A huge part of our concert is a basket raffle to support a local family in need. If you would like to donate an item for our raffle baskets\, please contact Kristen Coles at (403-874-1943) Come for some festive fun. Christmas carols\, cookies and hot chocolate. PLEASE BRING YOUR FAVOURITE HOLIDAY APPETIZER FOR EVERYONE TO SHARE AND ONE SMALL GIFT PER CHILD TO PUT IN SANTA’S SACK. (FREE BEVERAGES WILL BE PROVIDED)
URL:https://highcountrynews.ca/event/square-butte-christmas-concert/
LOCATION:Alberta
CATEGORIES:Arts & Entertainment
END:VEVENT
BEGIN:VEVENT
DTSTART;VALUE=DATE:20251208
DTEND;VALUE=DATE:20251209
DTSTAMP:20260425T064946
CREATED:20251103T222855Z
LAST-MODIFIED:20251103T222855Z
UID:10003326-1765152000-1765238399@highcountrynews.ca
SUMMARY:Wine & Spirits Auction
DESCRIPTION:With over twenty years on the road and fifteen albums to his name\, Nova Scotia’s Dave Gunning is one of Canada’s most respected folk singersongwriters. A multiple ECMA and Canadian Folk Music Award winner\, he’s celebrated for his warm stage presence\, sharp wit\, and songs that honour everyday heroes while speaking honestly about the world around us. Deeply rooted in Pictou County\, Gunning’s music tells the stories of working people\, small-town resilience\, and community pride. His live performances weave heartfelt storytelling with perfectly timed humour\, creating an intimate\, engaging experience that feels both genuine and profoundly human. \nHaving shared stages with legends like Ron Hynes\, Rita MacNeil\, and Matt Andersen\, Gunning continues to forge his own path\, grounded in craftsmanship and connection. His upcoming album\, Field Notes- recorded in Point Lonsdale\, Australia and set for release Feb. 20\, 2026- returns to the stripped-back\, emotionally rich songwriting that has long defined his work. \nJoin Dave for an evening of stories\, songs\, and songs of life lived fully\, as he celebrates the release of Field Notes with a performance that promises to be heartfelt\, moving\, and memorable. \nCatch Dave at the Snowbirds Lounge in Bragg Creek on April 11\, 2026. Tickets at www.braggcreekperformingarts.ca
URL:https://highcountrynews.ca/event/wine-spirits-auction-2/
LOCATION:Alberta
CATEGORIES:Arts & Entertainment
ATTACH;FMTTYPE=image/webp:https://highcountrynews.ca/wp-content/uploads/2025/11/hodgins-and-halls-nov-dec-25-auctions.webp
END:VEVENT
BEGIN:VEVENT
DTSTART;TZID=America/Edmonton:20251214T140000
DTEND;TZID=America/Edmonton:20251214T140000
DTSTAMP:20260425T064946
CREATED:20251202T075039Z
LAST-MODIFIED:20251202T075204Z
UID:10003332-1765720800-1765720800@highcountrynews.ca
SUMMARY:The Diamond Valley Singers 2025 Holiday Concert
DESCRIPTION:The Diamond Valley Singers Present Their 2025 Holiday Concert\nSunday\, December 14\, at 2:00 p.m. at the Sheep River Library\nHosted by Doris Daley with special guests The Christmas Belles\nAdmission is free; donations are gratefully accepted. Light refreshments will follow.
URL:https://highcountrynews.ca/event/the-diamond-valley-singers-present-their-2025-holiday-concert/
LOCATION:Sheep River Library\, 129 Main Street NW\, Turner Valley\, Alberta\, T0L 2A0\, Canada
CATEGORIES:Arts & Entertainment,Diamond Valley
ATTACH;FMTTYPE=image/jpeg:https://highcountrynews.ca/wp-content/uploads/2025/12/The-Diamond-Valley-Singers-Present-Their-2025-Holiday-Concert.jpg
GEO:50.6750101;-114.2786495
X-APPLE-STRUCTURED-LOCATION;VALUE=URI;X-ADDRESS=Sheep River Library 129 Main Street NW Turner Valley Alberta T0L 2A0 Canada;X-APPLE-RADIUS=500;X-TITLE=129 Main Street NW:geo:-114.2786495,50.6750101
END:VEVENT
BEGIN:VEVENT
DTSTART;TZID=America/Edmonton:20251218T190000
DTEND;TZID=America/Edmonton:20251218T190000
DTSTAMP:20260425T064946
CREATED:20250805T064538Z
LAST-MODIFIED:20251024T060024Z
UID:10002986-1766084400-1766084400@highcountrynews.ca
SUMMARY:Swap Donkey Presents: Nuncrackers Holiday Musical
DESCRIPTION:Nuncrackers – December 18-21\, 2024: \nThe Christmas musical\, Nuncrackers\, was a hit last season!  Audiences loved it so much we are bringing it back to our theatre this holiday season. \nIt stars the nuns you love\, plus Father Virgil and Mount Saint Helen’s most talented students\, in the first TV special taped in the Cable Access Studio built by Reverend Mother in the convent basement.   This show is filled with wacky Nunsense humour!  Certain to tickle your funny bone and likely to tug at your heartstrings\, Nuncrackers is the perfect way to make your holiday season merry and bright (synopsis from concordtheatricals.com). \nNuncrackers runs December 18-21\, 2025.Tickets for Nuncrackers and all our musical theatre productions are available on our website at www.swampdonkeytheatre.ca. \nGroup Tickets: \nAre you interested in bringing a group to one of our performances?  Please contact us at swampdonkeytheatre@gmail.com about discounted group ticket pricing.  We can arrange alternate dates for your group if the performance dates currently offered don’t work for you. \nRestaurant and Retail Partners: \nWhy not spend the day in Bragg Creek?  We have partnered with eleven local restaurants\, the Bragg Creek Distillers\, and a number of local retail shops.  Our partners offer discounts on meals and beverages on performance dates when you present your Swamp Donkey performance ticket.  A complete list of our partners and their offers is available on our website.  We look forward to seeing you at the theatre!
URL:https://highcountrynews.ca/event/swap-donkey-presents-nuncrackers-holiday-musical/2025-12-18/
LOCATION:Alberta
CATEGORIES:Arts & Entertainment,Bragg Creek
ATTACH;FMTTYPE=image/webp:https://highcountrynews.ca/wp-content/uploads/2025/08/Nuncrackers-2025-Poster-11-X-17.webp
ORGANIZER;CN="Swamp Donkey Musical Theatre":MAILTO:swampdonkeytheatre@gmail.com
END:VEVENT
BEGIN:VEVENT
DTSTART;TZID=America/Edmonton:20251219T190000
DTEND;TZID=America/Edmonton:20251219T190000
DTSTAMP:20260425T064946
CREATED:20250805T064538Z
LAST-MODIFIED:20251024T060024Z
UID:10002987-1766170800-1766170800@highcountrynews.ca
SUMMARY:Swap Donkey Presents: Nuncrackers Holiday Musical
DESCRIPTION:Nuncrackers – December 18-21\, 2024: \nThe Christmas musical\, Nuncrackers\, was a hit last season!  Audiences loved it so much we are bringing it back to our theatre this holiday season. \nIt stars the nuns you love\, plus Father Virgil and Mount Saint Helen’s most talented students\, in the first TV special taped in the Cable Access Studio built by Reverend Mother in the convent basement.   This show is filled with wacky Nunsense humour!  Certain to tickle your funny bone and likely to tug at your heartstrings\, Nuncrackers is the perfect way to make your holiday season merry and bright (synopsis from concordtheatricals.com). \nNuncrackers runs December 18-21\, 2025.Tickets for Nuncrackers and all our musical theatre productions are available on our website at www.swampdonkeytheatre.ca. \nGroup Tickets: \nAre you interested in bringing a group to one of our performances?  Please contact us at swampdonkeytheatre@gmail.com about discounted group ticket pricing.  We can arrange alternate dates for your group if the performance dates currently offered don’t work for you. \nRestaurant and Retail Partners: \nWhy not spend the day in Bragg Creek?  We have partnered with eleven local restaurants\, the Bragg Creek Distillers\, and a number of local retail shops.  Our partners offer discounts on meals and beverages on performance dates when you present your Swamp Donkey performance ticket.  A complete list of our partners and their offers is available on our website.  We look forward to seeing you at the theatre!
URL:https://highcountrynews.ca/event/swap-donkey-presents-nuncrackers-holiday-musical/2025-12-19/
LOCATION:Alberta
CATEGORIES:Arts & Entertainment,Bragg Creek
ATTACH;FMTTYPE=image/webp:https://highcountrynews.ca/wp-content/uploads/2025/08/Nuncrackers-2025-Poster-11-X-17.webp
ORGANIZER;CN="Swamp Donkey Musical Theatre":MAILTO:swampdonkeytheatre@gmail.com
END:VEVENT
BEGIN:VEVENT
DTSTART;TZID=America/Edmonton:20251220T140000
DTEND;TZID=America/Edmonton:20251220T140000
DTSTAMP:20260425T064946
CREATED:20250805T064538Z
LAST-MODIFIED:20251024T060024Z
UID:10002988-1766239200-1766239200@highcountrynews.ca
SUMMARY:Swap Donkey Presents: Nuncrackers Holiday Musical
DESCRIPTION:Nuncrackers – December 18-21\, 2024: \nThe Christmas musical\, Nuncrackers\, was a hit last season!  Audiences loved it so much we are bringing it back to our theatre this holiday season. \nIt stars the nuns you love\, plus Father Virgil and Mount Saint Helen’s most talented students\, in the first TV special taped in the Cable Access Studio built by Reverend Mother in the convent basement.   This show is filled with wacky Nunsense humour!  Certain to tickle your funny bone and likely to tug at your heartstrings\, Nuncrackers is the perfect way to make your holiday season merry and bright (synopsis from concordtheatricals.com). \nNuncrackers runs December 18-21\, 2025.Tickets for Nuncrackers and all our musical theatre productions are available on our website at www.swampdonkeytheatre.ca. \nGroup Tickets: \nAre you interested in bringing a group to one of our performances?  Please contact us at swampdonkeytheatre@gmail.com about discounted group ticket pricing.  We can arrange alternate dates for your group if the performance dates currently offered don’t work for you. \nRestaurant and Retail Partners: \nWhy not spend the day in Bragg Creek?  We have partnered with eleven local restaurants\, the Bragg Creek Distillers\, and a number of local retail shops.  Our partners offer discounts on meals and beverages on performance dates when you present your Swamp Donkey performance ticket.  A complete list of our partners and their offers is available on our website.  We look forward to seeing you at the theatre!
URL:https://highcountrynews.ca/event/swap-donkey-presents-nuncrackers-holiday-musical/2025-12-20/1/
LOCATION:Alberta
CATEGORIES:Arts & Entertainment,Bragg Creek
ATTACH;FMTTYPE=image/webp:https://highcountrynews.ca/wp-content/uploads/2025/08/Nuncrackers-2025-Poster-11-X-17.webp
ORGANIZER;CN="Swamp Donkey Musical Theatre":MAILTO:swampdonkeytheatre@gmail.com
END:VEVENT
BEGIN:VEVENT
DTSTART;TZID=America/Edmonton:20251220T190000
DTEND;TZID=America/Edmonton:20251220T190000
DTSTAMP:20260425T064946
CREATED:20250805T064538Z
LAST-MODIFIED:20251024T060024Z
UID:10002989-1766257200-1766257200@highcountrynews.ca
SUMMARY:Swap Donkey Presents: Nuncrackers Holiday Musical
DESCRIPTION:Nuncrackers – December 18-21\, 2024: \nThe Christmas musical\, Nuncrackers\, was a hit last season!  Audiences loved it so much we are bringing it back to our theatre this holiday season. \nIt stars the nuns you love\, plus Father Virgil and Mount Saint Helen’s most talented students\, in the first TV special taped in the Cable Access Studio built by Reverend Mother in the convent basement.   This show is filled with wacky Nunsense humour!  Certain to tickle your funny bone and likely to tug at your heartstrings\, Nuncrackers is the perfect way to make your holiday season merry and bright (synopsis from concordtheatricals.com). \nNuncrackers runs December 18-21\, 2025.Tickets for Nuncrackers and all our musical theatre productions are available on our website at www.swampdonkeytheatre.ca. \nGroup Tickets: \nAre you interested in bringing a group to one of our performances?  Please contact us at swampdonkeytheatre@gmail.com about discounted group ticket pricing.  We can arrange alternate dates for your group if the performance dates currently offered don’t work for you. \nRestaurant and Retail Partners: \nWhy not spend the day in Bragg Creek?  We have partnered with eleven local restaurants\, the Bragg Creek Distillers\, and a number of local retail shops.  Our partners offer discounts on meals and beverages on performance dates when you present your Swamp Donkey performance ticket.  A complete list of our partners and their offers is available on our website.  We look forward to seeing you at the theatre!
URL:https://highcountrynews.ca/event/swap-donkey-presents-nuncrackers-holiday-musical/2025-12-20/2/
LOCATION:Alberta
CATEGORIES:Arts & Entertainment,Bragg Creek
ATTACH;FMTTYPE=image/webp:https://highcountrynews.ca/wp-content/uploads/2025/08/Nuncrackers-2025-Poster-11-X-17.webp
ORGANIZER;CN="Swamp Donkey Musical Theatre":MAILTO:swampdonkeytheatre@gmail.com
END:VEVENT
BEGIN:VEVENT
DTSTART;TZID=America/Edmonton:20251221T140000
DTEND;TZID=America/Edmonton:20251221T140000
DTSTAMP:20260425T064946
CREATED:20250805T064538Z
LAST-MODIFIED:20251024T060024Z
UID:10002990-1766325600-1766325600@highcountrynews.ca
SUMMARY:Swap Donkey Presents: Nuncrackers Holiday Musical
DESCRIPTION:Nuncrackers – December 18-21\, 2024: \nThe Christmas musical\, Nuncrackers\, was a hit last season!  Audiences loved it so much we are bringing it back to our theatre this holiday season. \nIt stars the nuns you love\, plus Father Virgil and Mount Saint Helen’s most talented students\, in the first TV special taped in the Cable Access Studio built by Reverend Mother in the convent basement.   This show is filled with wacky Nunsense humour!  Certain to tickle your funny bone and likely to tug at your heartstrings\, Nuncrackers is the perfect way to make your holiday season merry and bright (synopsis from concordtheatricals.com). \nNuncrackers runs December 18-21\, 2025.Tickets for Nuncrackers and all our musical theatre productions are available on our website at www.swampdonkeytheatre.ca. \nGroup Tickets: \nAre you interested in bringing a group to one of our performances?  Please contact us at swampdonkeytheatre@gmail.com about discounted group ticket pricing.  We can arrange alternate dates for your group if the performance dates currently offered don’t work for you. \nRestaurant and Retail Partners: \nWhy not spend the day in Bragg Creek?  We have partnered with eleven local restaurants\, the Bragg Creek Distillers\, and a number of local retail shops.  Our partners offer discounts on meals and beverages on performance dates when you present your Swamp Donkey performance ticket.  A complete list of our partners and their offers is available on our website.  We look forward to seeing you at the theatre!
URL:https://highcountrynews.ca/event/swap-donkey-presents-nuncrackers-holiday-musical/2025-12-21/
LOCATION:Alberta
CATEGORIES:Arts & Entertainment,Bragg Creek
ATTACH;FMTTYPE=image/webp:https://highcountrynews.ca/wp-content/uploads/2025/08/Nuncrackers-2025-Poster-11-X-17.webp
ORGANIZER;CN="Swamp Donkey Musical Theatre":MAILTO:swampdonkeytheatre@gmail.com
END:VEVENT
END:VCALENDAR