BEGIN:VCALENDAR
VERSION:2.0
PRODID:-//High Country News - ECPv6.15.18//NONSGML v1.0//EN
CALSCALE:GREGORIAN
METHOD:PUBLISH
X-WR-CALNAME:High Country News
X-ORIGINAL-URL:https://highcountrynews.ca
X-WR-CALDESC:Events for High Country News
REFRESH-INTERVAL;VALUE=DURATION:PT1H
X-Robots-Tag:noindex
X-PUBLISHED-TTL:PT1H
BEGIN:VTIMEZONE
TZID:America/Edmonton
BEGIN:DAYLIGHT
TZOFFSETFROM:-0700
TZOFFSETTO:-0600
TZNAME:MDT
DTSTART:20250309T090000
END:DAYLIGHT
BEGIN:STANDARD
TZOFFSETFROM:-0600
TZOFFSETTO:-0700
TZNAME:MST
DTSTART:20251102T080000
END:STANDARD
BEGIN:DAYLIGHT
TZOFFSETFROM:-0700
TZOFFSETTO:-0600
TZNAME:MDT
DTSTART:20260308T090000
END:DAYLIGHT
BEGIN:STANDARD
TZOFFSETFROM:-0600
TZOFFSETTO:-0700
TZNAME:MST
DTSTART:20261101T080000
END:STANDARD
BEGIN:DAYLIGHT
TZOFFSETFROM:-0700
TZOFFSETTO:-0600
TZNAME:MDT
DTSTART:20270314T090000
END:DAYLIGHT
BEGIN:STANDARD
TZOFFSETFROM:-0600
TZOFFSETTO:-0700
TZNAME:MST
DTSTART:20271107T080000
END:STANDARD
END:VTIMEZONE
BEGIN:VEVENT
DTSTART;TZID=America/Edmonton:20260502T100000
DTEND;TZID=America/Edmonton:20260502T160000
DTSTAMP:20260424T120945
CREATED:20260316T173503Z
LAST-MODIFIED:20260316T174108Z
UID:10003593-1777716000-1777737600@highcountrynews.ca
SUMMARY:Bragg Creek Wild Fair
DESCRIPTION:The Bragg Creek Wild Fair is an exciting one-day community event bringing together people who care about nature and wild places. Families\, businesses\, artists\, and environmental advocates are invited to connect\, learn\, and be inspired. Highlights include a keynote talk by Kevin Van Tighem\, engaging workshops for all ages\, and the vibrant Wild Market Place\, celebrating the wild landscapes that make our community so special. For details and to register for workshops\, visit www.braggcreekwild.ca. To participate in the Wild Fair\, please email braggcreekwild@gmail.com.
URL:https://highcountrynews.ca/event/bragg-creek-wild-fair/
LOCATION:Bragg Creek Community Centre\, 23 White Avenue\, Bragg Creek\, Alberta\, T0L 0K0\, Canada
CATEGORIES:Bragg Creek
ATTACH;FMTTYPE=image/webp:https://highcountrynews.ca/wp-content/uploads/2026/03/Wild-Fair-Poster-final.jpg.webp
GEO:50.949917;-114.5636967
X-APPLE-STRUCTURED-LOCATION;VALUE=URI;X-ADDRESS=Bragg Creek Community Centre 23 White Avenue Bragg Creek Alberta T0L 0K0 Canada;X-APPLE-RADIUS=500;X-TITLE=23 White Avenue:geo:-114.5636967,50.949917
END:VEVENT
BEGIN:VEVENT
DTSTART;TZID=America/Edmonton:20260502T100000
DTEND;TZID=America/Edmonton:20260503T160000
DTSTAMP:20260424T120945
CREATED:20260407T031531Z
LAST-MODIFIED:20260407T031531Z
UID:10003602-1777716000-1777824000@highcountrynews.ca
SUMMARY:The 2026 Cochrane Trade Show
DESCRIPTION:Diamond Valley Singers Spring Concert\nSun\, April 12 | 2 PM | Sheep River Library\nEnjoy a lively afternoon of favourites\, classics\, and Canadian folk songs. Free admission\, donations welcome.
URL:https://highcountrynews.ca/event/the-2026-cochrane-trade-show/
LOCATION:SLS Sports Centre\, 800 Griffin Road East\, Cochrane\, Alberta\, T4C 2B8\, Canada
CATEGORIES:Cochrane
ATTACH;FMTTYPE=image/webp:https://highcountrynews.ca/wp-content/uploads/2026/04/2026-cochrane-trade-show.webp
ORGANIZER;CN="Cochrane & District Chamber of Commerce":MAILTO:info@cochranechamber.ca
END:VEVENT
BEGIN:VEVENT
DTSTART;TZID=America/Edmonton:20260502T143000
DTEND;TZID=America/Edmonton:20260502T170000
DTSTAMP:20260424T120945
CREATED:20260406T050216Z
LAST-MODIFIED:20260406T055559Z
UID:10003595-1777732200-1777741200@highcountrynews.ca
SUMMARY:Calgary Bike Swap 2026
DESCRIPTION:Diamond Valley Singers Spring Concert\nSun\, April 12 | 2 PM | Sheep River Library\nEnjoy a lively afternoon of favourites\, classics\, and Canadian folk songs. Free admission\, donations welcome.
URL:https://highcountrynews.ca/event/calgary-bike-swap-2026/
LOCATION:Alberta
CATEGORIES:General
ATTACH;FMTTYPE=image/webp:https://highcountrynews.ca/wp-content/uploads/2026/04/Calgary-Bike-Swap.webp
END:VEVENT
END:VCALENDAR